BEGIN:VCALENDAR
VERSION:2.0
PRODID:-//Shakedown Bar - ECPv6.15.14//NONSGML v1.0//EN
CALSCALE:GREGORIAN
METHOD:PUBLISH
X-ORIGINAL-URL:https://shakedownbarvail.com
X-WR-CALDESC:Events for Shakedown Bar
REFRESH-INTERVAL;VALUE=DURATION:PT1H
X-Robots-Tag:noindex
X-PUBLISHED-TTL:PT1H
BEGIN:VTIMEZONE
TZID:America/Denver
BEGIN:DAYLIGHT
TZOFFSETFROM:-0700
TZOFFSETTO:-0600
TZNAME:MDT
DTSTART:20200308T090000
END:DAYLIGHT
BEGIN:STANDARD
TZOFFSETFROM:-0600
TZOFFSETTO:-0700
TZNAME:MST
DTSTART:20201101T080000
END:STANDARD
BEGIN:DAYLIGHT
TZOFFSETFROM:-0700
TZOFFSETTO:-0600
TZNAME:MDT
DTSTART:20210314T090000
END:DAYLIGHT
BEGIN:STANDARD
TZOFFSETFROM:-0600
TZOFFSETTO:-0700
TZNAME:MST
DTSTART:20211107T080000
END:STANDARD
BEGIN:DAYLIGHT
TZOFFSETFROM:-0700
TZOFFSETTO:-0600
TZNAME:MDT
DTSTART:20220313T090000
END:DAYLIGHT
BEGIN:STANDARD
TZOFFSETFROM:-0600
TZOFFSETTO:-0700
TZNAME:MST
DTSTART:20221106T080000
END:STANDARD
END:VTIMEZONE
BEGIN:VEVENT
DTSTART;TZID=America/Denver:20210609T140000
DTEND;TZID=America/Denver:20210609T190000
DTSTAMP:20260419T094357
CREATED:20210604T052500Z
LAST-MODIFIED:20210609T062317Z
UID:4731-1623247200-1623265200@shakedownbarvail.com
SUMMARY:Pop-Up Street Music: Eric Krasno & The Assembly
DESCRIPTION:Free music in Lionshead Village featuring Eric Krasno & The Assembly \nBrought to you by Shakedown Presents\, MAPS Music and Town of Vail.
URL:https://shakedownbarvail.com/event/pop-up-street-music-eric-krasno/
LOCATION:Lionshead\, Vail
END:VEVENT
BEGIN:VEVENT
DTSTART;VALUE=DATE:20210610
DTEND;VALUE=DATE:20210612
DTSTAMP:20260419T094357
CREATED:20210610T054035Z
LAST-MODIFIED:20210610T054109Z
UID:4828-1623294000-1623380399@shakedownbarvail.com
SUMMARY:Shakedown Bar is CLOSED for a private party
DESCRIPTION:Sorry\, but Shakedown Bar is not open to the public on this night.
URL:https://shakedownbarvail.com/event/closed-for-private-party/
END:VEVENT
BEGIN:VEVENT
DTSTART;TZID=America/Denver:20210611T210000
DTEND;TZID=America/Denver:20210611T210000
DTSTAMP:20260419T094357
CREATED:20210610T055102Z
LAST-MODIFIED:20210611T064050Z
UID:4835-1623445200-1623445200@shakedownbarvail.com
SUMMARY:Mark Levy & Friends @ Shakedown Bar
DESCRIPTION:Featuring Mark Levy & Friends with Aaron Johnston\, Rob Eaton\, Jr.\, Garrett Sayers & Joey Porter. A night not to be missed! Doors at 9pm – limited capacity for everyone’s enjoyment!
URL:https://shakedownbarvail.com/event/mark-levy-friends/
LOCATION:Shakedown Bar Vail\, 304 Bridge Street\, Vail\, CO\, 81657\, United States
END:VEVENT
BEGIN:VEVENT
DTSTART;VALUE=DATE:20210612
DTEND;VALUE=DATE:20210614
DTSTAMP:20260419T094357
CREATED:20210610T054224Z
LAST-MODIFIED:20210610T054224Z
UID:4831-1623466800-1623553199@shakedownbarvail.com
SUMMARY:Shakedown Bar is CLOSED for a private party.
DESCRIPTION:Sorry\, but Shakedown Bar is not open to the public on this night.
URL:https://shakedownbarvail.com/event/shakedown-bar-is-closed-for-a-private-party/
END:VEVENT
BEGIN:VEVENT
DTSTART;TZID=America/Denver:20210612T130000
DTEND;TZID=America/Denver:20210612T180000
DTSTAMP:20260419T094357
CREATED:20210604T052809Z
LAST-MODIFIED:20210604T053849Z
UID:4733-1623502800-1623520800@shakedownbarvail.com
SUMMARY:Pop-Up Street Music: GoPro Mountain Games
DESCRIPTION:Free music in Solaris as part of the GoPro Mountain Games featuring Scott Rednor with Aaron Johnston\, Garrett Sayers\, Joey Porter and Michael Jude. \nBrought to you by Shakedown Presents\, MAPS Music and Vail Valley Foundation.
URL:https://shakedownbarvail.com/event/pop-up-street-music-gopro-mountain-games/
LOCATION:Solaris Plaza\, Vail
END:VEVENT
BEGIN:VEVENT
DTSTART;VALUE=DATE:20210613
DTEND;VALUE=DATE:20210615
DTSTAMP:20260419T094357
CREATED:20210610T054339Z
LAST-MODIFIED:20210610T054339Z
UID:4833-1623553200-1623639599@shakedownbarvail.com
SUMMARY:Shakedown is CLOSED for a private party
DESCRIPTION:Sorry\, but Shakedown Bar is not open to the public this night.
URL:https://shakedownbarvail.com/event/shakedown-is-closed-for-a-private-party/
END:VEVENT
BEGIN:VEVENT
DTSTART;TZID=America/Denver:20210618T210000
DTEND;TZID=America/Denver:20210618T235900
DTSTAMP:20260419T094357
CREATED:20210617T022650Z
LAST-MODIFIED:20210617T022650Z
UID:4853-1624050000-1624060740@shakedownbarvail.com
SUMMARY:Taylor Frederick Band @ Shakedown
DESCRIPTION:Taylor Frederick Band featuring Zach Jackson\, Tyler Adams and Rob Eaton\, Jr. \nDoors open at 9pm – music starts at 9:30pm. $30 at the door and audience numbers are limited for the enjoyment of all who love live music!
URL:https://shakedownbarvail.com/event/taylor-frederick-band-shakedown-2/
END:VEVENT
BEGIN:VEVENT
DTSTART;TZID=America/Denver:20210619T210000
DTEND;TZID=America/Denver:20210619T235900
DTSTAMP:20260419T094357
CREATED:20210617T024303Z
LAST-MODIFIED:20210617T024303Z
UID:4855-1624136400-1624147140@shakedownbarvail.com
SUMMARY:Scott Rednor Band @ Shakedown
DESCRIPTION:Scott Rednor Band featuring Mark Levy\, Adam MacDougall and Kramer Kelling. \nDoors open at 9pm – music starts at 9:30pm. $40 at the door and audience numbers are limited for the enjoyment of all who love live music!
URL:https://shakedownbarvail.com/event/scott-rednor-band-shakedown/
CATEGORIES:Evening Show,Ticket Event
END:VEVENT
BEGIN:VEVENT
DTSTART;TZID=America/Denver:20210620T153000
DTEND;TZID=America/Denver:20210620T200000
DTSTAMP:20260419T094357
CREATED:20210604T053330Z
LAST-MODIFIED:20210604T053826Z
UID:4735-1624203000-1624219200@shakedownbarvail.com
SUMMARY:Pop-Up Street Music: Scott Rednor & Friends
DESCRIPTION:Free music in Vail Village featuring Scott Rednor with Mark Levy\, Adam MacDougall and Todd Smallie. \nBrought to you by Shakedown Presents\, MAPS Music and Town of Vail.
URL:https://shakedownbarvail.com/event/pop-up-street-music-scott-rednor-friends/
LOCATION:Children’s Fountain\, Vail
END:VEVENT
BEGIN:VEVENT
DTSTART;TZID=America/Denver:20210623T140000
DTEND;TZID=America/Denver:20210623T190000
DTSTAMP:20260419T094357
CREATED:20210604T053613Z
LAST-MODIFIED:20210622T220133Z
UID:4737-1624456800-1624474800@shakedownbarvail.com
SUMMARY:Pop-Up Street Music: Nicki Bluhm\, Scott Law\, Ross James\, Todd Smallie\, Mark Levy & Adam MacDougall
DESCRIPTION:Free music in Solaris Plaza featuring Nicki Bluhm\, Scott Law\, Ross James\, Todd Smallie\, Mark Levy and Adam MacDougall. \nBrought to you by Shakedown Presents\, MAPS Music and Town of Vail.
URL:https://shakedownbarvail.com/event/pop-up-street-music-nicki-bluhm/
LOCATION:Solaris Plaza\, Vail
END:VEVENT
BEGIN:VEVENT
DTSTART;TZID=America/Denver:20210624T140000
DTEND;TZID=America/Denver:20210624T190000
DTSTAMP:20260419T094357
CREATED:20210604T054220Z
LAST-MODIFIED:20210604T054343Z
UID:4743-1624543200-1624561200@shakedownbarvail.com
SUMMARY:Pop-Up Street Music: Brothers Keeper
DESCRIPTION:Free music in Lionshead Village featuring Brothers Keeper with Scott Rednor\, John Michel and Michael Jude. \nBrought to you by Shakedown Presents\, MAPS Music and Town of Vail.
URL:https://shakedownbarvail.com/event/pop-up-street-music-brothers-keeper-5/
LOCATION:Lionshead\, Vail
END:VEVENT
BEGIN:VEVENT
DTSTART;TZID=America/Denver:20210624T210000
DTEND;TZID=America/Denver:20210624T235900
DTSTAMP:20260419T094357
CREATED:20210622T043747Z
LAST-MODIFIED:20210622T045807Z
UID:4862-1624568400-1624579140@shakedownbarvail.com
SUMMARY:Live From Shakedown: Brothers Keeper feat. Bill McKay
DESCRIPTION:Brothers Keeper featuring Scott Rednor\, Michael Jude\, John Michel\, Rob Eaton\, Jr. and Bill McKay. Doors @ 9pm | Music @ 9:30pm. $20
URL:https://shakedownbarvail.com/event/live-from-shakedown-brothers-keeper-feat-bill-mckay/
END:VEVENT
BEGIN:VEVENT
DTSTART;VALUE=DATE:20210625
DTEND;VALUE=DATE:20210627
DTSTAMP:20260419T094357
CREATED:20210604T055004Z
LAST-MODIFIED:20210604T055004Z
UID:4745-1624590000-1624676399@shakedownbarvail.com
SUMMARY:Vail Craft Beer Classic: Brothers Keeper with Special Guest Brendan McKinney
DESCRIPTION:Featuring Brothers Keeper with Scott Rednor\, John Michel\, Michael Jude and Special Guest Brendan McKinney as part of the Vail Craft Beer Classic. \nBrought to you by Shakedown Presents and MAPS Music.
URL:https://shakedownbarvail.com/event/vail-craft-beer-classic-brothers-keeper-with-special-guest-brendan-mckinney/
LOCATION:Betty Ford Alpine Gardens\, Vail\, CO\, United States
END:VEVENT
BEGIN:VEVENT
DTSTART;TZID=America/Denver:20210625T210000
DTEND;TZID=America/Denver:20210625T235900
DTSTAMP:20260419T094357
CREATED:20210622T044441Z
LAST-MODIFIED:20210625T182216Z
UID:4866-1624654800-1624665540@shakedownbarvail.com
SUMMARY:Live From Shakedown: Brothers Keeper
DESCRIPTION:Brothers Keeper featuring Scott Rednor\, Michael Jude\, John Michel and Rob Eaton\, Jr.. Doors @ 9pm | Music @ 9:30pm. $20
URL:https://shakedownbarvail.com/event/live-from-shakedown-brothers-keeper/
END:VEVENT
BEGIN:VEVENT
DTSTART;TZID=America/Denver:20210626T140000
DTEND;TZID=America/Denver:20210626T190000
DTSTAMP:20260419T094357
CREATED:20210604T055314Z
LAST-MODIFIED:20210604T055314Z
UID:4748-1624716000-1624734000@shakedownbarvail.com
SUMMARY:Pop-Up Street Music: Brothers Keeper
DESCRIPTION:Free music in Lionshead Village featuring Brothers Keeper with Scott Rednor\, John Michel and Michael Jude. \nBrought to you by Shakedown Presents\, MAPS Music and Town of Vail.
URL:https://shakedownbarvail.com/event/pop-up-street-music-brothers-keeper-6/
LOCATION:Lionshead\, Vail
END:VEVENT
BEGIN:VEVENT
DTSTART;TZID=America/Denver:20210626T210000
DTEND;TZID=America/Denver:20210626T235000
DTSTAMP:20260419T094357
CREATED:20210622T045323Z
LAST-MODIFIED:20210625T182505Z
UID:4869-1624741200-1624751400@shakedownbarvail.com
SUMMARY:Live From Shakedown: Kory Montgomery Band w/Robby Peoples
DESCRIPTION:Kory Montgomery Band featuring Robby Peoples. Doors @ 9pm | Music @ 9:30pm. $20
URL:https://shakedownbarvail.com/event/live-from-shakedown-kory-montgomery-band-w-robby-peoples/
END:VEVENT
BEGIN:VEVENT
DTSTART;TZID=America/Denver:20210627T140000
DTEND;TZID=America/Denver:20210627T190000
DTSTAMP:20260419T094357
CREATED:20210604T055727Z
LAST-MODIFIED:20210604T055727Z
UID:4750-1624802400-1624820400@shakedownbarvail.com
SUMMARY:Pop-Up Street Music: Robby Peoples & The People
DESCRIPTION:Free music in Lionshead Village featuring Robby Peoples & The People. \nBrought to you by Shakedown Presents\, MAPS Music and Town of Vail.
URL:https://shakedownbarvail.com/event/pop-up-street-music-robby-peoples-the-people/
LOCATION:Lionshead\, Vail
END:VEVENT
BEGIN:VEVENT
DTSTART;TZID=America/Denver:20210628T200000
DTEND;TZID=America/Denver:20210628T230000
DTSTAMP:20260419T094357
CREATED:20210617T005600Z
LAST-MODIFIED:20210622T043902Z
UID:4842-1624910400-1624921200@shakedownbarvail.com
SUMMARY:Live from Shakedown: Eric "Benny" Bloom & The Vail Connection feat. Members of The Motet
DESCRIPTION:Eric “Benny” Bloom (Lettuce) leads The Vail Connection featuring members of The Motet and Circles Around the Sun. Tickets are available online for $20 ($25 at the door). This concert has limited capacity\, so advanced tickets are encouraged! \nGET EVENTBRITE TIXS HERE.
URL:https://shakedownbarvail.com/event/eric-benny-bloom-the-vail-connection-feat-members-of-the-motet/
LOCATION:Shakedown Bar Vail\, 304 Bridge Street\, Vail\, CO\, 81657\, United States
CATEGORIES:Evening Show,Ticket Event
END:VEVENT
END:VCALENDAR