BEGIN:VCALENDAR
VERSION:2.0
PRODID:-//Shakedown Bar - ECPv6.15.14//NONSGML v1.0//EN
CALSCALE:GREGORIAN
METHOD:PUBLISH
X-WR-CALNAME:Shakedown Bar
X-ORIGINAL-URL:https://shakedownbarvail.com
X-WR-CALDESC:Events for Shakedown Bar
REFRESH-INTERVAL;VALUE=DURATION:PT1H
X-Robots-Tag:noindex
X-PUBLISHED-TTL:PT1H
BEGIN:VTIMEZONE
TZID:America/Denver
BEGIN:DAYLIGHT
TZOFFSETFROM:-0700
TZOFFSETTO:-0600
TZNAME:MDT
DTSTART:20190310T090000
END:DAYLIGHT
BEGIN:STANDARD
TZOFFSETFROM:-0600
TZOFFSETTO:-0700
TZNAME:MST
DTSTART:20191103T080000
END:STANDARD
BEGIN:DAYLIGHT
TZOFFSETFROM:-0700
TZOFFSETTO:-0600
TZNAME:MDT
DTSTART:20200308T090000
END:DAYLIGHT
BEGIN:STANDARD
TZOFFSETFROM:-0600
TZOFFSETTO:-0700
TZNAME:MST
DTSTART:20201101T080000
END:STANDARD
BEGIN:DAYLIGHT
TZOFFSETFROM:-0700
TZOFFSETTO:-0600
TZNAME:MDT
DTSTART:20210314T090000
END:DAYLIGHT
BEGIN:STANDARD
TZOFFSETFROM:-0600
TZOFFSETTO:-0700
TZNAME:MST
DTSTART:20211107T080000
END:STANDARD
END:VTIMEZONE
BEGIN:VEVENT
DTSTART;TZID=America/Denver:20201003T140000
DTEND;TZID=America/Denver:20201003T190000
DTSTAMP:20260419T200021
CREATED:20201002T190636Z
LAST-MODIFIED:20201002T190636Z
UID:4669-1601733600-1601751600@shakedownbarvail.com
SUMMARY:Pop-Up Street Music
DESCRIPTION:Free music in Lionshead Village featuring Scott Rednor\, Brian Loftus\, Shawn “Stan” Eckels & Kramer Kelling. \nBrought to you by Shakedown Events and Town of Vail.
URL:https://shakedownbarvail.com/event/pop-up-street-music-5/
LOCATION:Lionshead\, Vail
END:VEVENT
BEGIN:VEVENT
DTSTART;TZID=America/Denver:20201004T130000
DTEND;TZID=America/Denver:20201004T180000
DTSTAMP:20260419T200021
CREATED:20201002T191134Z
LAST-MODIFIED:20201002T191134Z
UID:4671-1601816400-1601834400@shakedownbarvail.com
SUMMARY:Shakedown Family Jam Remembering Ethan Smallie
DESCRIPTION:An all-star supergroup Famly Jam remembering the life of Ethan Smalie. Proceeds from the concert benefit the Smallie Family and SummitStone Health Partners. \nStaff from The Vail Mind Center will be onsite with available local resources for juvenile behavioral and mental health services. \nTickets are $20 and available online. GET TIXS HERE
URL:https://shakedownbarvail.com/event/shakedown-family-jam-remembering-ethan-smallie/
LOCATION:Betty Ford Alpine Gardens\, Vail\, CO\, United States
END:VEVENT
BEGIN:VEVENT
DTSTART;TZID=America/Denver:20201010T140000
DTEND;TZID=America/Denver:20201010T190000
DTSTAMP:20260419T200021
CREATED:20201002T185451Z
LAST-MODIFIED:20201002T185451Z
UID:4659-1602338400-1602356400@shakedownbarvail.com
SUMMARY:Pop-Up Street Music
DESCRIPTION:Free music in Lionshead Village featuring Mark Levy & Friends ft. Scott Rednor\, Joey Porter and Garrett Sayers. \nBrought to you by Shakedown Events and Town of Vail.
URL:https://shakedownbarvail.com/event/pop-up-street-music-2/
LOCATION:Lionshead\, Vail
END:VEVENT
BEGIN:VEVENT
DTSTART;TZID=America/Denver:20201017T140000
DTEND;TZID=America/Denver:20201017T190000
DTSTAMP:20260419T200021
CREATED:20201002T185644Z
LAST-MODIFIED:20201002T185644Z
UID:4661-1602943200-1602961200@shakedownbarvail.com
SUMMARY:Pop-Up Street Music
DESCRIPTION:Free music in Solaris Plaza featuring Alwyn Robinson\, Scott Rednor\,  Kory Montgomery & Kramer Kelling. \nBrought to you by Shakedown Events and Town of Vail.
URL:https://shakedownbarvail.com/event/pop-up-street-music-3/
LOCATION:Solaris Plaza\, Vail
END:VEVENT
BEGIN:VEVENT
DTSTART;TZID=America/Denver:20201024T140000
DTEND;TZID=America/Denver:20201024T190000
DTSTAMP:20260419T200021
CREATED:20201002T185803Z
LAST-MODIFIED:20201002T185803Z
UID:4663-1603548000-1603566000@shakedownbarvail.com
SUMMARY:Pop-Up Street Music
DESCRIPTION:Free music in Lionshead Village featuring Brothers Keeper. \nBrought to you by Shakedown Events and Town of Vail.
URL:https://shakedownbarvail.com/event/pop-up-street-music-4/
LOCATION:Lionshead\, Vail
END:VEVENT
END:VCALENDAR