BEGIN:VCALENDAR
VERSION:2.0
PRODID:-//Shakedown Bar - ECPv6.15.14//NONSGML v1.0//EN
CALSCALE:GREGORIAN
METHOD:PUBLISH
X-ORIGINAL-URL:https://shakedownbarvail.com
X-WR-CALDESC:Events for Shakedown Bar
REFRESH-INTERVAL;VALUE=DURATION:PT1H
X-Robots-Tag:noindex
X-PUBLISHED-TTL:PT1H
BEGIN:VTIMEZONE
TZID:America/Denver
BEGIN:DAYLIGHT
TZOFFSETFROM:-0700
TZOFFSETTO:-0600
TZNAME:MDT
DTSTART:20190310T090000
END:DAYLIGHT
BEGIN:STANDARD
TZOFFSETFROM:-0600
TZOFFSETTO:-0700
TZNAME:MST
DTSTART:20191103T080000
END:STANDARD
BEGIN:DAYLIGHT
TZOFFSETFROM:-0700
TZOFFSETTO:-0600
TZNAME:MDT
DTSTART:20200308T090000
END:DAYLIGHT
BEGIN:STANDARD
TZOFFSETFROM:-0600
TZOFFSETTO:-0700
TZNAME:MST
DTSTART:20201101T080000
END:STANDARD
BEGIN:DAYLIGHT
TZOFFSETFROM:-0700
TZOFFSETTO:-0600
TZNAME:MDT
DTSTART:20210314T090000
END:DAYLIGHT
BEGIN:STANDARD
TZOFFSETFROM:-0600
TZOFFSETTO:-0700
TZNAME:MST
DTSTART:20211107T080000
END:STANDARD
END:VTIMEZONE
BEGIN:VEVENT
DTSTART;TZID=America/Denver:20200905T140000
DTEND;TZID=America/Denver:20200905T190000
DTSTAMP:20260419T212628
CREATED:20200828T135552Z
LAST-MODIFIED:20200828T135552Z
UID:4616-1599314400-1599332400@shakedownbarvail.com
SUMMARY:Pop-Up Street Music: Bill Mckay Trio
DESCRIPTION:FREE concerts in the town of Vail! These socially distant pop-up events are held from 2-7pm throughout September. \nBill Mckay Trio in Lionshead 
URL:https://shakedownbarvail.com/event/pop-up-street-music-bill-mckay-trio/
LOCATION:Lionshead\, Vail
END:VEVENT
BEGIN:VEVENT
DTSTART;TZID=America/Denver:20200905T150000
DTEND;TZID=America/Denver:20200905T190000
DTSTAMP:20260419T212628
CREATED:20200828T051248Z
LAST-MODIFIED:20200828T054153Z
UID:4595-1599318000-1599332400@shakedownbarvail.com
SUMMARY:Live Music in the Gardens: Andy Hall\, Ross James\, Mark Levy & Garrett Sayers
DESCRIPTION:Live Music in the Gardens: Andy Hall\, Ross James\, Mark Levy & Garrett Sayers  \nTickets are $20 | Kids 5 & under are FREE | GET TIXS HERE \nAndy Hall (The Infamous Stringdusters) + incredible musicians for a night of jammin’ in the park. \nShakedown Presents features ticketed concerts at the Betty Ford Alpine Gardens in Vail. Gates to the venue open at 2pm\, music starts at 3pm. Food from Big Bear Bistro and drinks are available for purchase onsite. Due to COVID-19 restrictions\, facemasks are required. Groups of up to 6 people may be seated together on our socially distant grid system at the Lower Bench Park.  Lawn chairs and blankets are encouraged! \nPROHIBITED:\nBackpacks\nCoolers\nDogs\nOutside food\nOutside drinks (commercially sealed non-alcoholic beverages are OK)
URL:https://shakedownbarvail.com/event/live-music-in-the-gardens-andy-hall-ross-james-mark-levy-garrett-sayers/
LOCATION:Betty Ford Alpine Gardens\, Vail\, CO\, United States
END:VEVENT
BEGIN:VEVENT
DTSTART;TZID=America/Denver:20200906T140000
DTEND;TZID=America/Denver:20200906T190000
DTSTAMP:20260419T212628
CREATED:20200828T144015Z
LAST-MODIFIED:20200828T144015Z
UID:4633-1599400800-1599418800@shakedownbarvail.com
SUMMARY:Pop-Up Street Music: Royal Horses
DESCRIPTION:FREE concerts in the town of Vail! These socially distant pop-up events are held from 2-7pm throughout September. \nRoyal Horses in Lionshead Village
URL:https://shakedownbarvail.com/event/pop-up-street-music-royal-horses-2/
LOCATION:Lionshead\, Vail
END:VEVENT
BEGIN:VEVENT
DTSTART;TZID=America/Denver:20200906T150000
DTEND;TZID=America/Denver:20200906T190000
DTSTAMP:20260419T212628
CREATED:20200828T051655Z
LAST-MODIFIED:20200828T054119Z
UID:4598-1599404400-1599418800@shakedownbarvail.com
SUMMARY:Live Music in the Gardens: Shakedown Family Labor Day Jam
DESCRIPTION:Live Music in the Gardens: Shakedown Family Labor Day Jam \nTickets are $20 | Kids 5 & under are FREE | GET TIXS HERE \nFeaturing Benny Bloom\, Joey Porter\, Todd Smallie\, Mark Levy\, Brian Loftus\, Scott Rednor\, Rob Eaton\, Jr.\, Johnny Schlepper and more… \nShakedown Presents features ticketed concerts at the Betty Ford Alpine Gardens in Vail. Gates to the venue open at 2pm\, music starts at 3pm. Food from Big Bear Bistro and drinks are available for purchase onsite. Due to COVID-19 restrictions\, facemasks are required. Groups of up to 6 people may be seated together on our socially distant grid system at the Lower Bench Park.  Lawn chairs and blankets are encouraged! \nPROHIBITED:\nBackpacks\nCoolers\nDogs\nOutside food\nOutside drinks (commercially sealed non-alcoholic beverages are OK)
URL:https://shakedownbarvail.com/event/live-music-in-the-gardens-shakedown-family-labor-day-jam/
LOCATION:Betty Ford Alpine Gardens\, Vail\, CO\, United States
END:VEVENT
BEGIN:VEVENT
DTSTART;TZID=America/Denver:20200911T140000
DTEND;TZID=America/Denver:20200911T190000
DTSTAMP:20260419T212628
CREATED:20200828T144239Z
LAST-MODIFIED:20200828T144239Z
UID:4635-1599832800-1599850800@shakedownbarvail.com
SUMMARY:Pop-Up Street Music: Kory Montgomery Band
DESCRIPTION:FREE concerts in the town of Vail! These socially distant pop-up events are held from 2-7pm throughout September. \nKory Montgomery Band in Lionshead Village
URL:https://shakedownbarvail.com/event/pop-up-street-music-kory-montgomery-band/
LOCATION:Lionshead\, Vail
END:VEVENT
BEGIN:VEVENT
DTSTART;TZID=America/Denver:20200912T140000
DTEND;TZID=America/Denver:20200912T190000
DTSTAMP:20260419T212628
CREATED:20200828T144403Z
LAST-MODIFIED:20200828T144403Z
UID:4637-1599919200-1599937200@shakedownbarvail.com
SUMMARY:Pop-Up Street Music: Brothers Keeper
DESCRIPTION:FREE concerts in the town of Vail! These socially distant pop-up events are held from 2-7pm throughout September. \nBrothers Keeper in Lionshead Village
URL:https://shakedownbarvail.com/event/pop-up-street-music-brothers-keeper/
LOCATION:Lionshead\, Vail
END:VEVENT
BEGIN:VEVENT
DTSTART;TZID=America/Denver:20200913T140000
DTEND;TZID=America/Denver:20200913T190000
DTSTAMP:20260419T212628
CREATED:20200828T144515Z
LAST-MODIFIED:20200828T144515Z
UID:4639-1600005600-1600023600@shakedownbarvail.com
SUMMARY:Pop-Up Street Music: Bill Mckay Trio
DESCRIPTION:FREE concerts in the town of Vail! These socially distant pop-up events are held from 2-7pm throughout September. \nBill Mckay Trio in Lionshead Village
URL:https://shakedownbarvail.com/event/pop-up-street-music-bill-mckay-trio-2/
LOCATION:Lionshead\, Vail
END:VEVENT
BEGIN:VEVENT
DTSTART;TZID=America/Denver:20200913T150000
DTEND;TZID=America/Denver:20200913T190000
DTSTAMP:20260419T212628
CREATED:20200828T052553Z
LAST-MODIFIED:20200828T054045Z
UID:4606-1600009200-1600023600@shakedownbarvail.com
SUMMARY:Live Music in the Gardens: Natural Selectah
DESCRIPTION:Live Music in the Gardens: Natural Selectah \nTickets are $20 | Kids 5 & under are FREE | GET TIXS HERE \nAn Allstar Reggae celebration hosted by Jeff Franca of Thievery Corporation. \nShakedown Presents features ticketed concerts at the Betty Ford Alpine Gardens in Vail. Gates to the venue open at 2pm\, music starts at 3pm. Food from Big Bear Bistro and drinks are available for purchase onsite. Due to COVID-19 restrictions\, facemasks are required. Groups of up to 6 people may be seated together on our socially distant grid system at the Lower Bench Park.  Lawn chairs and blankets are encouraged! \nPROHIBITED:\nBackpacks\nCoolers\nDogs\nOutside food\nOutside drinks (commercially sealed non-alcoholic beverages are OK)
URL:https://shakedownbarvail.com/event/live-music-in-the-gardens-natural-selectah/
LOCATION:Betty Ford Alpine Gardens\, Vail\, CO\, United States
END:VEVENT
BEGIN:VEVENT
DTSTART;TZID=America/Denver:20200918T140000
DTEND;TZID=America/Denver:20200918T190000
DTSTAMP:20260419T212628
CREATED:20200828T144719Z
LAST-MODIFIED:20200828T144719Z
UID:4641-1600437600-1600455600@shakedownbarvail.com
SUMMARY:Pop-Up Street Music: Shakedown ShakeUP!
DESCRIPTION:FREE concerts in the town of Vail! These socially distant pop-up events are held from 2-7pm throughout September. \nShakedown ShakeUP! in Solaris Plaza\, Vail Village
URL:https://shakedownbarvail.com/event/pop-up-street-music-shakedown-shakeup/
LOCATION:Solaris Plaza\, Vail Village
END:VEVENT
BEGIN:VEVENT
DTSTART;TZID=America/Denver:20200919T140000
DTEND;TZID=America/Denver:20200919T190000
DTSTAMP:20260419T212628
CREATED:20200828T144829Z
LAST-MODIFIED:20201005T050505Z
UID:4644-1600524000-1600542000@shakedownbarvail.com
SUMMARY:Pop-Up Street Music: Brothers Keeper
DESCRIPTION:FREE concerts in the Town of Vail! These socially distant pop-up events are held from 2-7pm throughout September. Brought to you by Shakedown Presents and the Town of Vail. \nBrothers Keeper in Lionshead Village
URL:https://shakedownbarvail.com/event/pop-up-street-music-brothers-keeper-2/
LOCATION:Lionshead\, Vail
END:VEVENT
BEGIN:VEVENT
DTSTART;TZID=America/Denver:20200920T140000
DTEND;TZID=America/Denver:20200920T190000
DTSTAMP:20260419T212628
CREATED:20200828T145017Z
LAST-MODIFIED:20200828T145017Z
UID:4646-1600610400-1600628400@shakedownbarvail.com
SUMMARY:Pop-Up Street Music: Brothers Keeper
DESCRIPTION:FREE concerts in the town of Vail! These socially distant pop-up events are held from 2-7pm throughout September. \nBrothers Keeper at the Children’s Fountain\, Vail Village
URL:https://shakedownbarvail.com/event/pop-up-street-music-brothers-keeper-3/
LOCATION:Children’s Fountain\, Vail Village
END:VEVENT
BEGIN:VEVENT
DTSTART;TZID=America/Denver:20200925T140000
DTEND;TZID=America/Denver:20200925T190000
DTSTAMP:20260419T212628
CREATED:20200828T141916Z
LAST-MODIFIED:20200828T145714Z
UID:4619-1601042400-1601060400@shakedownbarvail.com
SUMMARY:Pop-Up Street Music: Kory Montgomery Band
DESCRIPTION:FREE concerts in the town of Vail! These socially distant pop-up events are held from 2-7pm throughout September. \nKory Montgomery Band at the Shakedown Stage\, Vail Village
URL:https://shakedownbarvail.com/event/pop-up-street-music-royal-horses/
LOCATION:Shakedown Stage\, Vail Village
END:VEVENT
BEGIN:VEVENT
DTSTART;TZID=America/Denver:20200926T140000
DTEND;TZID=America/Denver:20200926T190000
DTSTAMP:20260419T212628
CREATED:20200828T145125Z
LAST-MODIFIED:20200828T145125Z
UID:4649-1601128800-1601146800@shakedownbarvail.com
SUMMARY:Pop-Up Street Music: Brothers Keeper
DESCRIPTION:FREE concerts in the town of Vail! These socially distant pop-up events are held from 2-7pm throughout September. \nBrothers Keeper in Lionshead Village
URL:https://shakedownbarvail.com/event/pop-up-street-music-brothers-keeper-4/
LOCATION:Lionshead\, Vail
END:VEVENT
BEGIN:VEVENT
DTSTART;TZID=America/Denver:20200927T150000
DTEND;TZID=America/Denver:20200927T190000
DTSTAMP:20260419T212628
CREATED:20200828T053622Z
LAST-MODIFIED:20200828T053956Z
UID:4610-1601218800-1601233200@shakedownbarvail.com
SUMMARY:Live Music in the Gardens: The Other Brothers Allman Tribute
DESCRIPTION:Live Music in the Gardens: The Other Brothers Allman Tribute \nTickets are $20 | Kids 5 & under are FREE | GET TIXS HERE \nWith James Dumm\, Bill Mckay\, Rob Eaton Jr.\, Todd Smallie\, John Michel\, Mark Levy & Wil Trask. \nShakedown Presents features ticketed concerts at the Betty Ford Alpine Gardens in Vail. Gates to the venue open at 2pm\, music starts at 3pm. Food from Big Bear Bistro and drinks are available for purchase onsite. Due to COVID-19 restrictions\, facemasks are required. Groups of up to 6 people may be seated together on our socially distant grid system at the Lower Bench Park.  Lawn chairs and blankets are encouraged! \nPROHIBITED:\nBackpacks\nCoolers\nDogs\nOutside food\nOutside drinks (commercially sealed non-alcoholic beverages are OK)
URL:https://shakedownbarvail.com/event/live-music-in-the-gardens-the-other-brothers-allman-tribute/
LOCATION:Betty Ford Alpine Gardens\, Vail\, CO\, United States
END:VEVENT
END:VCALENDAR