BEGIN:VCALENDAR
VERSION:2.0
PRODID:-//Shakedown Bar - ECPv6.15.14//NONSGML v1.0//EN
CALSCALE:GREGORIAN
METHOD:PUBLISH
X-ORIGINAL-URL:https://shakedownbarvail.com
X-WR-CALDESC:Events for Shakedown Bar
REFRESH-INTERVAL;VALUE=DURATION:PT1H
X-Robots-Tag:noindex
X-PUBLISHED-TTL:PT1H
BEGIN:VTIMEZONE
TZID:America/Denver
BEGIN:DAYLIGHT
TZOFFSETFROM:-0700
TZOFFSETTO:-0600
TZNAME:MDT
DTSTART:20250309T090000
END:DAYLIGHT
BEGIN:STANDARD
TZOFFSETFROM:-0600
TZOFFSETTO:-0700
TZNAME:MST
DTSTART:20251102T080000
END:STANDARD
BEGIN:DAYLIGHT
TZOFFSETFROM:-0700
TZOFFSETTO:-0600
TZNAME:MDT
DTSTART:20260308T090000
END:DAYLIGHT
BEGIN:STANDARD
TZOFFSETFROM:-0600
TZOFFSETTO:-0700
TZNAME:MST
DTSTART:20261101T080000
END:STANDARD
BEGIN:DAYLIGHT
TZOFFSETFROM:-0700
TZOFFSETTO:-0600
TZNAME:MDT
DTSTART:20270314T090000
END:DAYLIGHT
BEGIN:STANDARD
TZOFFSETFROM:-0600
TZOFFSETTO:-0700
TZNAME:MST
DTSTART:20271107T080000
END:STANDARD
END:VTIMEZONE
BEGIN:VEVENT
DTSTART;TZID=America/Denver:20260715T210000
DTEND;TZID=America/Denver:20260716T013000
DTSTAMP:20260419T195930
CREATED:20260418T190920Z
LAST-MODIFIED:20260418T190920Z
UID:10989-1784149200-1784165400@shakedownbarvail.com
SUMMARY:Scott Rednor
DESCRIPTION:Scott Rednor  \nScott Rednor – Guitars/vocals \n*Doors open at listed event time\, live music typically starts 60-90 minutes after doors. End times are estimates.
URL:https://shakedownbarvail.com/event/scott-rednor-104/
LOCATION:Shakedown Bar 304 Bridge St\, Vail\, CO  81657\, United States\, Shakedown Bar 304 Bridge St\, Vail\, CO 81657\, United States
ORGANIZER;CN="Shakedown Presents":MAILTO:info@shakedownbarvail.com
END:VEVENT
BEGIN:VEVENT
DTSTART;TZID=America/Denver:20260717T210000
DTEND;TZID=America/Denver:20260718T013000
DTSTAMP:20260419T195930
CREATED:20260418T191056Z
LAST-MODIFIED:20260418T191056Z
UID:10993-1784322000-1784338200@shakedownbarvail.com
SUMMARY:Kory Montgomery Band
DESCRIPTION:Kory Montgomery Band \nKory Montgomery – Guitar/vocals \nKramer Kelling – Bass/vocals \nMark Levy – Drums \n  \n*Doors open at listed event time\, live music typically starts 60-90 minutes after doors. End times are estimates.
URL:https://shakedownbarvail.com/event/kory-montgomery-band-46/
LOCATION:Shakedown Bar 304 Bridge St\, Vail\, CO  81657\, United States\, Shakedown Bar 304 Bridge St\, Vail\, CO 81657\, United States
CATEGORIES:Full Band
ORGANIZER;CN="Shakedown Presents":MAILTO:info@shakedownbarvail.com
END:VEVENT
BEGIN:VEVENT
DTSTART;TZID=America/Denver:20260718T210000
DTEND;TZID=America/Denver:20260719T013000
DTSTAMP:20260419T195930
CREATED:20260418T191120Z
LAST-MODIFIED:20260418T191120Z
UID:10995-1784408400-1784424600@shakedownbarvail.com
SUMMARY:Scott Rednor Band 
DESCRIPTION:Scott Rednor Band  \nScott Rednor – Guitars/vocals \nKramer Kelling – Bass/vocals \nBrian Loftus – Drums \nTommy Shugart – Keyboards \n  \n*Doors open at listed event time\, live music typically starts 60-90 minutes after doors. End times are estimates.
URL:https://shakedownbarvail.com/event/scott-rednor-band-116/
LOCATION:Shakedown Bar 304 Bridge St\, Vail\, CO  81657\, United States\, Shakedown Bar 304 Bridge St\, Vail\, CO 81657\, United States
CATEGORIES:Full Band
ORGANIZER;CN="Shakedown Presents":MAILTO:info@shakedownbarvail.com
END:VEVENT
BEGIN:VEVENT
DTSTART;TZID=America/Denver:20260719T210000
DTEND;TZID=America/Denver:20260720T013000
DTSTAMP:20260419T195930
CREATED:20260418T191147Z
LAST-MODIFIED:20260418T191147Z
UID:10997-1784494800-1784511000@shakedownbarvail.com
SUMMARY:Johnny Schleper
DESCRIPTION:Johnny Schleper – Guitar/vocals \n*Doors open at listed event time\, live music typically starts 60-90 minutes after doors. End times are estimates.
URL:https://shakedownbarvail.com/event/johnny-schleper-4/
LOCATION:Shakedown Bar 304 Bridge St\, Vail\, CO  81657\, United States\, Shakedown Bar 304 Bridge St\, Vail\, CO 81657\, United States
END:VEVENT
BEGIN:VEVENT
DTSTART;TZID=America/Denver:20260720T210000
DTEND;TZID=America/Denver:20260721T013000
DTSTAMP:20260419T195930
CREATED:20260418T191213Z
LAST-MODIFIED:20260418T191213Z
UID:10999-1784581200-1784597400@shakedownbarvail.com
SUMMARY:TBA
DESCRIPTION:TBA \n*Doors open at listed event time\, live music typically starts 60-90 minutes after doors. End times are estimates.
URL:https://shakedownbarvail.com/event/tba-80/
LOCATION:Shakedown Bar 304 Bridge St\, Vail\, CO  81657\, United States\, Shakedown Bar 304 Bridge St\, Vail\, CO 81657\, United States
ORGANIZER;CN="Shakedown Presents":MAILTO:info@shakedownbarvail.com
END:VEVENT
BEGIN:VEVENT
DTSTART;TZID=America/Denver:20260721T210000
DTEND;TZID=America/Denver:20260722T013000
DTSTAMP:20260419T195930
CREATED:20260418T191229Z
LAST-MODIFIED:20260418T191229Z
UID:11001-1784667600-1784683800@shakedownbarvail.com
SUMMARY:TBA
DESCRIPTION:TBA \n*Doors open at listed event time\, live music typically starts 60-90 minutes after doors. End times are estimates.
URL:https://shakedownbarvail.com/event/tba-81/
LOCATION:Shakedown Bar 304 Bridge St\, Vail\, CO  81657\, United States\, Shakedown Bar 304 Bridge St\, Vail\, CO 81657\, United States
ORGANIZER;CN="Shakedown Presents":MAILTO:info@shakedownbarvail.com
END:VEVENT
BEGIN:VEVENT
DTSTART;TZID=America/Denver:20260722T210000
DTEND;TZID=America/Denver:20260723T013000
DTSTAMP:20260419T195930
CREATED:20260418T191256Z
LAST-MODIFIED:20260418T191256Z
UID:11003-1784754000-1784770200@shakedownbarvail.com
SUMMARY:Kory Montgomery
DESCRIPTION:Kory Montgomery \nKory Montgomery – Guitar/vocals \n  \n*Doors open at listed event time\, live music typically starts 60-90 minutes after doors. End times are estimates
URL:https://shakedownbarvail.com/event/kory-montgomery-81/
LOCATION:Shakedown Bar 304 Bridge St\, Vail\, CO  81657\, United States\, Shakedown Bar 304 Bridge St\, Vail\, CO 81657\, United States
ORGANIZER;CN="Shakedown Presents":MAILTO:info@shakedownbarvail.com
END:VEVENT
BEGIN:VEVENT
DTSTART;TZID=America/Denver:20260723T210000
DTEND;TZID=America/Denver:20260724T013000
DTSTAMP:20260419T195930
CREATED:20260418T191416Z
LAST-MODIFIED:20260418T191416Z
UID:11005-1784840400-1784856600@shakedownbarvail.com
SUMMARY:Scott Rednor & Rob Eaton Jr. Duo
DESCRIPTION:Scott Rednor  \nScott Rednor – Guitars/vocals \nRob Eaton Jr. – Guitar/vocals \n*Doors open at listed event time\, live music typically starts 60-90 minutes after doors. End times are estimates.
URL:https://shakedownbarvail.com/event/scott-rednor-rob-eaton-jr-duo/
LOCATION:Shakedown Bar 304 Bridge St\, Vail\, CO  81657\, United States\, Shakedown Bar 304 Bridge St\, Vail\, CO 81657\, United States
ORGANIZER;CN="Shakedown Presents":MAILTO:info@shakedownbarvail.com
END:VEVENT
BEGIN:VEVENT
DTSTART;TZID=America/Denver:20260724T210000
DTEND;TZID=America/Denver:20260725T013000
DTSTAMP:20260419T195930
CREATED:20260418T191441Z
LAST-MODIFIED:20260418T191441Z
UID:11007-1784926800-1784943000@shakedownbarvail.com
SUMMARY:Scott Rednor Band 
DESCRIPTION:Scott Rednor Band  \nScott Rednor – Guitars/vocals \nKramer Kelling – Bass/vocals \nBrian Loftus – Drums \nTommy Shugart – Keyboards \n  \n*Doors open at listed event time\, live music typically starts 60-90 minutes after doors. End times are estimates.
URL:https://shakedownbarvail.com/event/scott-rednor-band-117/
LOCATION:Shakedown Bar 304 Bridge St\, Vail\, CO  81657\, United States\, Shakedown Bar 304 Bridge St\, Vail\, CO 81657\, United States
CATEGORIES:Full Band
ORGANIZER;CN="Shakedown Presents":MAILTO:info@shakedownbarvail.com
END:VEVENT
BEGIN:VEVENT
DTSTART;TZID=America/Denver:20260725T210000
DTEND;TZID=America/Denver:20260726T013000
DTSTAMP:20260419T195930
CREATED:20260418T191457Z
LAST-MODIFIED:20260418T191457Z
UID:11009-1785013200-1785029400@shakedownbarvail.com
SUMMARY:Scott Rednor Band 
DESCRIPTION:Scott Rednor Band  \nScott Rednor – Guitars/vocals \nKramer Kelling – Bass/vocals \nBrian Loftus – Drums \nTommy Shugart – Keyboards \n  \n*Doors open at listed event time\, live music typically starts 60-90 minutes after doors. End times are estimates.
URL:https://shakedownbarvail.com/event/scott-rednor-band-118/
LOCATION:Shakedown Bar 304 Bridge St\, Vail\, CO  81657\, United States\, Shakedown Bar 304 Bridge St\, Vail\, CO 81657\, United States
CATEGORIES:Full Band
ORGANIZER;CN="Shakedown Presents":MAILTO:info@shakedownbarvail.com
END:VEVENT
BEGIN:VEVENT
DTSTART;TZID=America/Denver:20260726T210000
DTEND;TZID=America/Denver:20260727T013000
DTSTAMP:20260419T195930
CREATED:20260418T191516Z
LAST-MODIFIED:20260418T191516Z
UID:11011-1785099600-1785115800@shakedownbarvail.com
SUMMARY:TBA
DESCRIPTION:TBA \n*Doors open at listed event time\, live music typically starts 60-90 minutes after doors. End times are estimates.
URL:https://shakedownbarvail.com/event/tba-82/
LOCATION:Shakedown Bar 304 Bridge St\, Vail\, CO  81657\, United States\, Shakedown Bar 304 Bridge St\, Vail\, CO 81657\, United States
ORGANIZER;CN="Shakedown Presents":MAILTO:info@shakedownbarvail.com
END:VEVENT
BEGIN:VEVENT
DTSTART;TZID=America/Denver:20260727T210000
DTEND;TZID=America/Denver:20260728T013000
DTSTAMP:20260419T195930
CREATED:20260418T191533Z
LAST-MODIFIED:20260418T191533Z
UID:11013-1785186000-1785202200@shakedownbarvail.com
SUMMARY:TBA
DESCRIPTION:TBA \n*Doors open at listed event time\, live music typically starts 60-90 minutes after doors. End times are estimates.
URL:https://shakedownbarvail.com/event/tba-83/
LOCATION:Shakedown Bar 304 Bridge St\, Vail\, CO  81657\, United States\, Shakedown Bar 304 Bridge St\, Vail\, CO 81657\, United States
ORGANIZER;CN="Shakedown Presents":MAILTO:info@shakedownbarvail.com
END:VEVENT
BEGIN:VEVENT
DTSTART;TZID=America/Denver:20260728T210000
DTEND;TZID=America/Denver:20260729T013000
DTSTAMP:20260419T195930
CREATED:20260418T191549Z
LAST-MODIFIED:20260418T191549Z
UID:11015-1785272400-1785288600@shakedownbarvail.com
SUMMARY:TBA
DESCRIPTION:TBA \n*Doors open at listed event time\, live music typically starts 60-90 minutes after doors. End times are estimates.
URL:https://shakedownbarvail.com/event/tba-84/
LOCATION:Shakedown Bar 304 Bridge St\, Vail\, CO  81657\, United States\, Shakedown Bar 304 Bridge St\, Vail\, CO 81657\, United States
ORGANIZER;CN="Shakedown Presents":MAILTO:info@shakedownbarvail.com
END:VEVENT
BEGIN:VEVENT
DTSTART;TZID=America/Denver:20260729T210000
DTEND;TZID=America/Denver:20260730T013000
DTSTAMP:20260419T195930
CREATED:20260418T191610Z
LAST-MODIFIED:20260418T191610Z
UID:11017-1785358800-1785375000@shakedownbarvail.com
SUMMARY:Kory Montgomery
DESCRIPTION:Kory Montgomery \nKory Montgomery – Guitar/vocals \n  \n*Doors open at listed event time\, live music typically starts 60-90 minutes after doors. End times are estimates
URL:https://shakedownbarvail.com/event/kory-montgomery-82/
LOCATION:Shakedown Bar 304 Bridge St\, Vail\, CO  81657\, United States\, Shakedown Bar 304 Bridge St\, Vail\, CO 81657\, United States
ORGANIZER;CN="Shakedown Presents":MAILTO:info@shakedownbarvail.com
END:VEVENT
BEGIN:VEVENT
DTSTART;TZID=America/Denver:20260730T210000
DTEND;TZID=America/Denver:20260731T013000
DTSTAMP:20260419T195930
CREATED:20260418T191629Z
LAST-MODIFIED:20260418T191629Z
UID:11019-1785445200-1785461400@shakedownbarvail.com
SUMMARY:Scott Rednor Band 
DESCRIPTION:Scott Rednor Band  \nScott Rednor – Guitars/vocals \nKramer Kelling – Bass/vocals \nBrian Loftus – Drums \nTommy Shugart – Keyboards \n  \n*Doors open at listed event time\, live music typically starts 60-90 minutes after doors. End times are estimates.
URL:https://shakedownbarvail.com/event/scott-rednor-band-119/
LOCATION:Shakedown Bar 304 Bridge St\, Vail\, CO  81657\, United States\, Shakedown Bar 304 Bridge St\, Vail\, CO 81657\, United States
CATEGORIES:Full Band
ORGANIZER;CN="Shakedown Presents":MAILTO:info@shakedownbarvail.com
END:VEVENT
BEGIN:VEVENT
DTSTART;TZID=America/Denver:20260731T210000
DTEND;TZID=America/Denver:20260801T013000
DTSTAMP:20260419T195930
CREATED:20260418T191702Z
LAST-MODIFIED:20260418T191702Z
UID:11021-1785531600-1785547800@shakedownbarvail.com
SUMMARY:Kory Montgomery Band
DESCRIPTION:Kory Montgomery Band \nKory Montgomery – Guitar/vocals \nKramer Kelling – Bass/vocals \nMark Levy – Drums \n  \n*Doors open at listed event time\, live music typically starts 60-90 minutes after doors. End times are estimates.
URL:https://shakedownbarvail.com/event/kory-montgomery-band-47/
LOCATION:Shakedown Bar 304 Bridge St\, Vail\, CO  81657\, United States\, Shakedown Bar 304 Bridge St\, Vail\, CO 81657\, United States
CATEGORIES:Full Band
ORGANIZER;CN="Shakedown Presents":MAILTO:info@shakedownbarvail.com
END:VEVENT
END:VCALENDAR