BEGIN:VCALENDAR
VERSION:2.0
PRODID:-//Shakedown Bar - ECPv6.15.14//NONSGML v1.0//EN
CALSCALE:GREGORIAN
METHOD:PUBLISH
X-ORIGINAL-URL:https://shakedownbarvail.com
X-WR-CALDESC:Events for Shakedown Bar
REFRESH-INTERVAL;VALUE=DURATION:PT1H
X-Robots-Tag:noindex
X-PUBLISHED-TTL:PT1H
BEGIN:VTIMEZONE
TZID:America/Denver
BEGIN:DAYLIGHT
TZOFFSETFROM:-0700
TZOFFSETTO:-0600
TZNAME:MDT
DTSTART:20250309T090000
END:DAYLIGHT
BEGIN:STANDARD
TZOFFSETFROM:-0600
TZOFFSETTO:-0700
TZNAME:MST
DTSTART:20251102T080000
END:STANDARD
BEGIN:DAYLIGHT
TZOFFSETFROM:-0700
TZOFFSETTO:-0600
TZNAME:MDT
DTSTART:20260308T090000
END:DAYLIGHT
BEGIN:STANDARD
TZOFFSETFROM:-0600
TZOFFSETTO:-0700
TZNAME:MST
DTSTART:20261101T080000
END:STANDARD
BEGIN:DAYLIGHT
TZOFFSETFROM:-0700
TZOFFSETTO:-0600
TZNAME:MDT
DTSTART:20270314T090000
END:DAYLIGHT
BEGIN:STANDARD
TZOFFSETFROM:-0600
TZOFFSETTO:-0700
TZNAME:MST
DTSTART:20271107T080000
END:STANDARD
END:VTIMEZONE
BEGIN:VEVENT
DTSTART;TZID=America/Denver:20260615T210000
DTEND;TZID=America/Denver:20260616T013000
DTSTAMP:20260419T163650
CREATED:20260418T184901Z
LAST-MODIFIED:20260418T184901Z
UID:10929-1781557200-1781573400@shakedownbarvail.com
SUMMARY:Lucas Parker and Jessica Paige
DESCRIPTION:Lucas Parker and Jessica Paige \nLucas Parker – Guitar/vocals \nJess Paige – Guitar/vocals \n*Doors open at listed event time\, live music typically starts 60-90 minutes after doors. End times are estimates.
URL:https://shakedownbarvail.com/event/lucas-parker-and-jessica-paige-67/
LOCATION:Shakedown Bar 304 Bridge St\, Vail\, CO  81657\, United States\, Shakedown Bar 304 Bridge St\, Vail\, CO 81657\, United States
ORGANIZER;CN="Shakedown Presents":MAILTO:info@shakedownbarvail.com
END:VEVENT
BEGIN:VEVENT
DTSTART;TZID=America/Denver:20260616T210000
DTEND;TZID=America/Denver:20260617T013000
DTSTAMP:20260419T163650
CREATED:20260418T184925Z
LAST-MODIFIED:20260418T184925Z
UID:10931-1781643600-1781659800@shakedownbarvail.com
SUMMARY:Lucas Parker and Jessica Paige
DESCRIPTION:Lucas Parker and Jessica Paige \nLucas Parker – Guitar/vocals \nJess Paige – Guitar/vocals \n*Doors open at listed event time\, live music typically starts 60-90 minutes after doors. End times are estimates.
URL:https://shakedownbarvail.com/event/lucas-parker-and-jessica-paige-68/
LOCATION:Shakedown Bar 304 Bridge St\, Vail\, CO  81657\, United States\, Shakedown Bar 304 Bridge St\, Vail\, CO 81657\, United States
ORGANIZER;CN="Shakedown Presents":MAILTO:info@shakedownbarvail.com
END:VEVENT
BEGIN:VEVENT
DTSTART;TZID=America/Denver:20260617T210000
DTEND;TZID=America/Denver:20260618T013000
DTSTAMP:20260419T163650
CREATED:20260418T185646Z
LAST-MODIFIED:20260418T185646Z
UID:10933-1781730000-1781746200@shakedownbarvail.com
SUMMARY:Kory Montgomery
DESCRIPTION:Kory Montgomery \nKory Montgomery – Guitar/vocals \n  \n*Doors open at listed event time\, live music typically starts 60-90 minutes after doors. End times are estimates
URL:https://shakedownbarvail.com/event/kory-montgomery-78/
LOCATION:Shakedown Bar 304 Bridge St\, Vail\, CO  81657\, United States\, Shakedown Bar 304 Bridge St\, Vail\, CO 81657\, United States
ORGANIZER;CN="Shakedown Presents":MAILTO:info@shakedownbarvail.com
END:VEVENT
BEGIN:VEVENT
DTSTART;TZID=America/Denver:20260618T210000
DTEND;TZID=America/Denver:20260619T013000
DTSTAMP:20260419T163650
CREATED:20260418T185725Z
LAST-MODIFIED:20260418T185725Z
UID:10935-1781816400-1781832600@shakedownbarvail.com
SUMMARY:Sneakin' Drinks Duo
DESCRIPTION:Taylor Scott – Guitar/vocals \n*Doors open at listed event time\, live music typically starts 60-90 minutes after doors. End times are estimates.
URL:https://shakedownbarvail.com/event/sneakin-drinks-duo/
LOCATION:Shakedown Bar 304 Bridge St\, Vail\, CO  81657\, United States\, Shakedown Bar 304 Bridge St\, Vail\, CO 81657\, United States
CATEGORIES:Full Band
ORGANIZER;CN="Shakedown Presents":MAILTO:info@shakedownbarvail.com
END:VEVENT
BEGIN:VEVENT
DTSTART;TZID=America/Denver:20260619T210000
DTEND;TZID=America/Denver:20260620T013000
DTSTAMP:20260419T163650
CREATED:20260418T185823Z
LAST-MODIFIED:20260418T185823Z
UID:10937-1781902800-1781919000@shakedownbarvail.com
SUMMARY:Kory Montgomery Band
DESCRIPTION:Kory Montgomery Band \nKory Montgomery – Guitar/vocals \nKramer Kelling – Bass/vocals \nBrian Loftus – Drums \n  \n*Doors open at listed event time\, live music typically starts 60-90 minutes after doors. End times are estimates.
URL:https://shakedownbarvail.com/event/kory-montgomery-band-45/
LOCATION:Shakedown Bar 304 Bridge St\, Vail\, CO  81657\, United States\, Shakedown Bar 304 Bridge St\, Vail\, CO 81657\, United States
CATEGORIES:Full Band
ORGANIZER;CN="Shakedown Presents":MAILTO:info@shakedownbarvail.com
END:VEVENT
BEGIN:VEVENT
DTSTART;TZID=America/Denver:20260620T210000
DTEND;TZID=America/Denver:20260621T013000
DTSTAMP:20260419T163650
CREATED:20260418T185911Z
LAST-MODIFIED:20260418T185911Z
UID:10939-1781989200-1782005400@shakedownbarvail.com
SUMMARY:Taylor Scott Band
DESCRIPTION:Taylor Scott Band \nTaylor Scott – Guitar/vocals \n*Doors open at listed event time\, live music typically starts 60-90 minutes after doors. End times are estimates.
URL:https://shakedownbarvail.com/event/taylor-scott-band-47/
LOCATION:Shakedown Bar 304 Bridge St\, Vail\, CO  81657\, United States\, Shakedown Bar 304 Bridge St\, Vail\, CO 81657\, United States
CATEGORIES:Full Band
ORGANIZER;CN="Shakedown Presents":MAILTO:info@shakedownbarvail.com
END:VEVENT
BEGIN:VEVENT
DTSTART;TZID=America/Denver:20260621T210000
DTEND;TZID=America/Denver:20260622T013000
DTSTAMP:20260419T163650
CREATED:20260418T185943Z
LAST-MODIFIED:20260418T185943Z
UID:10941-1782075600-1782091800@shakedownbarvail.com
SUMMARY:TBA
DESCRIPTION:TBA \n*Doors open at listed event time\, live music typically starts 60-90 minutes after doors. End times are estimates.
URL:https://shakedownbarvail.com/event/tba-78/
LOCATION:Shakedown Bar 304 Bridge St\, Vail\, CO  81657\, United States\, Shakedown Bar 304 Bridge St\, Vail\, CO 81657\, United States
ORGANIZER;CN="Shakedown Presents":MAILTO:info@shakedownbarvail.com
END:VEVENT
BEGIN:VEVENT
DTSTART;TZID=America/Denver:20260622T210000
DTEND;TZID=America/Denver:20260623T013000
DTSTAMP:20260419T163650
CREATED:20260418T190011Z
LAST-MODIFIED:20260418T190011Z
UID:10943-1782162000-1782178200@shakedownbarvail.com
SUMMARY:Lucas Parker and Jessica Paige
DESCRIPTION:Lucas Parker and Jessica Paige \nLucas Parker – Guitar/vocals \nJess Paige – Guitar/vocals \n*Doors open at listed event time\, live music typically starts 60-90 minutes after doors. End times are estimates.
URL:https://shakedownbarvail.com/event/lucas-parker-and-jessica-paige-69/
LOCATION:Shakedown Bar 304 Bridge St\, Vail\, CO  81657\, United States\, Shakedown Bar 304 Bridge St\, Vail\, CO 81657\, United States
ORGANIZER;CN="Shakedown Presents":MAILTO:info@shakedownbarvail.com
END:VEVENT
BEGIN:VEVENT
DTSTART;TZID=America/Denver:20260623T210000
DTEND;TZID=America/Denver:20260624T013000
DTSTAMP:20260419T163650
CREATED:20260418T190025Z
LAST-MODIFIED:20260418T190025Z
UID:10945-1782248400-1782264600@shakedownbarvail.com
SUMMARY:Lucas Parker and Jessica Paige
DESCRIPTION:Lucas Parker and Jessica Paige \nLucas Parker – Guitar/vocals \nJess Paige – Guitar/vocals \n*Doors open at listed event time\, live music typically starts 60-90 minutes after doors. End times are estimates.
URL:https://shakedownbarvail.com/event/lucas-parker-and-jessica-paige-70/
LOCATION:Shakedown Bar 304 Bridge St\, Vail\, CO  81657\, United States\, Shakedown Bar 304 Bridge St\, Vail\, CO 81657\, United States
ORGANIZER;CN="Shakedown Presents":MAILTO:info@shakedownbarvail.com
END:VEVENT
BEGIN:VEVENT
DTSTART;TZID=America/Denver:20260624T210000
DTEND;TZID=America/Denver:20260625T013000
DTSTAMP:20260419T163650
CREATED:20260418T190055Z
LAST-MODIFIED:20260418T190055Z
UID:10947-1782334800-1782351000@shakedownbarvail.com
SUMMARY:Kory Montgomery
DESCRIPTION:Kory Montgomery \nKory Montgomery – Guitar/vocals \n  \n*Doors open at listed event time\, live music typically starts 60-90 minutes after doors. End times are estimates
URL:https://shakedownbarvail.com/event/kory-montgomery-79/
LOCATION:Shakedown Bar 304 Bridge St\, Vail\, CO  81657\, United States\, Shakedown Bar 304 Bridge St\, Vail\, CO 81657\, United States
ORGANIZER;CN="Shakedown Presents":MAILTO:info@shakedownbarvail.com
END:VEVENT
BEGIN:VEVENT
DTSTART;TZID=America/Denver:20260625T210000
DTEND;TZID=America/Denver:20260626T013000
DTSTAMP:20260419T163650
CREATED:20260418T190130Z
LAST-MODIFIED:20260418T190130Z
UID:10949-1782421200-1782437400@shakedownbarvail.com
SUMMARY:Jubilingo
DESCRIPTION:Jubilingo \n*Doors open at listed event time\, live music typically starts 60-90 minutes after doors. End times are estimates.
URL:https://shakedownbarvail.com/event/jubilingo-4/
LOCATION:Shakedown Bar 304 Bridge St\, Vail\, CO  81657\, United States\, Shakedown Bar 304 Bridge St\, Vail\, CO 81657\, United States
CATEGORIES:Full Band
ORGANIZER;CN="Shakedown Presents":MAILTO:info@shakedownbarvail.com
END:VEVENT
BEGIN:VEVENT
DTSTART;TZID=America/Denver:20260626T210000
DTEND;TZID=America/Denver:20260627T013000
DTSTAMP:20260419T163650
CREATED:20260418T190144Z
LAST-MODIFIED:20260418T190144Z
UID:10951-1782507600-1782523800@shakedownbarvail.com
SUMMARY:Jubilingo
DESCRIPTION:Jubilingo \n*Doors open at listed event time\, live music typically starts 60-90 minutes after doors. End times are estimates.
URL:https://shakedownbarvail.com/event/jubilingo-5/
LOCATION:Shakedown Bar 304 Bridge St\, Vail\, CO  81657\, United States\, Shakedown Bar 304 Bridge St\, Vail\, CO 81657\, United States
CATEGORIES:Full Band
ORGANIZER;CN="Shakedown Presents":MAILTO:info@shakedownbarvail.com
END:VEVENT
BEGIN:VEVENT
DTSTART;TZID=America/Denver:20260627T210000
DTEND;TZID=America/Denver:20260628T013000
DTSTAMP:20260419T163650
CREATED:20260418T190210Z
LAST-MODIFIED:20260418T190210Z
UID:10953-1782594000-1782610200@shakedownbarvail.com
SUMMARY:Scott Rednor Band 
DESCRIPTION:Scott Rednor Band  \nScott Rednor – Guitars/vocals \nKramer Kelling – Bass/vocals \nBrian Loftus – Drums \nTommy Shugart – Keyboards \n  \n*Doors open at listed event time\, live music typically starts 60-90 minutes after doors. End times are estimates.
URL:https://shakedownbarvail.com/event/scott-rednor-band-112/
LOCATION:Shakedown Bar 304 Bridge St\, Vail\, CO  81657\, United States\, Shakedown Bar 304 Bridge St\, Vail\, CO 81657\, United States
CATEGORIES:Full Band
ORGANIZER;CN="Shakedown Presents":MAILTO:info@shakedownbarvail.com
END:VEVENT
BEGIN:VEVENT
DTSTART;TZID=America/Denver:20260628T210000
DTEND;TZID=America/Denver:20260629T013000
DTSTAMP:20260419T163650
CREATED:20260418T190239Z
LAST-MODIFIED:20260418T190239Z
UID:10955-1782680400-1782696600@shakedownbarvail.com
SUMMARY:Lucas Parker and Jessica Paige
DESCRIPTION:Lucas Parker and Jessica Paige \nLucas Parker – Guitar/vocals \nJess Paige – Guitar/vocals \n*Doors open at listed event time\, live music typically starts 60-90 minutes after doors. End times are estimates.
URL:https://shakedownbarvail.com/event/lucas-parker-and-jessica-paige-71/
LOCATION:Shakedown Bar 304 Bridge St\, Vail\, CO  81657\, United States\, Shakedown Bar 304 Bridge St\, Vail\, CO 81657\, United States
ORGANIZER;CN="Shakedown Presents":MAILTO:info@shakedownbarvail.com
END:VEVENT
BEGIN:VEVENT
DTSTART;TZID=America/Denver:20260629T210000
DTEND;TZID=America/Denver:20260630T013000
DTSTAMP:20260419T163650
CREATED:20260418T190253Z
LAST-MODIFIED:20260418T190253Z
UID:10957-1782766800-1782783000@shakedownbarvail.com
SUMMARY:Lucas Parker and Jessica Paige
DESCRIPTION:Lucas Parker and Jessica Paige \nLucas Parker – Guitar/vocals \nJess Paige – Guitar/vocals \n*Doors open at listed event time\, live music typically starts 60-90 minutes after doors. End times are estimates.
URL:https://shakedownbarvail.com/event/lucas-parker-and-jessica-paige-72/
LOCATION:Shakedown Bar 304 Bridge St\, Vail\, CO  81657\, United States\, Shakedown Bar 304 Bridge St\, Vail\, CO 81657\, United States
ORGANIZER;CN="Shakedown Presents":MAILTO:info@shakedownbarvail.com
END:VEVENT
BEGIN:VEVENT
DTSTART;TZID=America/Denver:20260630T210000
DTEND;TZID=America/Denver:20260701T013000
DTSTAMP:20260419T163650
CREATED:20260418T190308Z
LAST-MODIFIED:20260418T190308Z
UID:10959-1782853200-1782869400@shakedownbarvail.com
SUMMARY:Lucas Parker and Jessica Paige
DESCRIPTION:Lucas Parker and Jessica Paige \nLucas Parker – Guitar/vocals \nJess Paige – Guitar/vocals \n*Doors open at listed event time\, live music typically starts 60-90 minutes after doors. End times are estimates.
URL:https://shakedownbarvail.com/event/lucas-parker-and-jessica-paige-73/
LOCATION:Shakedown Bar 304 Bridge St\, Vail\, CO  81657\, United States\, Shakedown Bar 304 Bridge St\, Vail\, CO 81657\, United States
ORGANIZER;CN="Shakedown Presents":MAILTO:info@shakedownbarvail.com
END:VEVENT
BEGIN:VEVENT
DTSTART;TZID=America/Denver:20260701T210000
DTEND;TZID=America/Denver:20260702T013000
DTSTAMP:20260419T163650
CREATED:20260418T190347Z
LAST-MODIFIED:20260418T190347Z
UID:10961-1782939600-1782955800@shakedownbarvail.com
SUMMARY:Scott Rednor
DESCRIPTION:Scott Rednor  \nScott Rednor – Guitars/vocals \n*Doors open at listed event time\, live music typically starts 60-90 minutes after doors. End times are estimates.
URL:https://shakedownbarvail.com/event/scott-rednor-103/
LOCATION:Shakedown Bar 304 Bridge St\, Vail\, CO  81657\, United States\, Shakedown Bar 304 Bridge St\, Vail\, CO 81657\, United States
ORGANIZER;CN="Shakedown Presents":MAILTO:info@shakedownbarvail.com
END:VEVENT
BEGIN:VEVENT
DTSTART;TZID=America/Denver:20260702T210000
DTEND;TZID=America/Denver:20260703T013000
DTSTAMP:20260419T163650
CREATED:20260418T190411Z
LAST-MODIFIED:20260418T190411Z
UID:10963-1783026000-1783042200@shakedownbarvail.com
SUMMARY:Scott Rednor Band 
DESCRIPTION:Scott Rednor Band  \nScott Rednor – Guitars/vocals \nKramer Kelling – Bass/vocals \nBrian Loftus – Drums \nTommy Shugart – Keyboards \n  \n*Doors open at listed event time\, live music typically starts 60-90 minutes after doors. End times are estimates.
URL:https://shakedownbarvail.com/event/scott-rednor-band-113/
LOCATION:Shakedown Bar 304 Bridge St\, Vail\, CO  81657\, United States\, Shakedown Bar 304 Bridge St\, Vail\, CO 81657\, United States
CATEGORIES:Full Band
ORGANIZER;CN="Shakedown Presents":MAILTO:info@shakedownbarvail.com
END:VEVENT
BEGIN:VEVENT
DTSTART;TZID=America/Denver:20260703T210000
DTEND;TZID=America/Denver:20260704T013000
DTSTAMP:20260419T163650
CREATED:20260418T190450Z
LAST-MODIFIED:20260418T190450Z
UID:10965-1783112400-1783128600@shakedownbarvail.com
SUMMARY:TBA
DESCRIPTION:TBA \n*Doors open at listed event time\, live music typically starts 60-90 minutes after doors. End times are estimates.
URL:https://shakedownbarvail.com/event/tba-79/
LOCATION:Shakedown Bar 304 Bridge St\, Vail\, CO  81657\, United States\, Shakedown Bar 304 Bridge St\, Vail\, CO 81657\, United States
ORGANIZER;CN="Shakedown Presents":MAILTO:info@shakedownbarvail.com
END:VEVENT
BEGIN:VEVENT
DTSTART;TZID=America/Denver:20260704T210000
DTEND;TZID=America/Denver:20260705T013000
DTSTAMP:20260419T163650
CREATED:20260418T190548Z
LAST-MODIFIED:20260418T190548Z
UID:10967-1783198800-1783215000@shakedownbarvail.com
SUMMARY:Shakedown Family Band
DESCRIPTION:Scott Rednor Band \nScott Rednor – Guitars/vocals \nKramer Kelling – Bass/vocals \nBrian Loftus – Drums \nTommy Shugart – Keyboards \n  \n*Doors open at listed event time\, live music typically starts 60-90 minutes after doors. End times are estimates.
URL:https://shakedownbarvail.com/event/shakedown-family-band-2/
LOCATION:Shakedown Bar 304 Bridge St\, Vail\, CO  81657\, United States\, Shakedown Bar 304 Bridge St\, Vail\, CO 81657\, United States
CATEGORIES:Full Band
ORGANIZER;CN="Shakedown Presents":MAILTO:info@shakedownbarvail.com
END:VEVENT
BEGIN:VEVENT
DTSTART;TZID=America/Denver:20260705T210000
DTEND;TZID=America/Denver:20260706T013000
DTSTAMP:20260419T163650
CREATED:20260418T190609Z
LAST-MODIFIED:20260418T190609Z
UID:10969-1783285200-1783301400@shakedownbarvail.com
SUMMARY:Lucas Parker and Jessica Paige
DESCRIPTION:Lucas Parker and Jessica Paige \nLucas Parker – Guitar/vocals \nJess Paige – Guitar/vocals \n*Doors open at listed event time\, live music typically starts 60-90 minutes after doors. End times are estimates.
URL:https://shakedownbarvail.com/event/lucas-parker-and-jessica-paige-74/
LOCATION:Shakedown Bar 304 Bridge St\, Vail\, CO  81657\, United States\, Shakedown Bar 304 Bridge St\, Vail\, CO 81657\, United States
ORGANIZER;CN="Shakedown Presents":MAILTO:info@shakedownbarvail.com
END:VEVENT
BEGIN:VEVENT
DTSTART;TZID=America/Denver:20260706T210000
DTEND;TZID=America/Denver:20260707T013000
DTSTAMP:20260419T163650
CREATED:20260418T190624Z
LAST-MODIFIED:20260418T190624Z
UID:10971-1783371600-1783387800@shakedownbarvail.com
SUMMARY:Lucas Parker and Jessica Paige
DESCRIPTION:Lucas Parker and Jessica Paige \nLucas Parker – Guitar/vocals \nJess Paige – Guitar/vocals \n*Doors open at listed event time\, live music typically starts 60-90 minutes after doors. End times are estimates.
URL:https://shakedownbarvail.com/event/lucas-parker-and-jessica-paige-75/
LOCATION:Shakedown Bar 304 Bridge St\, Vail\, CO  81657\, United States\, Shakedown Bar 304 Bridge St\, Vail\, CO 81657\, United States
ORGANIZER;CN="Shakedown Presents":MAILTO:info@shakedownbarvail.com
END:VEVENT
BEGIN:VEVENT
DTSTART;TZID=America/Denver:20260707T210000
DTEND;TZID=America/Denver:20260708T013000
DTSTAMP:20260419T163650
CREATED:20260418T190639Z
LAST-MODIFIED:20260418T190639Z
UID:10973-1783458000-1783474200@shakedownbarvail.com
SUMMARY:Lucas Parker and Jessica Paige
DESCRIPTION:Lucas Parker and Jessica Paige \nLucas Parker – Guitar/vocals \nJess Paige – Guitar/vocals \n*Doors open at listed event time\, live music typically starts 60-90 minutes after doors. End times are estimates.
URL:https://shakedownbarvail.com/event/lucas-parker-and-jessica-paige-76/
LOCATION:Shakedown Bar 304 Bridge St\, Vail\, CO  81657\, United States\, Shakedown Bar 304 Bridge St\, Vail\, CO 81657\, United States
ORGANIZER;CN="Shakedown Presents":MAILTO:info@shakedownbarvail.com
END:VEVENT
BEGIN:VEVENT
DTSTART;TZID=America/Denver:20260708T210000
DTEND;TZID=America/Denver:20260709T013000
DTSTAMP:20260419T163650
CREATED:20260418T190700Z
LAST-MODIFIED:20260418T190700Z
UID:10975-1783544400-1783560600@shakedownbarvail.com
SUMMARY:Kory Montgomery
DESCRIPTION:Kory Montgomery \nKory Montgomery – Guitar/vocals \n  \n*Doors open at listed event time\, live music typically starts 60-90 minutes after doors. End times are estimates
URL:https://shakedownbarvail.com/event/kory-montgomery-80/
LOCATION:Shakedown Bar 304 Bridge St\, Vail\, CO  81657\, United States\, Shakedown Bar 304 Bridge St\, Vail\, CO 81657\, United States
ORGANIZER;CN="Shakedown Presents":MAILTO:info@shakedownbarvail.com
END:VEVENT
BEGIN:VEVENT
DTSTART;TZID=America/Denver:20260709T210000
DTEND;TZID=America/Denver:20260710T013000
DTSTAMP:20260419T163650
CREATED:20260418T190731Z
LAST-MODIFIED:20260418T190731Z
UID:10977-1783630800-1783647000@shakedownbarvail.com
SUMMARY:Taylor Scott
DESCRIPTION:Taylor Scott – Guitar/vocals \n*Doors open at listed event time\, live music typically starts 60-90 minutes after doors. End times are estimates.
URL:https://shakedownbarvail.com/event/taylor-scott-9/
LOCATION:Shakedown Bar 304 Bridge St\, Vail\, CO  81657\, United States\, Shakedown Bar 304 Bridge St\, Vail\, CO 81657\, United States
ORGANIZER;CN="Shakedown Presents":MAILTO:info@shakedownbarvail.com
END:VEVENT
BEGIN:VEVENT
DTSTART;TZID=America/Denver:20260710T210000
DTEND;TZID=America/Denver:20260711T013000
DTSTAMP:20260419T163650
CREATED:20260418T190753Z
LAST-MODIFIED:20260418T190753Z
UID:10979-1783717200-1783733400@shakedownbarvail.com
SUMMARY:Scott Rednor Band 
DESCRIPTION:Scott Rednor Band  \nScott Rednor – Guitars/vocals \nKramer Kelling – Bass/vocals \nBrian Loftus – Drums \nTommy Shugart – Keyboards \n  \n*Doors open at listed event time\, live music typically starts 60-90 minutes after doors. End times are estimates.
URL:https://shakedownbarvail.com/event/scott-rednor-band-114/
LOCATION:Shakedown Bar 304 Bridge St\, Vail\, CO  81657\, United States\, Shakedown Bar 304 Bridge St\, Vail\, CO 81657\, United States
CATEGORIES:Full Band
ORGANIZER;CN="Shakedown Presents":MAILTO:info@shakedownbarvail.com
END:VEVENT
BEGIN:VEVENT
DTSTART;TZID=America/Denver:20260711T210000
DTEND;TZID=America/Denver:20260712T013000
DTSTAMP:20260419T163650
CREATED:20260418T190808Z
LAST-MODIFIED:20260418T190808Z
UID:10981-1783803600-1783819800@shakedownbarvail.com
SUMMARY:Scott Rednor Band 
DESCRIPTION:Scott Rednor Band  \nScott Rednor – Guitars/vocals \nKramer Kelling – Bass/vocals \nBrian Loftus – Drums \nTommy Shugart – Keyboards \n  \n*Doors open at listed event time\, live music typically starts 60-90 minutes after doors. End times are estimates.
URL:https://shakedownbarvail.com/event/scott-rednor-band-115/
LOCATION:Shakedown Bar 304 Bridge St\, Vail\, CO  81657\, United States\, Shakedown Bar 304 Bridge St\, Vail\, CO 81657\, United States
CATEGORIES:Full Band
ORGANIZER;CN="Shakedown Presents":MAILTO:info@shakedownbarvail.com
END:VEVENT
BEGIN:VEVENT
DTSTART;TZID=America/Denver:20260712T210000
DTEND;TZID=America/Denver:20260713T013000
DTSTAMP:20260419T163650
CREATED:20260418T190827Z
LAST-MODIFIED:20260418T190827Z
UID:10983-1783890000-1783906200@shakedownbarvail.com
SUMMARY:Lucas Parker and Jessica Paige
DESCRIPTION:Lucas Parker and Jessica Paige \nLucas Parker – Guitar/vocals \nJess Paige – Guitar/vocals \n*Doors open at listed event time\, live music typically starts 60-90 minutes after doors. End times are estimates.
URL:https://shakedownbarvail.com/event/lucas-parker-and-jessica-paige-77/
LOCATION:Shakedown Bar 304 Bridge St\, Vail\, CO  81657\, United States\, Shakedown Bar 304 Bridge St\, Vail\, CO 81657\, United States
ORGANIZER;CN="Shakedown Presents":MAILTO:info@shakedownbarvail.com
END:VEVENT
BEGIN:VEVENT
DTSTART;TZID=America/Denver:20260713T210000
DTEND;TZID=America/Denver:20260714T013000
DTSTAMP:20260419T163650
CREATED:20260418T190841Z
LAST-MODIFIED:20260418T190841Z
UID:10985-1783976400-1783992600@shakedownbarvail.com
SUMMARY:Lucas Parker and Jessica Paige
DESCRIPTION:Lucas Parker and Jessica Paige \nLucas Parker – Guitar/vocals \nJess Paige – Guitar/vocals \n*Doors open at listed event time\, live music typically starts 60-90 minutes after doors. End times are estimates.
URL:https://shakedownbarvail.com/event/lucas-parker-and-jessica-paige-78/
LOCATION:Shakedown Bar 304 Bridge St\, Vail\, CO  81657\, United States\, Shakedown Bar 304 Bridge St\, Vail\, CO 81657\, United States
ORGANIZER;CN="Shakedown Presents":MAILTO:info@shakedownbarvail.com
END:VEVENT
BEGIN:VEVENT
DTSTART;TZID=America/Denver:20260714T210000
DTEND;TZID=America/Denver:20260715T013000
DTSTAMP:20260419T163650
CREATED:20260418T190855Z
LAST-MODIFIED:20260418T190855Z
UID:10987-1784062800-1784079000@shakedownbarvail.com
SUMMARY:Lucas Parker and Jessica Paige
DESCRIPTION:Lucas Parker and Jessica Paige \nLucas Parker – Guitar/vocals \nJess Paige – Guitar/vocals \n*Doors open at listed event time\, live music typically starts 60-90 minutes after doors. End times are estimates.
URL:https://shakedownbarvail.com/event/lucas-parker-and-jessica-paige-79/
LOCATION:Shakedown Bar 304 Bridge St\, Vail\, CO  81657\, United States\, Shakedown Bar 304 Bridge St\, Vail\, CO 81657\, United States
ORGANIZER;CN="Shakedown Presents":MAILTO:info@shakedownbarvail.com
END:VEVENT
END:VCALENDAR