BEGIN:VCALENDAR
VERSION:2.0
PRODID:-//Shakedown Bar - ECPv6.15.14//NONSGML v1.0//EN
CALSCALE:GREGORIAN
METHOD:PUBLISH
X-ORIGINAL-URL:https://shakedownbarvail.com
X-WR-CALDESC:Events for Shakedown Bar
REFRESH-INTERVAL;VALUE=DURATION:PT1H
X-Robots-Tag:noindex
X-PUBLISHED-TTL:PT1H
BEGIN:VTIMEZONE
TZID:America/Denver
BEGIN:DAYLIGHT
TZOFFSETFROM:-0700
TZOFFSETTO:-0600
TZNAME:MDT
DTSTART:20250309T090000
END:DAYLIGHT
BEGIN:STANDARD
TZOFFSETFROM:-0600
TZOFFSETTO:-0700
TZNAME:MST
DTSTART:20251102T080000
END:STANDARD
BEGIN:DAYLIGHT
TZOFFSETFROM:-0700
TZOFFSETTO:-0600
TZNAME:MDT
DTSTART:20260308T090000
END:DAYLIGHT
BEGIN:STANDARD
TZOFFSETFROM:-0600
TZOFFSETTO:-0700
TZNAME:MST
DTSTART:20261101T080000
END:STANDARD
BEGIN:DAYLIGHT
TZOFFSETFROM:-0700
TZOFFSETTO:-0600
TZNAME:MDT
DTSTART:20270314T090000
END:DAYLIGHT
BEGIN:STANDARD
TZOFFSETFROM:-0600
TZOFFSETTO:-0700
TZNAME:MST
DTSTART:20271107T080000
END:STANDARD
END:VTIMEZONE
BEGIN:VEVENT
DTSTART;TZID=America/Denver:20260404T210000
DTEND;TZID=America/Denver:20260405T013000
DTSTAMP:20260419T191807
CREATED:20260302T215051Z
LAST-MODIFIED:20260302T215051Z
UID:10829-1775336400-1775352600@shakedownbarvail.com
SUMMARY:Taylor Scott Band
DESCRIPTION:Taylor Scott Band \nTaylor Scott – Guitar/vocals \n*Doors open at listed event time\, live music typically starts 60-90 minutes after doors. End times are estimates.
URL:https://shakedownbarvail.com/event/taylor-scott-band-46/
LOCATION:Shakedown Bar 304 Bridge St\, Vail\, CO  81657\, United States\, Shakedown Bar 304 Bridge St\, Vail\, CO 81657\, United States
CATEGORIES:Full Band
ORGANIZER;CN="Shakedown Presents":MAILTO:info@shakedownbarvail.com
END:VEVENT
BEGIN:VEVENT
DTSTART;TZID=America/Denver:20260405T220000
DTEND;TZID=America/Denver:20260406T013000
DTSTAMP:20260419T191807
CREATED:20260302T215122Z
LAST-MODIFIED:20260404T234955Z
UID:10831-1775426400-1775439000@shakedownbarvail.com
SUMMARY:Full Circle
DESCRIPTION:Full Circle \n*Doors open at listed event time\, live music typically starts 60-90 minutes after doors. End times are estimates.
URL:https://shakedownbarvail.com/event/full-circle-4/
LOCATION:Shakedown Bar 304 Bridge St\, Vail\, CO  81657\, United States\, Shakedown Bar 304 Bridge St\, Vail\, CO 81657\, United States
ORGANIZER;CN="Shakedown Presents":MAILTO:info@shakedownbarvail.com
END:VEVENT
BEGIN:VEVENT
DTSTART;VALUE=DATE:20260406
DTEND;VALUE=DATE:20260409
DTSTAMP:20260419T191807
CREATED:20260310T190722Z
LAST-MODIFIED:20260404T235352Z
UID:10851-1775444400-1775617199@shakedownbarvail.com
SUMMARY:CLOSED
DESCRIPTION:CLOSED \n*Doors open at listed event time\, live music typically starts 60-90 minutes after doors. End times are estimates.
URL:https://shakedownbarvail.com/event/tba-74/
LOCATION:Shakedown Bar 304 Bridge St\, Vail\, CO  81657\, United States\, Shakedown Bar 304 Bridge St\, Vail\, CO 81657\, United States
ORGANIZER;CN="Shakedown Presents":MAILTO:info@shakedownbarvail.com
END:VEVENT
BEGIN:VEVENT
DTSTART;VALUE=DATE:20260407
DTEND;VALUE=DATE:20260410
DTSTAMP:20260419T191807
CREATED:20260302T215213Z
LAST-MODIFIED:20260404T235523Z
UID:10833-1775530800-1775703599@shakedownbarvail.com
SUMMARY:CLOSED
DESCRIPTION:CLOSED \n*Doors open at listed event time\, live music typically starts 60-90 minutes after doors. End times are estimates.
URL:https://shakedownbarvail.com/event/scott-rednor-91/
LOCATION:Shakedown Bar 304 Bridge St\, Vail\, CO  81657\, United States\, Shakedown Bar 304 Bridge St\, Vail\, CO 81657\, United States
ORGANIZER;CN="Shakedown Presents":MAILTO:info@shakedownbarvail.com
END:VEVENT
BEGIN:VEVENT
DTSTART;VALUE=DATE:20260408
DTEND;VALUE=DATE:20260410
DTSTAMP:20260419T191807
CREATED:20260302T215244Z
LAST-MODIFIED:20260408T133742Z
UID:10835-1775617200-1775703599@shakedownbarvail.com
SUMMARY:CLOSED
DESCRIPTION:CLOSED
URL:https://shakedownbarvail.com/event/dave-tucker-6/
LOCATION:Shakedown Bar 304 Bridge St\, Vail\, CO  81657\, United States\, Shakedown Bar 304 Bridge St\, Vail\, CO 81657\, United States
CATEGORIES:Full Band
ORGANIZER;CN="Shakedown Presents":MAILTO:info@shakedownbarvail.com
END:VEVENT
BEGIN:VEVENT
DTSTART;TZID=America/Denver:20260409T210000
DTEND;TZID=America/Denver:20260410T013000
DTSTAMP:20260419T191807
CREATED:20260302T215409Z
LAST-MODIFIED:20260404T235723Z
UID:10839-1775768400-1775784600@shakedownbarvail.com
SUMMARY:Lucas Parker and Jessica Paige
DESCRIPTION:Lucas Parker and Jessica Paige \nLucas Parker – Guitar/vocals \nJess Paige – Guitar/vocals \n*Doors open at listed event time\, live music typically starts 60-90 minutes after doors. End times are estimates.
URL:https://shakedownbarvail.com/event/lucas-parker-and-jessica-paige-65/
LOCATION:Shakedown Bar 304 Bridge St\, Vail\, CO  81657\, United States\, Shakedown Bar 304 Bridge St\, Vail\, CO 81657\, United States
ORGANIZER;CN="Shakedown Presents":MAILTO:info@shakedownbarvail.com
END:VEVENT
BEGIN:VEVENT
DTSTART;TZID=America/Denver:20260410T180000
DTEND;TZID=America/Denver:20260410T200000
DTSTAMP:20260419T191807
CREATED:20260302T215443Z
LAST-MODIFIED:20260404T235806Z
UID:10841-1775844000-1775851200@shakedownbarvail.com
SUMMARY:Lucas Parker and Jessica Paige Apres
DESCRIPTION:Lucas Parker and Jessica Paige \nLucas Parker – Guitar/vocals \nJess Paige – Guitar/vocals \n*Doors open at listed event time\, live music typically starts 60-90 minutes after doors. End times are estimates.
URL:https://shakedownbarvail.com/event/lucas-parker-and-jessica-paige-apres-8/
LOCATION:Shakedown Bar 304 Bridge St\, Vail\, CO  81657\, United States\, Shakedown Bar 304 Bridge St\, Vail\, CO 81657\, United States
CATEGORIES:Aprés
ORGANIZER;CN="Shakedown Presents":MAILTO:info@shakedownbarvail.com
END:VEVENT
BEGIN:VEVENT
DTSTART;TZID=America/Denver:20260410T210000
DTEND;TZID=America/Denver:20260411T013000
DTSTAMP:20260419T191807
CREATED:20260302T215539Z
LAST-MODIFIED:20260302T215539Z
UID:10843-1775854800-1775871000@shakedownbarvail.com
SUMMARY:Scott Rednor Band 
DESCRIPTION:Scott Rednor Band  \nScott Rednor – Guitars/vocals \nKramer Kelling – Bass/vocals \nBrian Loftus – Drums \nTommy Shugart – Keyboards \n  \n*Doors open at listed event time\, live music typically starts 60-90 minutes after doors. End times are estimates.
URL:https://shakedownbarvail.com/event/scott-rednor-band-106/
LOCATION:Shakedown Bar 304 Bridge St\, Vail\, CO  81657\, United States\, Shakedown Bar 304 Bridge St\, Vail\, CO 81657\, United States
CATEGORIES:Full Band
ORGANIZER;CN="Shakedown Presents":MAILTO:info@shakedownbarvail.com
END:VEVENT
BEGIN:VEVENT
DTSTART;TZID=America/Denver:20260411T140000
DTEND;TZID=America/Denver:20260411T170000
DTSTAMP:20260419T191807
CREATED:20260310T191051Z
LAST-MODIFIED:20260404T235917Z
UID:10855-1775916000-1775926800@shakedownbarvail.com
SUMMARY:Private Party
DESCRIPTION:*Doors open at listed event time\, live music typically starts 60-90 minutes after doors. End times are estimates.
URL:https://shakedownbarvail.com/event/tba-75/
LOCATION:Shakedown Bar 304 Bridge St\, Vail\, CO  81657\, United States\, Shakedown Bar 304 Bridge St\, Vail\, CO 81657\, United States
CATEGORIES:Aprés
ORGANIZER;CN="Shakedown Presents":MAILTO:info@shakedownbarvail.com
END:VEVENT
BEGIN:VEVENT
DTSTART;TZID=America/Denver:20260411T180000
DTEND;TZID=America/Denver:20260411T210000
DTSTAMP:20260419T191807
CREATED:20260405T000046Z
LAST-MODIFIED:20260418T182517Z
UID:10876-1775930400-1775941200@shakedownbarvail.com
SUMMARY:Quadrasonic
DESCRIPTION:Quadrasonic
URL:https://shakedownbarvail.com/event/open-to-the-public/
LOCATION:Shakedown Bar 304 Bridge St\, Vail\, CO  81657\, United States\, Shakedown Bar 304 Bridge St\, Vail\, CO 81657\, United States
ORGANIZER;CN="Shakedown Presents":MAILTO:info@shakedownbarvail.com
END:VEVENT
BEGIN:VEVENT
DTSTART;TZID=America/Denver:20260411T220000
DTEND;TZID=America/Denver:20260412T013000
DTSTAMP:20260419T191807
CREATED:20260310T190955Z
LAST-MODIFIED:20260310T190955Z
UID:10853-1775944800-1775957400@shakedownbarvail.com
SUMMARY:Closed for Private Event
DESCRIPTION:*Doors open at listed event time\, live music typically starts 60-90 minutes after doors. End times are estimates.
URL:https://shakedownbarvail.com/event/closed-for-private-event-3/
LOCATION:Shakedown Bar 304 Bridge St\, Vail\, CO  81657\, United States\, Shakedown Bar 304 Bridge St\, Vail\, CO 81657\, United States
ORGANIZER;CN="Shakedown Presents":MAILTO:info@shakedownbarvail.com
END:VEVENT
BEGIN:VEVENT
DTSTART;VALUE=DATE:20260412
DTEND;VALUE=DATE:20260422
DTSTAMP:20260419T191807
CREATED:20260310T191315Z
LAST-MODIFIED:20260418T182653Z
UID:10859-1775962800-1776740399@shakedownbarvail.com
SUMMARY:CLOSED
DESCRIPTION:CLOSED
URL:https://shakedownbarvail.com/event/closed-131/
LOCATION:Shakedown Bar 304 Bridge St\, Vail\, CO  81657\, United States\, Shakedown Bar 304 Bridge St\, Vail\, CO 81657\, United States
CATEGORIES:Full Band
ORGANIZER;CN="Shakedown Presents":MAILTO:info@shakedownbarvail.com
END:VEVENT
BEGIN:VEVENT
DTSTART;TZID=America/Denver:20260421T180000
DTEND;TZID=America/Denver:20260421T210000
DTSTAMP:20260419T191807
CREATED:20260418T182806Z
LAST-MODIFIED:20260418T182806Z
UID:10881-1776794400-1776805200@shakedownbarvail.com
SUMMARY:Chasing Rabbits Private Party
DESCRIPTION:  \n*Doors open at listed event time\, live music typically starts 60-90 minutes after doors. End times are estimates.
URL:https://shakedownbarvail.com/event/chasing-rabbits-private-party/
LOCATION:Shakedown Bar 304 Bridge St\, Vail\, CO  81657\, United States\, Shakedown Bar 304 Bridge St\, Vail\, CO 81657\, United States
CATEGORIES:Full Band
ORGANIZER;CN="Shakedown Presents":MAILTO:info@shakedownbarvail.com
END:VEVENT
BEGIN:VEVENT
DTSTART;VALUE=DATE:20260422
DTEND;VALUE=DATE:20260516
DTSTAMP:20260419T191807
CREATED:20260310T191714Z
LAST-MODIFIED:20260418T182842Z
UID:10867-1776826800-1778813999@shakedownbarvail.com
SUMMARY:Closed for Off-Season
DESCRIPTION:CLOSED
URL:https://shakedownbarvail.com/event/closed-for-off-season-2/
LOCATION:Shakedown Bar 304 Bridge St\, Vail\, CO  81657\, United States\, Shakedown Bar 304 Bridge St\, Vail\, CO 81657\, United States
CATEGORIES:Full Band
ORGANIZER;CN="Shakedown Presents":MAILTO:info@shakedownbarvail.com
END:VEVENT
BEGIN:VEVENT
DTSTART;TZID=America/Denver:20260515T210000
DTEND;TZID=America/Denver:20260516T013000
DTSTAMP:20260419T191807
CREATED:20260418T183302Z
LAST-MODIFIED:20260418T183302Z
UID:10883-1778878800-1778895000@shakedownbarvail.com
SUMMARY:Scott Rednor
DESCRIPTION:Scott Rednor  \nScott Rednor – Guitars/vocals \n*Doors open at listed event time\, live music typically starts 60-90 minutes after doors. End times are estimates.
URL:https://shakedownbarvail.com/event/scott-rednor-100/
LOCATION:Shakedown Bar 304 Bridge St\, Vail\, CO  81657\, United States\, Shakedown Bar 304 Bridge St\, Vail\, CO 81657\, United States
ORGANIZER;CN="Shakedown Presents":MAILTO:info@shakedownbarvail.com
END:VEVENT
BEGIN:VEVENT
DTSTART;TZID=America/Denver:20260516T210000
DTEND;TZID=America/Denver:20260517T013000
DTSTAMP:20260419T191807
CREATED:20260418T183426Z
LAST-MODIFIED:20260418T183426Z
UID:10885-1778965200-1778981400@shakedownbarvail.com
SUMMARY:Scott Rednor Band 
DESCRIPTION:Scott Rednor Band  \nScott Rednor – Guitars/vocals \nKramer Kelling – Bass/vocals \nBrian Loftus – Drums \nTommy Shugart – Keyboards \n  \n*Doors open at listed event time\, live music typically starts 60-90 minutes after doors. End times are estimates.
URL:https://shakedownbarvail.com/event/scott-rednor-band-107/
LOCATION:Shakedown Bar 304 Bridge St\, Vail\, CO  81657\, United States\, Shakedown Bar 304 Bridge St\, Vail\, CO 81657\, United States
CATEGORIES:Full Band
ORGANIZER;CN="Shakedown Presents":MAILTO:info@shakedownbarvail.com
END:VEVENT
BEGIN:VEVENT
DTSTART;VALUE=DATE:20260517
DTEND;VALUE=DATE:20260522
DTSTAMP:20260419T191807
CREATED:20260418T183523Z
LAST-MODIFIED:20260418T183523Z
UID:10887-1778986800-1779332399@shakedownbarvail.com
SUMMARY:CLOSED
DESCRIPTION:CLOSED
URL:https://shakedownbarvail.com/event/closed-132/
LOCATION:Shakedown Bar 304 Bridge St\, Vail\, CO  81657\, United States\, Shakedown Bar 304 Bridge St\, Vail\, CO 81657\, United States
CATEGORIES:Closed
ORGANIZER;CN="Shakedown Presents":MAILTO:info@shakedownbarvail.com
END:VEVENT
BEGIN:VEVENT
DTSTART;TZID=America/Denver:20260521T210000
DTEND;TZID=America/Denver:20260522T013000
DTSTAMP:20260419T191807
CREATED:20260418T183554Z
LAST-MODIFIED:20260418T183554Z
UID:10889-1779397200-1779413400@shakedownbarvail.com
SUMMARY:Scott Rednor
DESCRIPTION:Scott Rednor  \nScott Rednor – Guitars/vocals \n*Doors open at listed event time\, live music typically starts 60-90 minutes after doors. End times are estimates.
URL:https://shakedownbarvail.com/event/scott-rednor-101/
LOCATION:Shakedown Bar 304 Bridge St\, Vail\, CO  81657\, United States\, Shakedown Bar 304 Bridge St\, Vail\, CO 81657\, United States
ORGANIZER;CN="Shakedown Presents":MAILTO:info@shakedownbarvail.com
END:VEVENT
BEGIN:VEVENT
DTSTART;TZID=America/Denver:20260522T210000
DTEND;TZID=America/Denver:20260523T013000
DTSTAMP:20260419T191807
CREATED:20260418T183624Z
LAST-MODIFIED:20260418T183624Z
UID:10891-1779483600-1779499800@shakedownbarvail.com
SUMMARY:Scott Rednor Band 
DESCRIPTION:Scott Rednor Band  \nScott Rednor – Guitars/vocals \nKramer Kelling – Bass/vocals \nBrian Loftus – Drums \nTommy Shugart – Keyboards \n  \n*Doors open at listed event time\, live music typically starts 60-90 minutes after doors. End times are estimates.
URL:https://shakedownbarvail.com/event/scott-rednor-band-108/
LOCATION:Shakedown Bar 304 Bridge St\, Vail\, CO  81657\, United States\, Shakedown Bar 304 Bridge St\, Vail\, CO 81657\, United States
CATEGORIES:Full Band
ORGANIZER;CN="Shakedown Presents":MAILTO:info@shakedownbarvail.com
END:VEVENT
BEGIN:VEVENT
DTSTART;TZID=America/Denver:20260523T210000
DTEND;TZID=America/Denver:20260524T013000
DTSTAMP:20260419T191807
CREATED:20260418T183655Z
LAST-MODIFIED:20260418T183655Z
UID:10893-1779570000-1779586200@shakedownbarvail.com
SUMMARY:TBA
DESCRIPTION:TBA \n*Doors open at listed event time\, live music typically starts 60-90 minutes after doors. End times are estimates.
URL:https://shakedownbarvail.com/event/tba-76/
LOCATION:Shakedown Bar 304 Bridge St\, Vail\, CO  81657\, United States\, Shakedown Bar 304 Bridge St\, Vail\, CO 81657\, United States
ORGANIZER;CN="Shakedown Presents":MAILTO:info@shakedownbarvail.com
END:VEVENT
BEGIN:VEVENT
DTSTART;VALUE=DATE:20260524
DTEND;VALUE=DATE:20260529
DTSTAMP:20260419T191807
CREATED:20260418T183721Z
LAST-MODIFIED:20260418T183721Z
UID:10895-1779591600-1779937199@shakedownbarvail.com
SUMMARY:CLOSED
DESCRIPTION:CLOSED
URL:https://shakedownbarvail.com/event/closed-133/
LOCATION:Shakedown Bar 304 Bridge St\, Vail\, CO  81657\, United States\, Shakedown Bar 304 Bridge St\, Vail\, CO 81657\, United States
CATEGORIES:Closed
ORGANIZER;CN="Shakedown Presents":MAILTO:info@shakedownbarvail.com
END:VEVENT
BEGIN:VEVENT
DTSTART;TZID=America/Denver:20260528T210000
DTEND;TZID=America/Denver:20260529T013000
DTSTAMP:20260419T191807
CREATED:20260418T183744Z
LAST-MODIFIED:20260418T183744Z
UID:10897-1780002000-1780018200@shakedownbarvail.com
SUMMARY:TBA
DESCRIPTION:TBA \n*Doors open at listed event time\, live music typically starts 60-90 minutes after doors. End times are estimates.
URL:https://shakedownbarvail.com/event/tba-77/
LOCATION:Shakedown Bar 304 Bridge St\, Vail\, CO  81657\, United States\, Shakedown Bar 304 Bridge St\, Vail\, CO 81657\, United States
ORGANIZER;CN="Shakedown Presents":MAILTO:info@shakedownbarvail.com
END:VEVENT
BEGIN:VEVENT
DTSTART;TZID=America/Denver:20260529T210000
DTEND;TZID=America/Denver:20260530T013000
DTSTAMP:20260419T191807
CREATED:20260418T183810Z
LAST-MODIFIED:20260418T183810Z
UID:10899-1780088400-1780104600@shakedownbarvail.com
SUMMARY:Scott Rednor Band 
DESCRIPTION:Scott Rednor Band  \nScott Rednor – Guitars/vocals \nKramer Kelling – Bass/vocals \nBrian Loftus – Drums \nTommy Shugart – Keyboards \n  \n*Doors open at listed event time\, live music typically starts 60-90 minutes after doors. End times are estimates.
URL:https://shakedownbarvail.com/event/scott-rednor-band-109/
LOCATION:Shakedown Bar 304 Bridge St\, Vail\, CO  81657\, United States\, Shakedown Bar 304 Bridge St\, Vail\, CO 81657\, United States
CATEGORIES:Full Band
ORGANIZER;CN="Shakedown Presents":MAILTO:info@shakedownbarvail.com
END:VEVENT
BEGIN:VEVENT
DTSTART;TZID=America/Denver:20260530T210000
DTEND;TZID=America/Denver:20260531T013000
DTSTAMP:20260419T191807
CREATED:20260418T183842Z
LAST-MODIFIED:20260418T183842Z
UID:10901-1780174800-1780191000@shakedownbarvail.com
SUMMARY:Scott Rednor Band 
DESCRIPTION:Scott Rednor Band  \nScott Rednor – Guitars/vocals \nKramer Kelling – Bass/vocals \nBrian Loftus – Drums \nTommy Shugart – Keyboards \n  \n*Doors open at listed event time\, live music typically starts 60-90 minutes after doors. End times are estimates.
URL:https://shakedownbarvail.com/event/scott-rednor-band-110/
LOCATION:Shakedown Bar 304 Bridge St\, Vail\, CO  81657\, United States\, Shakedown Bar 304 Bridge St\, Vail\, CO 81657\, United States
CATEGORIES:Full Band
ORGANIZER;CN="Shakedown Presents":MAILTO:info@shakedownbarvail.com
END:VEVENT
BEGIN:VEVENT
DTSTART;TZID=America/Denver:20260531T210000
DTEND;TZID=America/Denver:20260601T013000
DTSTAMP:20260419T191807
CREATED:20260418T183942Z
LAST-MODIFIED:20260418T183942Z
UID:10903-1780261200-1780277400@shakedownbarvail.com
SUMMARY:Johnny Schleper
DESCRIPTION:Johnny Schleper – Guitar/vocals \n*Doors open at listed event time\, live music typically starts 60-90 minutes after doors. End times are estimates.
URL:https://shakedownbarvail.com/event/johnny-schleper-2/
LOCATION:Shakedown Bar 304 Bridge St\, Vail\, CO  81657\, United States\, Shakedown Bar 304 Bridge St\, Vail\, CO 81657\, United States
END:VEVENT
BEGIN:VEVENT
DTSTART;VALUE=DATE:20260601
DTEND;VALUE=DATE:20260604
DTSTAMP:20260419T191807
CREATED:20260418T184010Z
LAST-MODIFIED:20260418T184010Z
UID:10905-1780282800-1780455599@shakedownbarvail.com
SUMMARY:CLOSED
DESCRIPTION:CLOSED
URL:https://shakedownbarvail.com/event/closed-134/
LOCATION:Shakedown Bar 304 Bridge St\, Vail\, CO  81657\, United States\, Shakedown Bar 304 Bridge St\, Vail\, CO 81657\, United States
CATEGORIES:Closed
ORGANIZER;CN="Shakedown Presents":MAILTO:info@shakedownbarvail.com
END:VEVENT
BEGIN:VEVENT
DTSTART;TZID=America/Denver:20260603T210000
DTEND;TZID=America/Denver:20260604T013000
DTSTAMP:20260419T191807
CREATED:20260418T184116Z
LAST-MODIFIED:20260418T184116Z
UID:10907-1780520400-1780536600@shakedownbarvail.com
SUMMARY:Scott Rednor Band after Trey Anastasio at The Amp
DESCRIPTION:Scott Rednor Band  \nScott Rednor – Guitars/vocals \nKramer Kelling – Bass/vocals \nBrian Loftus – Drums \nTommy Shugart – Keyboards \n  \n*Doors open at listed event time\, live music typically starts 60-90 minutes after doors. End times are estimates.
URL:https://shakedownbarvail.com/event/scott-rednor-band-after-trey-anastasio-at-the-amp/
LOCATION:Shakedown Bar 304 Bridge St\, Vail\, CO  81657\, United States\, Shakedown Bar 304 Bridge St\, Vail\, CO 81657\, United States
CATEGORIES:Full Band
ORGANIZER;CN="Shakedown Presents":MAILTO:info@shakedownbarvail.com
END:VEVENT
BEGIN:VEVENT
DTSTART;TZID=America/Denver:20260604T210000
DTEND;TZID=America/Denver:20260605T013000
DTSTAMP:20260419T191807
CREATED:20260418T184143Z
LAST-MODIFIED:20260418T184143Z
UID:10909-1780606800-1780623000@shakedownbarvail.com
SUMMARY:Scott Rednor
DESCRIPTION:Scott Rednor  \nScott Rednor – Guitars/vocals \n*Doors open at listed event time\, live music typically starts 60-90 minutes after doors. End times are estimates.
URL:https://shakedownbarvail.com/event/scott-rednor-102/
LOCATION:Shakedown Bar 304 Bridge St\, Vail\, CO  81657\, United States\, Shakedown Bar 304 Bridge St\, Vail\, CO 81657\, United States
ORGANIZER;CN="Shakedown Presents":MAILTO:info@shakedownbarvail.com
END:VEVENT
BEGIN:VEVENT
DTSTART;TZID=America/Denver:20260605T210000
DTEND;TZID=America/Denver:20260606T013000
DTSTAMP:20260419T191807
CREATED:20260418T184325Z
LAST-MODIFIED:20260418T184325Z
UID:10911-1780693200-1780709400@shakedownbarvail.com
SUMMARY:Kory Montgomery Band
DESCRIPTION:Kory Montgomery Band \nKory Montgomery – Guitar/vocals \nKramer Kelling – Bass/vocals \nMark Levy – Drums \n  \n*Doors open at listed event time\, live music typically starts 60-90 minutes after doors. End times are estimates.
URL:https://shakedownbarvail.com/event/kory-montgomery-band-44/
LOCATION:Shakedown Bar 304 Bridge St\, Vail\, CO  81657\, United States\, Shakedown Bar 304 Bridge St\, Vail\, CO 81657\, United States
CATEGORIES:Full Band
ORGANIZER;CN="Shakedown Presents":MAILTO:info@shakedownbarvail.com
END:VEVENT
BEGIN:VEVENT
DTSTART;TZID=America/Denver:20260606T210000
DTEND;TZID=America/Denver:20260607T013000
DTSTAMP:20260419T191807
CREATED:20260418T184359Z
LAST-MODIFIED:20260418T184359Z
UID:10913-1780779600-1780795800@shakedownbarvail.com
SUMMARY:Scott Rednor Band 
DESCRIPTION:Scott Rednor Band  \nScott Rednor – Guitars/vocals \nKramer Kelling – Bass/vocals \nBrian Loftus – Drums \nTommy Shugart – Keyboards \n  \n*Doors open at listed event time\, live music typically starts 60-90 minutes after doors. End times are estimates.
URL:https://shakedownbarvail.com/event/scott-rednor-band-111/
LOCATION:Shakedown Bar 304 Bridge St\, Vail\, CO  81657\, United States\, Shakedown Bar 304 Bridge St\, Vail\, CO 81657\, United States
CATEGORIES:Full Band
ORGANIZER;CN="Shakedown Presents":MAILTO:info@shakedownbarvail.com
END:VEVENT
END:VCALENDAR