BEGIN:VCALENDAR
VERSION:2.0
PRODID:-//Shakedown Bar - ECPv6.15.14//NONSGML v1.0//EN
CALSCALE:GREGORIAN
METHOD:PUBLISH
X-WR-CALNAME:Shakedown Bar
X-ORIGINAL-URL:https://shakedownbarvail.com
X-WR-CALDESC:Events for Shakedown Bar
REFRESH-INTERVAL;VALUE=DURATION:PT1H
X-Robots-Tag:noindex
X-PUBLISHED-TTL:PT1H
BEGIN:VTIMEZONE
TZID:America/Denver
BEGIN:DAYLIGHT
TZOFFSETFROM:-0700
TZOFFSETTO:-0600
TZNAME:MDT
DTSTART:20220313T090000
END:DAYLIGHT
BEGIN:STANDARD
TZOFFSETFROM:-0600
TZOFFSETTO:-0700
TZNAME:MST
DTSTART:20221106T080000
END:STANDARD
BEGIN:DAYLIGHT
TZOFFSETFROM:-0700
TZOFFSETTO:-0600
TZNAME:MDT
DTSTART:20230312T090000
END:DAYLIGHT
BEGIN:STANDARD
TZOFFSETFROM:-0600
TZOFFSETTO:-0700
TZNAME:MST
DTSTART:20231105T080000
END:STANDARD
BEGIN:DAYLIGHT
TZOFFSETFROM:-0700
TZOFFSETTO:-0600
TZNAME:MDT
DTSTART:20240310T090000
END:DAYLIGHT
BEGIN:STANDARD
TZOFFSETFROM:-0600
TZOFFSETTO:-0700
TZNAME:MST
DTSTART:20241103T080000
END:STANDARD
END:VTIMEZONE
BEGIN:VEVENT
DTSTART;TZID=America/Denver:20230704T200000
DTEND;TZID=America/Denver:20230705T013000
DTSTAMP:20260423T040113
CREATED:20230519T192648Z
LAST-MODIFIED:20230630T214851Z
UID:7770-1688500800-1688520600@shakedownbarvail.com
SUMMARY:Dylan & The Dead feat. Barry Sless\, Ross James\, Mark Levy
DESCRIPTION:Scott Rednor – Guitar/vocals \nBarry Sless (Bobby Weir & The Wolf Pack) – Guitar/Pedal Steel \nRoss James (Jimi’s Dead) – Bass/Vocals \nMark Levy (Circles Around The Sun) – Drums \nTyler Adams – Keyboards/vocals \n  \n*Doors open at listed event time\, live music typically starts 60-90 minutes after doors. End times are estimates.
URL:https://shakedownbarvail.com/event/shakedown-family-grateful-dead-jam-feat-barry-sless-ross-james-mark-levy/
LOCATION:Shakedown Bar 304 Bridge St\, Vail\, CO  81657\, United States\, Shakedown Bar 304 Bridge St\, Vail\, CO 81657\, United States
CATEGORIES:Events,Full Band,Supergroup
ORGANIZER;CN="Shakedown Presents":MAILTO:info@shakedownbarvail.com
END:VEVENT
BEGIN:VEVENT
DTSTART;TZID=America/Denver:20230610T200000
DTEND;TZID=America/Denver:20230611T013000
DTSTAMP:20260423T040113
CREATED:20230518T213134Z
LAST-MODIFIED:20230607T012131Z
UID:7730-1686427200-1686447000@shakedownbarvail.com
SUMMARY:Shakedown Family Jam featuring Adam MacDougall\, Mark Levy\, Kramer Kelling\, Scott Rednor\, Guests
DESCRIPTION:Shakedown Family Band featuring \nAdam MacDougall – Keyboards \nMark Levy – Drums \nScott Rednor – Guitar/vocals \nKramer Kelling – Bass/vocals \n*Doors open at listed event time\, live music typically starts 60-90 minutes after doors. End times are estimates.
URL:https://shakedownbarvail.com/event/shakedown-family-jam/
LOCATION:Shakedown Bar 304 Bridge St\, Vail\, CO  81657\, United States\, Shakedown Bar 304 Bridge St\, Vail\, CO 81657\, United States
CATEGORIES:Events,Full Band,Supergroup
ORGANIZER;CN="Shakedown Presents":MAILTO:info@shakedownbarvail.com
END:VEVENT
BEGIN:VEVENT
DTSTART;TZID=America/Denver:20230608T200000
DTEND;TZID=America/Denver:20230609T013000
DTSTAMP:20260423T040113
CREATED:20230518T211505Z
LAST-MODIFIED:20230530T194650Z
UID:7726-1686254400-1686274200@shakedownbarvail.com
SUMMARY:Shakedown Family Band featuring Joey Porter\, Garrett Sayer\, Dave Watts plus more special guests!
DESCRIPTION:Shakedown Family Band featuring \nJoey Porter – Keyboards \nGarrett Sayer – Bass \nDave Watts – Drums \nScott Rednor – Guitar/vocals \nSarah Clarke – Vocals \n  \n*Doors open at listed event time\, live music typically starts 60-90 minutes after doors. End times are estimates.
URL:https://shakedownbarvail.com/event/shakedown-family-band-featuring-joey-porter-garrett-sayer-dave-watts-plus-more-special-guests/
LOCATION:Shakedown Bar 304 Bridge St\, Vail\, CO  81657\, United States\, Shakedown Bar 304 Bridge St\, Vail\, CO 81657\, United States
CATEGORIES:Events,Supergroup
ORGANIZER;CN="Shakedown Presents":MAILTO:info@shakedownbarvail.com
END:VEVENT
END:VCALENDAR