BEGIN:VCALENDAR
VERSION:2.0
PRODID:-//Shakedown Bar - ECPv6.15.14//NONSGML v1.0//EN
CALSCALE:GREGORIAN
METHOD:PUBLISH
X-WR-CALNAME:Shakedown Bar
X-ORIGINAL-URL:https://shakedownbarvail.com
X-WR-CALDESC:Events for Shakedown Bar
REFRESH-INTERVAL;VALUE=DURATION:PT1H
X-Robots-Tag:noindex
X-PUBLISHED-TTL:PT1H
BEGIN:VTIMEZONE
TZID:America/Denver
BEGIN:DAYLIGHT
TZOFFSETFROM:-0700
TZOFFSETTO:-0600
TZNAME:MDT
DTSTART:20220313T090000
END:DAYLIGHT
BEGIN:STANDARD
TZOFFSETFROM:-0600
TZOFFSETTO:-0700
TZNAME:MST
DTSTART:20221106T080000
END:STANDARD
BEGIN:DAYLIGHT
TZOFFSETFROM:-0700
TZOFFSETTO:-0600
TZNAME:MDT
DTSTART:20230312T090000
END:DAYLIGHT
BEGIN:STANDARD
TZOFFSETFROM:-0600
TZOFFSETTO:-0700
TZNAME:MST
DTSTART:20231105T080000
END:STANDARD
BEGIN:DAYLIGHT
TZOFFSETFROM:-0700
TZOFFSETTO:-0600
TZNAME:MDT
DTSTART:20240310T090000
END:DAYLIGHT
BEGIN:STANDARD
TZOFFSETFROM:-0600
TZOFFSETTO:-0700
TZNAME:MST
DTSTART:20241103T080000
END:STANDARD
END:VTIMEZONE
BEGIN:VEVENT
DTSTART;TZID=America/Denver:20230906T210000
DTEND;TZID=America/Denver:20230907T013000
DTSTAMP:20260423T082747
CREATED:20230718T030604Z
LAST-MODIFIED:20230718T030604Z
UID:7975-1694034000-1694050200@shakedownbarvail.com
SUMMARY:Kory Montgomery Solo
DESCRIPTION:Kory Montgomery – Guitar/vocals \n  \n*Doors open at listed event time\, live music typically starts 60-90 minutes after doors. End times are estimates.
URL:https://shakedownbarvail.com/event/kory-montgomery-solo-13/
LOCATION:Shakedown Bar 304 Bridge St\, Vail\, CO  81657\, United States\, Shakedown Bar 304 Bridge St\, Vail\, CO 81657\, United States
CATEGORIES:Events,Solo
ORGANIZER;CN="Shakedown Presents":MAILTO:info@shakedownbarvail.com
END:VEVENT
BEGIN:VEVENT
DTSTART;TZID=America/Denver:20230914T210000
DTEND;TZID=America/Denver:20230915T013000
DTSTAMP:20260423T082747
CREATED:20230827T154137Z
LAST-MODIFIED:20230827T154137Z
UID:8019-1694725200-1694741400@shakedownbarvail.com
SUMMARY:Scott Rednor Solo
DESCRIPTION:Scott Rednor – Guitar/vocals \n*Doors open at listed event time\, live music typically starts 60-90 minutes after doors.  End times are estimates.
URL:https://shakedownbarvail.com/event/scott-rednor-solo-7/
LOCATION:Shakedown Bar 304 Bridge St\, Vail\, CO  81657\, United States\, Shakedown Bar 304 Bridge St\, Vail\, CO 81657\, United States
CATEGORIES:Events,Solo
ORGANIZER;CN="Shakedown Presents":MAILTO:info@shakedownbarvail.com
END:VEVENT
BEGIN:VEVENT
DTSTART;TZID=America/Denver:20230921T210000
DTEND;TZID=America/Denver:20230922T013000
DTSTAMP:20260423T082747
CREATED:20230827T160506Z
LAST-MODIFIED:20230827T160506Z
UID:8034-1695330000-1695346200@shakedownbarvail.com
SUMMARY:Scott Rednor and Eric McFadden
DESCRIPTION:Scott Rednor – Guitar/vocals \nEric McFadden – Guitar/vocals \n*Doors open at listed event time\, live music typically starts 60-90 minutes after doors.  End times are estimates.
URL:https://shakedownbarvail.com/event/scott-rednor-and-eric-mcfadden/
LOCATION:Shakedown Bar 304 Bridge St\, Vail\, CO  81657\, United States\, Shakedown Bar 304 Bridge St\, Vail\, CO 81657\, United States
CATEGORIES:Events,Solo
ORGANIZER;CN="Shakedown Presents":MAILTO:info@shakedownbarvail.com
END:VEVENT
BEGIN:VEVENT
DTSTART;TZID=America/Denver:20230928T200000
DTEND;TZID=America/Denver:20230929T013000
DTSTAMP:20260423T082747
CREATED:20230830T170902Z
LAST-MODIFIED:20230830T170902Z
UID:8047-1695931200-1695951000@shakedownbarvail.com
SUMMARY:Scott Rednor Solo
DESCRIPTION:Scott Rednor – Guitar/vocals \n*Doors open at listed event time\, live music typically starts 60-90 minutes after doors.  End times are estimates.
URL:https://shakedownbarvail.com/event/scott-rednor-solo-8/
LOCATION:Shakedown Bar 304 Bridge St\, Vail\, CO  81657\, United States\, Shakedown Bar 304 Bridge St\, Vail\, CO 81657\, United States
CATEGORIES:Events,Solo
ORGANIZER;CN="Shakedown Presents":MAILTO:info@shakedownbarvail.com
END:VEVENT
END:VCALENDAR