BEGIN:VCALENDAR
VERSION:2.0
PRODID:-//Shakedown Bar - ECPv6.15.14//NONSGML v1.0//EN
CALSCALE:GREGORIAN
METHOD:PUBLISH
X-WR-CALNAME:Shakedown Bar
X-ORIGINAL-URL:https://shakedownbarvail.com
X-WR-CALDESC:Events for Shakedown Bar
REFRESH-INTERVAL;VALUE=DURATION:PT1H
X-Robots-Tag:noindex
X-PUBLISHED-TTL:PT1H
BEGIN:VTIMEZONE
TZID:America/Denver
BEGIN:DAYLIGHT
TZOFFSETFROM:-0700
TZOFFSETTO:-0600
TZNAME:MDT
DTSTART:20170312T090000
END:DAYLIGHT
BEGIN:STANDARD
TZOFFSETFROM:-0600
TZOFFSETTO:-0700
TZNAME:MST
DTSTART:20171105T080000
END:STANDARD
BEGIN:DAYLIGHT
TZOFFSETFROM:-0700
TZOFFSETTO:-0600
TZNAME:MDT
DTSTART:20180311T090000
END:DAYLIGHT
BEGIN:STANDARD
TZOFFSETFROM:-0600
TZOFFSETTO:-0700
TZNAME:MST
DTSTART:20181104T080000
END:STANDARD
BEGIN:DAYLIGHT
TZOFFSETFROM:-0700
TZOFFSETTO:-0600
TZNAME:MDT
DTSTART:20190310T090000
END:DAYLIGHT
BEGIN:STANDARD
TZOFFSETFROM:-0600
TZOFFSETTO:-0700
TZNAME:MST
DTSTART:20191103T080000
END:STANDARD
BEGIN:DAYLIGHT
TZOFFSETFROM:-0700
TZOFFSETTO:-0600
TZNAME:MDT
DTSTART:20200308T090000
END:DAYLIGHT
BEGIN:STANDARD
TZOFFSETFROM:-0600
TZOFFSETTO:-0700
TZNAME:MST
DTSTART:20201101T080000
END:STANDARD
END:VTIMEZONE
BEGIN:VEVENT
DTSTART;TZID=America/Denver:20191116T220000
DTEND;TZID=America/Denver:20191117T013000
DTSTAMP:20260420T140911
CREATED:20190924T035225Z
LAST-MODIFIED:20191110T203742Z
UID:3852-1573941600-1573954200@shakedownbarvail.com
SUMMARY:10:00 PM - Brothers Keeper w/ Bill McKay
DESCRIPTION:Doors: 9:00 Show: 10:00 PM\n\n20-year veterans of the John Oates Band John Michel (Drums/vocals) and Michael Jude (Bass/vocals)\, join Scott Rednor (Vocals/Guitar) to form Brothers Keeper\, a truly world-class musical experience.  This show also features Bill McKay (Derek Trucks Band\, Leftover Salmon) on Keyboards/vocals.
URL:https://shakedownbarvail.com/event/1000-pm-brothers-keeper-trio-3/
LOCATION:Shakedown Bar 304 Bridge St\, Vail\, CO  81657\, United States\, Shakedown Bar 304 Bridge St\, Vail\, CO 81657\, United States
CATEGORIES:Evening Show,Events,Saturdays
ATTACH;FMTTYPE=image/jpeg:https://shakedownbarvail.com/wp-content/uploads/2018/12/36781656_1741708825916317_2701520427590615040_o-1-e1570751827566.jpg
END:VEVENT
BEGIN:VEVENT
DTSTART;TZID=America/Denver:20191109T220000
DTEND;TZID=America/Denver:20191110T013000
DTSTAMP:20260420T140911
CREATED:20190924T034240Z
LAST-MODIFIED:20190924T034240Z
UID:3842-1573336800-1573349400@shakedownbarvail.com
SUMMARY:10:00 PM - Brothers Keeper Trio
DESCRIPTION:Doors: 9:00 Show: 10:00 PM\n\n20-year veterans of the John Oates Band John Michel (Drums/vocals) and Michael Jude (Bass/vocals)\, join Scott Rednor (Vocals/Guitar) to form Brothers Keeper\, a truly world-class musical experience.
URL:https://shakedownbarvail.com/event/1000-pm-brothers-keeper-trio-2/
LOCATION:Shakedown Bar 304 Bridge St\, Vail\, CO  81657\, United States\, Shakedown Bar 304 Bridge St\, Vail\, CO 81657\, United States
CATEGORIES:Evening Show,Events,Saturdays
ATTACH;FMTTYPE=image/jpeg:https://shakedownbarvail.com/wp-content/uploads/2018/12/36781656_1741708825916317_2701520427590615040_o-1-e1570751827566.jpg
END:VEVENT
BEGIN:VEVENT
DTSTART;TZID=America/Denver:20191102T220000
DTEND;TZID=America/Denver:20191103T013000
DTSTAMP:20260420T140911
CREATED:20190924T033557Z
LAST-MODIFIED:20190924T033557Z
UID:3830-1572732000-1572744600@shakedownbarvail.com
SUMMARY:10:00 PM - Brothers Keeper Trio
DESCRIPTION:Doors: 9:00 Show: 10:00 PM\n\n20-year veterans of the John Oates Band John Michel (Drums/vocals) and Michael Jude (Bass/vocals)\, join Scott Rednor (Vocals/Guitar) to form Brothers Keeper\, a truly world-class musical experience.
URL:https://shakedownbarvail.com/event/1000-pm-brothers-keeper-trio/
LOCATION:Shakedown Bar 304 Bridge St\, Vail\, CO  81657\, United States\, Shakedown Bar 304 Bridge St\, Vail\, CO 81657\, United States
CATEGORIES:Evening Show,Events,Saturdays
ATTACH;FMTTYPE=image/jpeg:https://shakedownbarvail.com/wp-content/uploads/2018/12/36781656_1741708825916317_2701520427590615040_o-1-e1570751827566.jpg
END:VEVENT
BEGIN:VEVENT
DTSTART;TZID=America/Denver:20191026T220000
DTEND;TZID=America/Denver:20191027T013000
DTSTAMP:20260420T140911
CREATED:20190821T004852Z
LAST-MODIFIED:20190924T033325Z
UID:3781-1572127200-1572139800@shakedownbarvail.com
SUMMARY:10:00 PM - Brothers Keeper Trio
DESCRIPTION:Doors: 9:00 Show: 10:00 PM\n\n20-year veterans of the John Oates Band John Michel (Drums/vocals) and Michael Jude (Bass/vocals)\, join Scott Rednor (Vocals/Guitar) to form Brothers Keeper\, a truly world-class musical experience.
URL:https://shakedownbarvail.com/event/930-pm-scott-rednor-and-rob-eaton-jr-acoustic-duo-5/
LOCATION:Shakedown Bar 304 Bridge St\, Vail\, CO  81657\, United States\, Shakedown Bar 304 Bridge St\, Vail\, CO 81657\, United States
CATEGORIES:Evening Show,Events,Saturdays
ATTACH;FMTTYPE=image/jpeg:https://shakedownbarvail.com/wp-content/uploads/2018/12/36781656_1741708825916317_2701520427590615040_o-1-e1570751827566.jpg
END:VEVENT
BEGIN:VEVENT
DTSTART;TZID=America/Denver:20191019T220000
DTEND;TZID=America/Denver:20191020T013000
DTSTAMP:20260420T140911
CREATED:20190821T004231Z
LAST-MODIFIED:20190924T033311Z
UID:3770-1571522400-1571535000@shakedownbarvail.com
SUMMARY:10:00 PM - Brothers Keeper Trio
DESCRIPTION:Doors: 9:00 Show: 10:00 PM\n\n20-year veterans of the John Oates Band John Michel (Drums/vocals) and Michael Jude (Bass/vocals)\, join Scott Rednor (Vocals/Guitar) to form Brothers Keeper\, a truly world-class musical experience.
URL:https://shakedownbarvail.com/event/930-pm-scott-rednor-and-rob-eaton-jr-acoustic-duo-4-2019-10-19/
LOCATION:Shakedown Bar 304 Bridge St\, Vail\, CO  81657\, United States\, Shakedown Bar 304 Bridge St\, Vail\, CO 81657\, United States
CATEGORIES:Evening Show,Events,Saturdays
ATTACH;FMTTYPE=image/jpeg:https://shakedownbarvail.com/wp-content/uploads/2018/12/36781656_1741708825916317_2701520427590615040_o-1-e1570751827566.jpg
END:VEVENT
BEGIN:VEVENT
DTSTART;TZID=America/Denver:20191012T220000
DTEND;TZID=America/Denver:20191013T013000
DTSTAMP:20260420T140911
CREATED:20190821T003849Z
LAST-MODIFIED:20190924T165211Z
UID:3760-1570917600-1570930200@shakedownbarvail.com
SUMMARY:10:00 PM - Brothers Keeper Trio
DESCRIPTION:Doors: 9:00 Show: 10:00 PM\n\n20-year veterans of the John Oates Band John Michel (Drums/vocals) and Michael Jude (Bass/vocals)\, join Scott Rednor (Vocals/Guitar) to form Brothers Keeper\, a truly world-class musical experience.
URL:https://shakedownbarvail.com/event/930-pm-scott-rednor-and-rob-eaton-jr-acoustic-duo-3-2019-10-12/
LOCATION:Shakedown Bar 304 Bridge St\, Vail\, CO  81657\, United States\, Shakedown Bar 304 Bridge St\, Vail\, CO 81657\, United States
CATEGORIES:Evening Show,Events,Saturdays
ATTACH;FMTTYPE=image/jpeg:https://shakedownbarvail.com/wp-content/uploads/2018/12/36781656_1741708825916317_2701520427590615040_o-1-e1570751827566.jpg
END:VEVENT
BEGIN:VEVENT
DTSTART;TZID=America/Denver:20191005T213000
DTEND;TZID=America/Denver:20191006T013000
DTSTAMP:20260420T140911
CREATED:20190914T012436Z
LAST-MODIFIED:20190914T012436Z
UID:3800-1570311000-1570325400@shakedownbarvail.com
SUMMARY:9:30 PM — Pixie and The Partygrass Boys
DESCRIPTION:Doors: 8:00 pm Show: 9:30 pm \nHailed as “the hottest band in the Wasatch” by the Intermountain Acoustic Music Association\, Pixie and The Partygrass Boys is composed of lifelong professional musicians drawn together by a common love of bluegrass and skiing in the Wasatch. Featuring soulful\, often harmonic vocals and solid strings and rhythm\, this tight-knit crew was born out of the belly of a warm cabin after a long day on the slopes- drinking whiskey and singing into the night. With a high energy sound and a love for silly outfits\, they travel the land spreading the gospel of whiskey\, chickens\, and fun for everyone.
URL:https://shakedownbarvail.com/event/930-pm-pixie-and-the-partygrass-boys/
LOCATION:Shakedown Bar 304 Bridge St\, Vail\, CO  81657\, United States\, Shakedown Bar 304 Bridge St\, Vail\, CO 81657\, United States
CATEGORIES:Events,Saturdays
ATTACH;FMTTYPE=image/png:https://shakedownbarvail.com/wp-content/uploads/2019/06/CBDDB0BC-5415-49B5-98EB-EE70D99E6921.png
END:VEVENT
BEGIN:VEVENT
DTSTART;TZID=America/Denver:20190928T220000
DTEND;TZID=America/Denver:20190929T013000
DTSTAMP:20260420T140911
CREATED:20190821T002953Z
LAST-MODIFIED:20190923T061806Z
UID:3738-1569708000-1569720600@shakedownbarvail.com
SUMMARY:10:00 PM -Scooter Barnes Band
DESCRIPTION:Doors: 9:00 Show: 10:00 PM\n\nScooter Barnes\,\nJim Allard\nDavid Brenowitz\nPatrick O’Hara
URL:https://shakedownbarvail.com/event/930-pm-brothers-keeper-27/
LOCATION:Shakedown Bar 304 Bridge St\, Vail\, CO  81657\, United States\, Shakedown Bar 304 Bridge St\, Vail\, CO 81657\, United States
CATEGORIES:Evening Show,Events,Saturdays
ATTACH;FMTTYPE=image/jpeg:https://shakedownbarvail.com/wp-content/uploads/2019/03/home-slider-logo.jpg
END:VEVENT
BEGIN:VEVENT
DTSTART;TZID=America/Denver:20190921T213000
DTEND;TZID=America/Denver:20190922T013000
DTSTAMP:20260420T140911
CREATED:20190914T011359Z
LAST-MODIFIED:20190914T011359Z
UID:3798-1569101400-1569115800@shakedownbarvail.com
SUMMARY:9:30 PM - Scott Rednor Trio feat. Brian Loftus and Michael Jude
DESCRIPTION:Doors: 8:00 pm Show: 9:30 pm\n\n\nScott Rednor – Guitar/vocals\nMichael Jude – Bass/vocals\nBrian Loftus – Drums
URL:https://shakedownbarvail.com/event/930-pm-scott-rednor-trio-feat-brian-loftus-and-michael-jude/
LOCATION:Shakedown Bar 304 Bridge St\, Vail\, CO  81657\, United States\, Shakedown Bar 304 Bridge St\, Vail\, CO 81657\, United States
CATEGORIES:Events,Saturdays
ATTACH;FMTTYPE=image/jpeg:https://shakedownbarvail.com/wp-content/uploads/2018/11/brothers-keeper.jpg
END:VEVENT
BEGIN:VEVENT
DTSTART;TZID=America/Denver:20190914T213000
DTEND;TZID=America/Denver:20190915T013000
DTSTAMP:20260420T140911
CREATED:20190807T070256Z
LAST-MODIFIED:20190914T010445Z
UID:3711-1568496600-1568511000@shakedownbarvail.com
SUMMARY:9:30 PM - Brothers Keeper w/ Red Young
DESCRIPTION:Doors: 8:00 Show: 9:30 PM\n\n20-year veterans of the John Oates Band John Michel (Drums/vocals) and Michael Jude (Bass/vocals)\, join Scott Rednor (Vocals/Guitar) to form Brothers Keeper\, a truly world-class musical experience.  This show also features Red Young on Organ!
URL:https://shakedownbarvail.com/event/930-pm-brothers-keeper-26/
LOCATION:Shakedown Bar 304 Bridge St\, Vail\, CO  81657\, United States\, Shakedown Bar 304 Bridge St\, Vail\, CO 81657\, United States
CATEGORIES:Evening Show,Events,Saturdays
ATTACH;FMTTYPE=image/jpeg:https://shakedownbarvail.com/wp-content/uploads/2018/12/36781656_1741708825916317_2701520427590615040_o-1-e1570751827566.jpg
END:VEVENT
BEGIN:VEVENT
DTSTART;TZID=America/Denver:20190907T213000
DTEND;TZID=America/Denver:20190908T013000
DTSTAMP:20260420T140911
CREATED:20190806T222224Z
LAST-MODIFIED:20190821T001651Z
UID:3698-1567891800-1567906200@shakedownbarvail.com
SUMMARY:9:30 PM - Jubilingo
DESCRIPTION:Doors: 8:00 Show: 9:30 PM\n \nhttps://jubilingomusic.com/band \nFueled by compelling vocals and improvisatory sections\, Jubilingo will light your fire with an impassioned blend of insightful originals and distinct covers. The Denver based quartet melds soul\, funk\, gospel and jazz with roots rock and improvisation. \nGeorgia native\, Jessica Holloway\, brings a fire to any stage she sets foot on.  Jess’ soulful and powerful vocals and sizzling organ and keyboard playing light up the night.  Keith Hicks adds robust vocals and high-spirited guitar work\, paying homage to past masters and striving to forge new ground through an eclectic amalgamation of styles.  Jake Herman (percussion) and Matthew Rossmann (bass) provide a tight and driving rhythm section\, dynamically attuned to varying shifts in the band’s music\, distinctly laying down a variety of choice grooves.  Featuring tunes rooted in southern soul\, jam rock\, and insightful ballads\, Jubilingo is gaining notice through their spirited and stirring live shows\, and is currently in the studio working on their debut album.
URL:https://shakedownbarvail.com/event/930-pm-brothers-keeper-25/
LOCATION:Shakedown Bar 304 Bridge St\, Vail\, CO  81657\, United States\, Shakedown Bar 304 Bridge St\, Vail\, CO 81657\, United States
CATEGORIES:Evening Show,Events,Saturdays
ATTACH;FMTTYPE=image/jpeg:https://shakedownbarvail.com/wp-content/uploads/2019/08/JubilingoNewPhotos12-188of10.jpg
END:VEVENT
BEGIN:VEVENT
DTSTART;TZID=America/Denver:20190831T213000
DTEND;TZID=America/Denver:20190901T013000
DTSTAMP:20260420T140911
CREATED:20190717T004026Z
LAST-MODIFIED:20190726T175845Z
UID:3668-1567287000-1567301400@shakedownbarvail.com
SUMMARY:9:30 PM - Brothers Keeper w/ Bill McKay
DESCRIPTION:Doors: 8:00 Show: 9:30 PM\n\n20-year veterans of the John Oates Band John Michel (Drums/vocals) and Michael Jude (Bass/vocals)\, join Scott Rednor (Vocals/Guitar) and Rob Eaton Jr. (Guitar/Vocals) to form Brothers Keeper\, a truly world-class musical experience.  This show also features Bill McKay (Derek Trucks Band\, Leftover Salmon) on keyboards and vocals.
URL:https://shakedownbarvail.com/event/930-pm-brothers-keeper-24/
LOCATION:Shakedown Bar 304 Bridge St\, Vail\, CO  81657\, United States\, Shakedown Bar 304 Bridge St\, Vail\, CO 81657\, United States
CATEGORIES:Evening Show,Events,Saturdays
ATTACH;FMTTYPE=image/jpeg:https://shakedownbarvail.com/wp-content/uploads/2018/12/36781656_1741708825916317_2701520427590615040_o-1-e1570751827566.jpg
END:VEVENT
BEGIN:VEVENT
DTSTART;TZID=America/Denver:20190810T213000
DTEND;TZID=America/Denver:20190811T013000
DTSTAMP:20260420T140911
CREATED:20190712T055403Z
LAST-MODIFIED:20190712T055403Z
UID:3627-1565472600-1565487000@shakedownbarvail.com
SUMMARY:9:30 PM - Brothers Keeper w/ James Maddock
DESCRIPTION:Doors: 8:00 pm Show: 9:30 pm \n20-year veterans of the John Oates Band John Michel (Drums/vocals) and Michael Jude (Bass/vocals)\, join Scott Rednor (Vocals/Guitar) and Rob Eaton Jr. (Guitar/Vocals) to form Brothers Keeper\, a truly world-class musical experience.  This show also features James Maddock on Guitar and Vocals.
URL:https://shakedownbarvail.com/event/930-pm-brothers-keeper-w-james-maddock/
LOCATION:Shakedown Bar 304 Bridge St\, Vail\, CO  81657\, United States\, Shakedown Bar 304 Bridge St\, Vail\, CO 81657\, United States
CATEGORIES:Evening Show,Events,Saturdays
ATTACH;FMTTYPE=image/jpeg:https://shakedownbarvail.com/wp-content/uploads/2018/12/36781656_1741708825916317_2701520427590615040_o-1-e1570751827566.jpg
END:VEVENT
BEGIN:VEVENT
DTSTART;TZID=America/Denver:20190803T213000
DTEND;TZID=America/Denver:20190804T013000
DTSTAMP:20260420T140911
CREATED:20190615T203833Z
LAST-MODIFIED:20190615T203833Z
UID:3582-1564867800-1564882200@shakedownbarvail.com
SUMMARY:9:30 PM - Brothers Keeper
DESCRIPTION:Doors: 8:00 Show: 9:30 PM \n20-year veterans of the John Oates Band John Michel (Drums/vocals) and Michael Jude (Bass/vocals)\, join Scott Rednor (Vocals/Guitar) and Rob Eaton Jr. (Guitar/Vocals) to form Brothers Keeper\, a truly world-class musical experience.
URL:https://shakedownbarvail.com/event/930-pm-brothers-keeper-21/
LOCATION:Shakedown Bar 304 Bridge St\, Vail\, CO  81657\, United States\, Shakedown Bar 304 Bridge St\, Vail\, CO 81657\, United States
CATEGORIES:Evening Show,Events,Saturdays
ATTACH;FMTTYPE=image/jpeg:https://shakedownbarvail.com/wp-content/uploads/2018/12/36781656_1741708825916317_2701520427590615040_o-1-e1570751827566.jpg
END:VEVENT
BEGIN:VEVENT
DTSTART;TZID=America/Denver:20190720T213000
DTEND;TZID=America/Denver:20190721T013000
DTSTAMP:20260420T140911
CREATED:20190615T183915Z
LAST-MODIFIED:20190710T013953Z
UID:3546-1563658200-1563672600@shakedownbarvail.com
SUMMARY:9:30 PM - Brothers Keeper w/ Bill McKay
DESCRIPTION:Doors: 8:00 Show: 9:30 PM \n20-year veterans of the John Oates Band John Michel (Drums/vocals) and Michael Jude (Bass/vocals)\, join Scott Rednor (Vocals/Guitar) and Rob Eaton Jr. (Guitar/Vocals) to form Brothers Keeper\, a truly world-class musical experience.  This show also features Bill McKay (Coral Creek) on keyboards and vocals.
URL:https://shakedownbarvail.com/event/930-pm-brothers-keeper-20/
LOCATION:Shakedown Bar 304 Bridge St\, Vail\, CO  81657\, United States\, Shakedown Bar 304 Bridge St\, Vail\, CO 81657\, United States
CATEGORIES:Evening Show,Events,Saturdays
ATTACH;FMTTYPE=image/jpeg:https://shakedownbarvail.com/wp-content/uploads/2018/12/36781656_1741708825916317_2701520427590615040_o-1-e1570751827566.jpg
END:VEVENT
BEGIN:VEVENT
DTSTART;TZID=America/Denver:20190629T213000
DTEND;TZID=America/Denver:20190630T013000
DTSTAMP:20260420T140911
CREATED:20190430T023325Z
LAST-MODIFIED:20190626T223631Z
UID:3438-1561843800-1561858200@shakedownbarvail.com
SUMMARY:9:30 PM - Brothers Keeper feat. Todd Stoops
DESCRIPTION:Doors: 8:30 Show: 9:30 PM \n20-year veterans of the John Oates Band John Michel (Drums/vocals) and Michael Jude (Bass/vocals)\, join Scott Rednor (Vocals/Guitar) and Rob Eaton Jr. (Guitar/Vocals) to form Brothers Keeper\, a truly world-class musical experience.  This show also features Todd Stoops (RAQ\, Electric Beethoven) on keyboards.
URL:https://shakedownbarvail.com/event/930-pm-brothers-keeper-16/
LOCATION:Shakedown Bar 304 Bridge St\, Vail\, CO  81657\, United States\, Shakedown Bar 304 Bridge St\, Vail\, CO 81657\, United States
CATEGORIES:Evening Show,Events,Saturdays
ATTACH;FMTTYPE=image/jpeg:https://shakedownbarvail.com/wp-content/uploads/2018/12/36781656_1741708825916317_2701520427590615040_o-1-e1570751827566.jpg
END:VEVENT
BEGIN:VEVENT
DTSTART;TZID=America/Denver:20190615T213000
DTEND;TZID=America/Denver:20190616T013000
DTSTAMP:20260420T140911
CREATED:20190515T000940Z
LAST-MODIFIED:20190515T000940Z
UID:3461-1560634200-1560648600@shakedownbarvail.com
SUMMARY:9:30 PM- Johnny Schleper Band
DESCRIPTION:Doors: 8:00 pm Show: 9:30 pm\n\n\nJohnny Schleper – Guitar/vocals\nBob Masters – Guitar/vocals\nTim Philpott – Bass\nBrian Loftus – Drums
URL:https://shakedownbarvail.com/event/930-pm-johnny-schleper-band-3/
LOCATION:Shakedown Bar 304 Bridge St\, Vail\, CO  81657\, United States\, Shakedown Bar 304 Bridge St\, Vail\, CO 81657\, United States
CATEGORIES:Evening Show,Events,Saturdays
ATTACH;FMTTYPE=image/jpeg:https://shakedownbarvail.com/wp-content/uploads/2018/12/JohnnySchleper.jpg
END:VEVENT
BEGIN:VEVENT
DTSTART;TZID=America/Denver:20190614T213000
DTEND;TZID=America/Denver:20190615T013000
DTSTAMP:20260420T140911
CREATED:20190430T022125Z
LAST-MODIFIED:20190515T000436Z
UID:3426-1560547800-1560562200@shakedownbarvail.com
SUMMARY:9:30 PM - Brothers Keeper
DESCRIPTION:Doors: 8:30 Show: 9:30 PM \n20-year veterans of the John Oates Band John Michel (Drums/vocals) and Michael Jude (Bass/vocals)\, join Scott Rednor (Vocals/Guitar) and Rob Eaton Jr. (Guitar/Vocals) to form Brothers Keeper\, a truly world-class musical experience.
URL:https://shakedownbarvail.com/event/930-pm-brothers-keeper-15/
LOCATION:Shakedown Bar 304 Bridge St\, Vail\, CO  81657\, United States\, Shakedown Bar 304 Bridge St\, Vail\, CO 81657\, United States
CATEGORIES:Evening Show,Events,Saturdays
ATTACH;FMTTYPE=image/jpeg:https://shakedownbarvail.com/wp-content/uploads/2018/12/36781656_1741708825916317_2701520427590615040_o-1-e1570751827566.jpg
END:VEVENT
BEGIN:VEVENT
DTSTART;TZID=America/Denver:20190608T213000
DTEND;TZID=America/Denver:20190609T013000
DTSTAMP:20260420T140911
CREATED:20190514T234338Z
LAST-MODIFIED:20190514T234338Z
UID:3459-1560029400-1560043800@shakedownbarvail.com
SUMMARY:9:30 PM - Brothers Keeper
DESCRIPTION:Doors: 8:00 Show: 9:30 PM\n20-year veterans of the John Oates Band John Michel (Drums/vocals) and Michael Jude (Bass/vocals)\, join Scott Rednor (Vocals/Guitar) and Rob Eaton Jr. (Guitar/Vocals) to form Brothers Keeper\, a truly world-class musical experience.
URL:https://shakedownbarvail.com/event/930-pm-brothers-keeper-17/
LOCATION:Shakedown Bar 304 Bridge St\, Vail\, CO  81657\, United States\, Shakedown Bar 304 Bridge St\, Vail\, CO 81657\, United States
CATEGORIES:Events,Saturdays
ATTACH;FMTTYPE=image/jpeg:https://shakedownbarvail.com/wp-content/uploads/2018/12/Shakedown_Lockman_highres2017-17-e1547756561305.jpg
END:VEVENT
BEGIN:VEVENT
DTSTART;TZID=America/Denver:20190420T213000
DTEND;TZID=America/Denver:20190421T013000
DTSTAMP:20260420T140911
CREATED:20190314T221431Z
LAST-MODIFIED:20190419T214123Z
UID:3354-1555795800-1555810200@shakedownbarvail.com
SUMMARY:9:30 PM - Brothers Keeper +
DESCRIPTION:Show: 9:30 PM\n20-year veterans of the John Oates Band John Michel (Drums/vocals) and Michael Jude (Bass/vocals)\, join Scott Rednor (Vocals/Guitar) and Rob Eaton Jr. (Guitar/Vocals) to form Brothers Keeper\, a truly world-class musical experience.  This show also features Todd Stoops (Electric Beethoven) on Keyboards and Jeff Franca (Thievery Corporation) on Percussion!
URL:https://shakedownbarvail.com/event/930-pm-brothers-keeper-14/
LOCATION:Shakedown Bar 304 Bridge St\, Vail\, CO  81657\, United States\, Shakedown Bar 304 Bridge St\, Vail\, CO 81657\, United States
CATEGORIES:Evening Show,Events,Saturdays
ATTACH;FMTTYPE=image/jpeg:https://shakedownbarvail.com/wp-content/uploads/2018/12/36781656_1741708825916317_2701520427590615040_o-1-e1570751827566.jpg
END:VEVENT
BEGIN:VEVENT
DTSTART;TZID=America/Denver:20190413T213000
DTEND;TZID=America/Denver:20190414T013000
DTSTAMP:20260420T140911
CREATED:20190314T220101Z
LAST-MODIFIED:20190314T220101Z
UID:3340-1555191000-1555205400@shakedownbarvail.com
SUMMARY:9:30 PM - Brothers Keeper
DESCRIPTION:Show: 9:30 PM\n20-year veterans of the John Oates Band John Michel (Drums/vocals) and Michael Jude (Bass/vocals)\, join Scott Rednor (Vocals/Guitar) and Rob Eaton Jr. (Guitar/Vocals) to form Brothers Keeper\, a truly world-class musical experience.
URL:https://shakedownbarvail.com/event/930-pm-brothers-keeper-13/
LOCATION:Shakedown Bar 304 Bridge St\, Vail\, CO  81657\, United States\, Shakedown Bar 304 Bridge St\, Vail\, CO 81657\, United States
CATEGORIES:Evening Show,Events,Saturdays
ATTACH;FMTTYPE=image/jpeg:https://shakedownbarvail.com/wp-content/uploads/2018/12/36781656_1741708825916317_2701520427590615040_o-1-e1570751827566.jpg
END:VEVENT
BEGIN:VEVENT
DTSTART;TZID=America/Denver:20190406T213000
DTEND;TZID=America/Denver:20190407T013000
DTSTAMP:20260420T140911
CREATED:20190307T173125Z
LAST-MODIFIED:20190319T175752Z
UID:3307-1554586200-1554600600@shakedownbarvail.com
SUMMARY:9:30 PM - Brothers Keeper +
DESCRIPTION:Show: 9:30 PM \n20-year veterans of the John Oates Band John Michel (Drums/vocals) and Michael Jude (Bass/vocals)\, join Scott Rednor (Vocals/Guitar) and Rob Eaton Jr. (Guitar/Vocals) to form Brothers Keeper\, a truly world-class musical experience.  This show also features Bill McKay on Keyboards and Vocals.
URL:https://shakedownbarvail.com/event/930-pm-brothers-keeper-12/
LOCATION:Shakedown Bar 304 Bridge St\, Vail\, CO  81657\, United States\, Shakedown Bar 304 Bridge St\, Vail\, CO 81657\, United States
CATEGORIES:Evening Show,Events,Saturdays
ATTACH;FMTTYPE=image/jpeg:https://shakedownbarvail.com/wp-content/uploads/2018/12/home-slider.jpg
END:VEVENT
BEGIN:VEVENT
DTSTART;TZID=America/Denver:20190323T213000
DTEND;TZID=America/Denver:20190324T013000
DTSTAMP:20260420T140911
CREATED:20190214T193209Z
LAST-MODIFIED:20190319T175655Z
UID:3246-1553376600-1553391000@shakedownbarvail.com
SUMMARY:9:30 PM - Brothers Keeper +
DESCRIPTION:Show: 9:30 PM\n20-year veterans of the John Oates Band John Michel (Drums/vocals) and Michael Jude (Bass/vocals)\, join Scott Rednor (Vocals/Guitar) and Rob Eaton Jr. (Guitar/Vocals) to form Brothers Keeper\, a truly world-class musical experience.  This show also features Bill McKay on Keyboards and Vocals.
URL:https://shakedownbarvail.com/event/930-pm-brothers-keeper-11/
LOCATION:Shakedown Bar 304 Bridge St\, Vail\, CO  81657\, United States\, Shakedown Bar 304 Bridge St\, Vail\, CO 81657\, United States
CATEGORIES:Evening Show,Events,Saturdays
ATTACH;FMTTYPE=image/jpeg:https://shakedownbarvail.com/wp-content/uploads/2018/12/36781656_1741708825916317_2701520427590615040_o-1-e1570751827566.jpg
END:VEVENT
BEGIN:VEVENT
DTSTART;TZID=America/Denver:20190316T213000
DTEND;TZID=America/Denver:20190317T013000
DTSTAMP:20260420T140911
CREATED:20190118T185254Z
LAST-MODIFIED:20190214T191705Z
UID:3080-1552771800-1552786200@shakedownbarvail.com
SUMMARY:9:30 PM - Brothers Keeper +
DESCRIPTION:Show: 9:30 PM \n20-year veterans of the John Oates Band John Michel (Drums/vocals) and Michael Jude (Bass/vocals)\, join Scott Rednor (Vocals/Guitar) and Rob Eaton Jr. (Guitar/Vocals) to form Brothers Keeper\, a truly world-class musical experience + Bill McKay (Keyboards/vocals)
URL:https://shakedownbarvail.com/event/930-pm-brothers-keeper-10/
LOCATION:Shakedown Bar 304 Bridge St\, Vail\, CO  81657\, United States\, Shakedown Bar 304 Bridge St\, Vail\, CO 81657\, United States
CATEGORIES:Evening Show,Events,Saturdays
ATTACH;FMTTYPE=image/jpeg:https://shakedownbarvail.com/wp-content/uploads/2018/12/36781656_1741708825916317_2701520427590615040_o-1-e1570751827566.jpg
END:VEVENT
BEGIN:VEVENT
DTSTART;TZID=America/Denver:20190309T213000
DTEND;TZID=America/Denver:20190310T013000
DTSTAMP:20260420T140911
CREATED:20190118T183832Z
LAST-MODIFIED:20190214T185829Z
UID:3063-1552167000-1552181400@shakedownbarvail.com
SUMMARY:9:30 PM - Brothers Keeper +
DESCRIPTION:Show: 9:30 PM \n20-year veterans of the John Oates Band John Michel (Drums/vocals) and Michael Jude (Bass/vocals)\, join Scott Rednor (Vocals/Guitar) and Rob Eaton Jr. (Guitar/Vocals) to form Brothers Keeper\, a truly world-class musical experience + Bill McKay (Keyboards/vocals)
URL:https://shakedownbarvail.com/event/930-pm-brothers-keeper-9/
LOCATION:Shakedown Bar 304 Bridge St\, Vail\, CO  81657\, United States\, Shakedown Bar 304 Bridge St\, Vail\, CO 81657\, United States
CATEGORIES:Evening Show,Events,Saturdays
ATTACH;FMTTYPE=image/jpeg:https://shakedownbarvail.com/wp-content/uploads/2018/12/36781656_1741708825916317_2701520427590615040_o-1-e1570751827566.jpg
END:VEVENT
BEGIN:VEVENT
DTSTART;TZID=America/Denver:20190302T213000
DTEND;TZID=America/Denver:20190303T013000
DTSTAMP:20260420T140911
CREATED:20190118T164523Z
LAST-MODIFIED:20190214T180543Z
UID:3047-1551562200-1551576600@shakedownbarvail.com
SUMMARY:9:30 PM - Brothers Keeper +
DESCRIPTION:Show: 9:30 PM  \n20-year veterans of the John Oates Band John Michel (Drums/vocals) and Michael Jude (Bass/vocals)\, join Scott Rednor (Vocals/Guitar) and Rob Eaton Jr. (Guitar/Vocals) to form Brothers Keeper\, a truly world-class musical experience.  Eric Luba (Analog Son) is also featured on keyboards for this show.
URL:https://shakedownbarvail.com/event/930-pm-brothers-keeper-8/
LOCATION:Shakedown Bar 304 Bridge St\, Vail\, CO  81657\, United States\, Shakedown Bar 304 Bridge St\, Vail\, CO 81657\, United States
CATEGORIES:Evening Show,Events,Saturdays
ATTACH;FMTTYPE=image/jpeg:https://shakedownbarvail.com/wp-content/uploads/2018/12/36781656_1741708825916317_2701520427590615040_o-1-e1570751827566.jpg
END:VEVENT
BEGIN:VEVENT
DTSTART;TZID=America/Denver:20181208T213000
DTEND;TZID=America/Denver:20181209T020000
DTSTAMP:20260420T140911
CREATED:20181128T215229Z
LAST-MODIFIED:20181210T195701Z
UID:2304-1544304600-1544320800@shakedownbarvail.com
SUMMARY:Brothers Keeper w/ Bill McKay
DESCRIPTION:20-year veterans of the John Oates Band Jon Michel (Drums/vocals) and Michael Jude (Bass/vocals)\, join Scott Rednor (Vocals/Guitar) and Rob Eaton Jr. (Guitar/Vocals) to form Brothers Keeper\, a truly world-class musical experience. This show also features Bill McKay (Keyboards/Vocals)
URL:https://shakedownbarvail.com/event/brothers-keeper-w-bill-mckay/
LOCATION:Shakedown Bar Vail\, 304 Bridge Street\, Vail\, CO\, 81657\, United States
CATEGORIES:Evening Show,Saturdays
ATTACH;FMTTYPE=image/jpeg:https://shakedownbarvail.com/wp-content/uploads/2018/11/brothers-keeper.jpg
END:VEVENT
BEGIN:VEVENT
DTSTART;TZID=America/Denver:20181201T213000
DTEND;TZID=America/Denver:20181202T020000
DTSTAMP:20260420T140911
CREATED:20181128T210413Z
LAST-MODIFIED:20181210T195607Z
UID:2292-1543699800-1543716000@shakedownbarvail.com
SUMMARY:Scott Rednor Band
DESCRIPTION:Scott Rednor – Guitar/vox\nRob Eaton Jr. – Guitar/vox\nTodd Smallie – Bass\nMark Levy – Drums
URL:https://shakedownbarvail.com/event/scott-rednor-band/
LOCATION:Shakedown Bar Vail\, 304 Bridge Street\, Vail\, CO\, 81657\, United States
CATEGORIES:Evening Show,Saturdays
ATTACH;FMTTYPE=image/jpeg:https://shakedownbarvail.com/wp-content/uploads/2018/11/scott-band.jpg
END:VEVENT
BEGIN:VEVENT
DTSTART;TZID=America/Denver:20181201T153000
DTEND;TZID=America/Denver:20181201T210000
DTSTAMP:20260420T140911
CREATED:20181128T205822Z
LAST-MODIFIED:20181210T195607Z
UID:2288-1543678200-1543698000@shakedownbarvail.com
SUMMARY:Scott Rednor and Rob Eaton Jr. Acoustic Duo
DESCRIPTION:Come hear two of Colorado’s finest guitarists playing their interpretations of all of your favorite classic songs!  Vocal harmonies\, rhythmic looping\, & duel guitar leads make this an exciting acoustic duo!
URL:https://shakedownbarvail.com/event/scott-rednor-and-rob-eaton-jr-acoustic-duo/
LOCATION:Shakedown Bar Vail\, 304 Bridge Street\, Vail\, CO\, 81657\, United States
CATEGORIES:Aprés,Saturdays
ATTACH;FMTTYPE=image/jpeg:https://shakedownbarvail.com/wp-content/uploads/2018/11/scott-rob-01.jpg
END:VEVENT
END:VCALENDAR