BEGIN:VCALENDAR
VERSION:2.0
PRODID:-//Shakedown Bar - ECPv6.15.14//NONSGML v1.0//EN
CALSCALE:GREGORIAN
METHOD:PUBLISH
X-WR-CALNAME:Shakedown Bar
X-ORIGINAL-URL:https://shakedownbarvail.com
X-WR-CALDESC:Events for Shakedown Bar
REFRESH-INTERVAL;VALUE=DURATION:PT1H
X-Robots-Tag:noindex
X-PUBLISHED-TTL:PT1H
BEGIN:VTIMEZONE
TZID:America/Denver
BEGIN:DAYLIGHT
TZOFFSETFROM:-0700
TZOFFSETTO:-0600
TZNAME:MDT
DTSTART:20240310T090000
END:DAYLIGHT
BEGIN:STANDARD
TZOFFSETFROM:-0600
TZOFFSETTO:-0700
TZNAME:MST
DTSTART:20241103T080000
END:STANDARD
BEGIN:DAYLIGHT
TZOFFSETFROM:-0700
TZOFFSETTO:-0600
TZNAME:MDT
DTSTART:20250309T090000
END:DAYLIGHT
BEGIN:STANDARD
TZOFFSETFROM:-0600
TZOFFSETTO:-0700
TZNAME:MST
DTSTART:20251102T080000
END:STANDARD
BEGIN:DAYLIGHT
TZOFFSETFROM:-0700
TZOFFSETTO:-0600
TZNAME:MDT
DTSTART:20260308T090000
END:DAYLIGHT
BEGIN:STANDARD
TZOFFSETFROM:-0600
TZOFFSETTO:-0700
TZNAME:MST
DTSTART:20261101T080000
END:STANDARD
BEGIN:DAYLIGHT
TZOFFSETFROM:-0700
TZOFFSETTO:-0600
TZNAME:MDT
DTSTART:20270314T090000
END:DAYLIGHT
BEGIN:STANDARD
TZOFFSETFROM:-0600
TZOFFSETTO:-0700
TZNAME:MST
DTSTART:20271107T080000
END:STANDARD
END:VTIMEZONE
BEGIN:VEVENT
DTSTART;TZID=America/Denver:20260110T210000
DTEND;TZID=America/Denver:20260111T013000
DTSTAMP:20260420T002904
CREATED:20251205T142630Z
LAST-MODIFIED:20251205T142630Z
UID:10448-1768078800-1768095000@shakedownbarvail.com
SUMMARY:Scott Rednor Band
DESCRIPTION:Scott Rednor Band \nScott Rednor – Guitars/vocals \nKramer Kelling – Bass/vocals \nBrian Loftus – Drums \nTommy Shugart – Keyboards \n  \n*Doors open at listed event time\, live music typically starts 60-90 minutes after doors. End times are estimates.
URL:https://shakedownbarvail.com/event/scott-rednor-band-97/
LOCATION:Shakedown Bar 304 Bridge St\, Vail\, CO  81657\, United States\, Shakedown Bar 304 Bridge St\, Vail\, CO 81657\, United States
CATEGORIES:Full Band
ORGANIZER;CN="Shakedown Presents":MAILTO:info@shakedownbarvail.com
END:VEVENT
BEGIN:VEVENT
DTSTART;TZID=America/Denver:20260109T210000
DTEND;TZID=America/Denver:20260110T013000
DTSTAMP:20260420T002904
CREATED:20260105T202041Z
LAST-MODIFIED:20260105T202225Z
UID:10559-1767992400-1768008600@shakedownbarvail.com
SUMMARY:Shakedown Family Band feat. Eddie Roberts and Joe Tatton
DESCRIPTION:Scott Rednor Band \nScott Rednor – Guitars/vocals \nKramer Kelling – Bass/vocals \nBrian Loftus – Drums \nTommy Shugart – Keyboards \nEddie Roberts – Guitar \nJoe Tatton – Keyboards \n  \n*Doors open at listed event time\, live music typically starts 60-90 minutes after doors. End times are estimates.
URL:https://shakedownbarvail.com/event/shakedown-family-band-feat-eddie-roberts-and-joe-tatton/
LOCATION:Shakedown Bar 304 Bridge St\, Vail\, CO  81657\, United States\, Shakedown Bar 304 Bridge St\, Vail\, CO 81657\, United States
CATEGORIES:Full Band
ORGANIZER;CN="Shakedown Presents":MAILTO:info@shakedownbarvail.com
END:VEVENT
BEGIN:VEVENT
DTSTART;TZID=America/Denver:20260103T210000
DTEND;TZID=America/Denver:20260104T013000
DTSTAMP:20260420T002904
CREATED:20251205T141323Z
LAST-MODIFIED:20251205T141323Z
UID:10425-1767474000-1767490200@shakedownbarvail.com
SUMMARY:Taylor Scott Band
DESCRIPTION:Taylor Scott Band \nTaylor Scott – Guitar/vocals \n*Doors open at listed event time\, live music typically starts 60-90 minutes after doors. End times are estimates.
URL:https://shakedownbarvail.com/event/taylor-scott-band-40/
LOCATION:Shakedown Bar 304 Bridge St\, Vail\, CO  81657\, United States\, Shakedown Bar 304 Bridge St\, Vail\, CO 81657\, United States
CATEGORIES:Full Band
ORGANIZER;CN="Shakedown Presents":MAILTO:info@shakedownbarvail.com
END:VEVENT
BEGIN:VEVENT
DTSTART;TZID=America/Denver:20251231T210000
DTEND;TZID=America/Denver:20260101T013000
DTSTAMP:20260420T002904
CREATED:20251107T221440Z
LAST-MODIFIED:20251206T175301Z
UID:10404-1767214800-1767231000@shakedownbarvail.com
SUMMARY:New Year's Eve Celebration
DESCRIPTION:Special NYE Celebration! \nNew Years Eve 2025/2026 is right around the corner and Shakedown Bar Vail is excited to present The Scott Rednor Big Band featuring Benny Bloom\, Nate Miller and other very special guests! Come celebrate with some Funky Rock and Roll fun and a champagne toast at midnight with your friends at your favorite Rock and Roll Ski Bar! \n*Doors open at 9:00 p.m.\, live music typically starts 60-90 minutes after doors.  End times are estimates. \nTickets and more info
URL:https://shakedownbarvail.com/event/new-years-eve-celebration/
LOCATION:Shakedown Bar 304 Bridge St\, Vail\, CO  81657\, United States\, Shakedown Bar 304 Bridge St\, Vail\, CO 81657\, United States
CATEGORIES:Full Band
ORGANIZER;CN="Shakedown Presents":MAILTO:info@shakedownbarvail.com
END:VEVENT
BEGIN:VEVENT
DTSTART;TZID=America/Denver:20251230T210000
DTEND;TZID=America/Denver:20251231T013000
DTSTAMP:20260420T002904
CREATED:20251107T221329Z
LAST-MODIFIED:20251107T221329Z
UID:10402-1767128400-1767144600@shakedownbarvail.com
SUMMARY:Sqwerv
DESCRIPTION:Sqwerv \n  \n*Doors open at listed event time\, live music typically starts 60-90 minutes after doors.  End times are estimates.
URL:https://shakedownbarvail.com/event/sqwerv/
LOCATION:Shakedown Bar 304 Bridge St\, Vail\, CO  81657\, United States\, Shakedown Bar 304 Bridge St\, Vail\, CO 81657\, United States
CATEGORIES:Full Band
ORGANIZER;CN="Shakedown Presents":MAILTO:info@shakedownbarvail.com
END:VEVENT
BEGIN:VEVENT
DTSTART;TZID=America/Denver:20251228T210000
DTEND;TZID=America/Denver:20251229T013000
DTSTAMP:20260420T002904
CREATED:20251107T220905Z
LAST-MODIFIED:20251107T220905Z
UID:10394-1766955600-1766971800@shakedownbarvail.com
SUMMARY:TBA
DESCRIPTION:TBA \n  \n  \n*Doors open at listed event time\, live music typically starts 60-90 minutes after doors. End times are estimates.
URL:https://shakedownbarvail.com/event/tba-64/
LOCATION:Shakedown Bar 304 Bridge St\, Vail\, CO  81657\, United States\, Shakedown Bar 304 Bridge St\, Vail\, CO 81657\, United States
CATEGORIES:Full Band
ORGANIZER;CN="Shakedown Presents":MAILTO:info@shakedownbarvail.com
END:VEVENT
BEGIN:VEVENT
DTSTART;TZID=America/Denver:20251227T210000
DTEND;TZID=America/Denver:20251228T013000
DTSTAMP:20260420T002904
CREATED:20251107T220745Z
LAST-MODIFIED:20251107T220745Z
UID:10390-1766869200-1766885400@shakedownbarvail.com
SUMMARY:Kory Montgomery Band
DESCRIPTION:Kory Montgomery – Guitar/vocals \nKramer Kelling – Bass/vocals \nMark Levy – Drums/vocals \n  \n  \n  \n*Doors open at listed event time\, live music typically starts 60-90 minutes after doors. End times are estimates.
URL:https://shakedownbarvail.com/event/kory-montgomery-band-37/
LOCATION:Shakedown Bar 304 Bridge St\, Vail\, CO  81657\, United States\, Shakedown Bar 304 Bridge St\, Vail\, CO 81657\, United States
CATEGORIES:Full Band
ORGANIZER;CN="Shakedown Presents":MAILTO:info@shakedownbarvail.com
END:VEVENT
BEGIN:VEVENT
DTSTART;TZID=America/Denver:20251227T160000
DTEND;TZID=America/Denver:20251227T200000
DTSTAMP:20260420T002904
CREATED:20251107T220550Z
LAST-MODIFIED:20251107T220550Z
UID:10388-1766851200-1766865600@shakedownbarvail.com
SUMMARY:Scott Rednor Band Apres
DESCRIPTION:Scott Rednor Band Apres \nScott Rednor – Guitars/vocals \nKramer Kelling – Bass/vocals \nBrian Loftus – Drums \nTommy Shugart – Keyboards \n  \n*Doors open at listed event time\, live music typically starts 60-90 minutes after doors. End times are estimates.
URL:https://shakedownbarvail.com/event/scott-rednor-band-apres-7/
LOCATION:Shakedown Bar 304 Bridge St\, Vail\, CO  81657\, United States\, Shakedown Bar 304 Bridge St\, Vail\, CO 81657\, United States
CATEGORIES:Aprés,Full Band
ORGANIZER;CN="Shakedown Presents":MAILTO:info@shakedownbarvail.com
END:VEVENT
BEGIN:VEVENT
DTSTART;TZID=America/Denver:20251226T210000
DTEND;TZID=America/Denver:20251227T013000
DTSTAMP:20260420T002904
CREATED:20251212T023032Z
LAST-MODIFIED:20251226T201957Z
UID:10541-1766782800-1766799000@shakedownbarvail.com
SUMMARY:Scott Rednor Band w/ Members of The Motet
DESCRIPTION:Scott Rednor Band \nScott Rednor – Guitars/vocals \nGarrett Sayers – Bass \nMark Levy – Drums \nJoey Porter – Keyboards \n  \n*Doors open at listed event time\, live music typically starts 60-90 minutes after doors. End times are estimates.
URL:https://shakedownbarvail.com/event/scott-rednor-band-w-members-of-the-motet/
LOCATION:Shakedown Bar 304 Bridge St\, Vail\, CO  81657\, United States\, Shakedown Bar 304 Bridge St\, Vail\, CO 81657\, United States
CATEGORIES:Full Band
ORGANIZER;CN="Shakedown Presents":MAILTO:info@shakedownbarvail.com
END:VEVENT
BEGIN:VEVENT
DTSTART;TZID=America/Denver:20251220T210000
DTEND;TZID=America/Denver:20251221T013000
DTSTAMP:20260420T002904
CREATED:20251107T215926Z
LAST-MODIFIED:20251107T215926Z
UID:10373-1766264400-1766280600@shakedownbarvail.com
SUMMARY:Jubilingo
DESCRIPTION:Jubilingo \n*Doors open at listed event time\, live music typically starts 60-90 minutes after doors. End times are estimates.
URL:https://shakedownbarvail.com/event/jubilingo-3/
LOCATION:Shakedown Bar 304 Bridge St\, Vail\, CO  81657\, United States\, Shakedown Bar 304 Bridge St\, Vail\, CO 81657\, United States
CATEGORIES:Full Band
ORGANIZER;CN="Shakedown Presents":MAILTO:info@shakedownbarvail.com
END:VEVENT
BEGIN:VEVENT
DTSTART;TZID=America/Denver:20251213T210000
DTEND;TZID=America/Denver:20251214T013000
DTSTAMP:20260420T002904
CREATED:20251107T215055Z
LAST-MODIFIED:20251107T215055Z
UID:10352-1765659600-1765675800@shakedownbarvail.com
SUMMARY:Scott Rednor Band
DESCRIPTION:Scott Rednor Band \nScott Rednor – Guitars/vocals \nKramer Kelling – Bass/vocals \nBrian Loftus – Drums \nTommy Shugart – Keyboards \n  \n*Doors open at listed event time\, live music typically starts 60-90 minutes after doors. End times are estimates.
URL:https://shakedownbarvail.com/event/scott-rednor-band-96/
LOCATION:Shakedown Bar 304 Bridge St\, Vail\, CO  81657\, United States\, Shakedown Bar 304 Bridge St\, Vail\, CO 81657\, United States
CATEGORIES:Full Band
ORGANIZER;CN="Shakedown Presents":MAILTO:info@shakedownbarvail.com
END:VEVENT
BEGIN:VEVENT
DTSTART;TZID=America/Denver:20251212T210000
DTEND;TZID=America/Denver:20251213T013000
DTSTAMP:20260420T002904
CREATED:20251107T214817Z
LAST-MODIFIED:20251107T214817Z
UID:10348-1765573200-1765589400@shakedownbarvail.com
SUMMARY:Scott Rednor Band
DESCRIPTION:Scott Rednor Band \nScott Rednor – Guitars/vocals \nKramer Kelling – Bass/vocals \nBrian Loftus – Drums \nWill Trask – Percussion \nTommy Shugart – Keyboards \n  \n*Doors open at listed event time\, live music typically starts 60-90 minutes after doors. End times are estimates.
URL:https://shakedownbarvail.com/event/scott-rednor-band-95/
LOCATION:Shakedown Bar 304 Bridge St\, Vail\, CO  81657\, United States\, Shakedown Bar 304 Bridge St\, Vail\, CO 81657\, United States
CATEGORIES:Full Band
ORGANIZER;CN="Shakedown Presents":MAILTO:info@shakedownbarvail.com
END:VEVENT
BEGIN:VEVENT
DTSTART;TZID=America/Denver:20251211T210000
DTEND;TZID=America/Denver:20251212T013000
DTSTAMP:20260420T002904
CREATED:20251107T214545Z
LAST-MODIFIED:20251212T022024Z
UID:10344-1765486800-1765503000@shakedownbarvail.com
SUMMARY:Scott Rednor
DESCRIPTION:Scott Rednor \nScott Rednor – Guitars/vocals \n  \n*Doors open at listed event time\, live music typically starts 60-90 minutes after doors. End times are estimates.
URL:https://shakedownbarvail.com/event/band-tba/
LOCATION:Shakedown Bar 304 Bridge St\, Vail\, CO  81657\, United States\, Shakedown Bar 304 Bridge St\, Vail\, CO 81657\, United States
CATEGORIES:Full Band
ORGANIZER;CN="Shakedown Presents":MAILTO:info@shakedownbarvail.com
END:VEVENT
BEGIN:VEVENT
DTSTART;TZID=America/Denver:20251206T210000
DTEND;TZID=America/Denver:20251207T013000
DTSTAMP:20260420T002904
CREATED:20251107T214057Z
LAST-MODIFIED:20251107T214057Z
UID:10336-1765054800-1765071000@shakedownbarvail.com
SUMMARY:Taylor Scott Sneakin' Drinks - Honky Tonk Night
DESCRIPTION:Taylor Scott – Guitar/vocals \n*Doors open at listed event time\, live music typically starts 60-90 minutes after doors. End times are estimates.
URL:https://shakedownbarvail.com/event/taylor-scott-sneakin-drinks-honky-tonk-night/
LOCATION:Shakedown Bar 304 Bridge St\, Vail\, CO  81657\, United States\, Shakedown Bar 304 Bridge St\, Vail\, CO 81657\, United States
CATEGORIES:Full Band
ORGANIZER;CN="Shakedown Presents":MAILTO:info@shakedownbarvail.com
END:VEVENT
BEGIN:VEVENT
DTSTART;TZID=America/Denver:20251205T210000
DTEND;TZID=America/Denver:20251206T013000
DTSTAMP:20260420T002904
CREATED:20251107T213312Z
LAST-MODIFIED:20251107T213312Z
UID:10332-1764968400-1764984600@shakedownbarvail.com
SUMMARY:Scott Rednor Band
DESCRIPTION:Scott Rednor Band \nScott Rednor – Guitars/vocals \nKramer Kelling – Bass/vocals \nBrian Loftus – Drums \nTommy Shugart – Keyboards \n  \n*Doors open at listed event time\, live music typically starts 60-90 minutes after doors. End times are estimates.
URL:https://shakedownbarvail.com/event/scott-rednor-band-94/
LOCATION:Shakedown Bar 304 Bridge St\, Vail\, CO  81657\, United States\, Shakedown Bar 304 Bridge St\, Vail\, CO 81657\, United States
CATEGORIES:Full Band
ORGANIZER;CN="Shakedown Presents":MAILTO:info@shakedownbarvail.com
END:VEVENT
BEGIN:VEVENT
DTSTART;TZID=America/Denver:20251129T210000
DTEND;TZID=America/Denver:20251130T013000
DTSTAMP:20260420T002904
CREATED:20250908T200644Z
LAST-MODIFIED:20250908T200644Z
UID:10293-1764450000-1764466200@shakedownbarvail.com
SUMMARY:Scott Rednor Band
DESCRIPTION:Scott Rednor Band \nScott Rednor – Guitars/vocals \nKramer Kelling – Bass/vocals \nBrian Loftus – Drums \nTommy Shugart – Keyboards \n  \n*Doors open at listed event time\, live music typically starts 60-90 minutes after doors. End times are estimates.
URL:https://shakedownbarvail.com/event/scott-rednor-band-92/
LOCATION:Shakedown Bar 304 Bridge St\, Vail\, CO  81657\, United States\, Shakedown Bar 304 Bridge St\, Vail\, CO 81657\, United States
CATEGORIES:Full Band
END:VEVENT
BEGIN:VEVENT
DTSTART;TZID=America/Denver:20251128T210000
DTEND;TZID=America/Denver:20251129T013000
DTSTAMP:20260420T002904
CREATED:20250908T200515Z
LAST-MODIFIED:20250908T200515Z
UID:10289-1764363600-1764379800@shakedownbarvail.com
SUMMARY:Scott Rednor Band
DESCRIPTION:Scott Rednor Band \nScott Rednor – Guitars/vocals \nKramer Kelling – Bass/vocals \nBrian Loftus – Drums \nTommy Shugart – Keyboards \n  \n*Doors open at listed event time\, live music typically starts 60-90 minutes after doors. End times are estimates.
URL:https://shakedownbarvail.com/event/scott-rednor-band-91/
LOCATION:Shakedown Bar 304 Bridge St\, Vail\, CO  81657\, United States\, Shakedown Bar 304 Bridge St\, Vail\, CO 81657\, United States
CATEGORIES:Full Band
ORGANIZER;CN="Shakedown Presents":MAILTO:info@shakedownbarvail.com
END:VEVENT
BEGIN:VEVENT
DTSTART;TZID=America/Denver:20251122T210000
DTEND;TZID=America/Denver:20251123T013000
DTSTAMP:20260420T002904
CREATED:20251107T212104Z
LAST-MODIFIED:20251107T212104Z
UID:10318-1763845200-1763861400@shakedownbarvail.com
SUMMARY:Taylor Scott Band
DESCRIPTION:Taylor Scott – Guitar/vocals \n*Doors open at listed event time\, live music typically starts 60-90 minutes after doors. End times are estimates.
URL:https://shakedownbarvail.com/event/taylor-scott-band-39/
LOCATION:Shakedown Bar 304 Bridge St\, Vail\, CO  81657\, United States\, Shakedown Bar 304 Bridge St\, Vail\, CO 81657\, United States
CATEGORIES:Full Band
ORGANIZER;CN="Shakedown Presents":MAILTO:info@shakedownbarvail.com
END:VEVENT
BEGIN:VEVENT
DTSTART;TZID=America/Denver:20251121T210000
DTEND;TZID=America/Denver:20251122T013000
DTSTAMP:20260420T002904
CREATED:20251107T211915Z
LAST-MODIFIED:20251117T160616Z
UID:10314-1763758800-1763775000@shakedownbarvail.com
SUMMARY:Easy Tiger
DESCRIPTION:Easy Tiger \nInstagram \n  \n  \n*Doors open at listed event time\, live music typically starts 60-90 minutes after doors. End times are estimates.
URL:https://shakedownbarvail.com/event/scott-rednor-band-93/
LOCATION:Shakedown Bar 304 Bridge St\, Vail\, CO  81657\, United States\, Shakedown Bar 304 Bridge St\, Vail\, CO 81657\, United States
CATEGORIES:Full Band
ORGANIZER;CN="Shakedown Presents":MAILTO:info@shakedownbarvail.com
END:VEVENT
BEGIN:VEVENT
DTSTART;TZID=America/Denver:20251115T210000
DTEND;TZID=America/Denver:20251116T013000
DTSTAMP:20260420T002904
CREATED:20250908T195503Z
LAST-MODIFIED:20250908T195503Z
UID:10266-1763240400-1763256600@shakedownbarvail.com
SUMMARY:Scott Rednor Band
DESCRIPTION:Scott Rednor Band \nScott Rednor – Guitars/vocals \nKramer Kelling – Bass/vocals \nBrian Loftus – Drums \nTommy Shugart – Keyboards \n  \n*Doors open at listed event time\, live music typically starts 60-90 minutes after doors. End times are estimates.
URL:https://shakedownbarvail.com/event/scott-rednor-band-90/
LOCATION:Shakedown Bar 304 Bridge St\, Vail\, CO  81657\, United States\, Shakedown Bar 304 Bridge St\, Vail\, CO 81657\, United States
CATEGORIES:Full Band
ORGANIZER;CN="Shakedown Presents":MAILTO:info@shakedownbarvail.com
END:VEVENT
BEGIN:VEVENT
DTSTART;TZID=America/Denver:20251114T210000
DTEND;TZID=America/Denver:20251115T013000
DTSTAMP:20260420T002904
CREATED:20250908T195259Z
LAST-MODIFIED:20250908T195259Z
UID:10262-1763154000-1763170200@shakedownbarvail.com
SUMMARY:Scott Rednor Band
DESCRIPTION:Scott Rednor Band \nScott Rednor – Guitars/vocals \nKramer Kelling – Bass/vocals \nBrian Loftus – Drums \nTommy Shugart – Keyboards \n  \n*Doors open at listed event time\, live music typically starts 60-90 minutes after doors. End times are estimates.
URL:https://shakedownbarvail.com/event/scott-rednor-band-89/
LOCATION:Shakedown Bar 304 Bridge St\, Vail\, CO  81657\, United States\, Shakedown Bar 304 Bridge St\, Vail\, CO 81657\, United States
CATEGORIES:Full Band
ORGANIZER;CN="Shakedown Presents":MAILTO:info@shakedownbarvail.com
END:VEVENT
BEGIN:VEVENT
DTSTART;TZID=America/Denver:20251114T160000
DTEND;TZID=America/Denver:20251114T200000
DTSTAMP:20260420T002904
CREATED:20250908T195210Z
LAST-MODIFIED:20250908T195210Z
UID:10260-1763136000-1763150400@shakedownbarvail.com
SUMMARY:Scott Rednor Band Apres
DESCRIPTION:Scott Rednor Band \nScott Rednor – Guitars/vocals \nKramer Kelling – Bass/vocals \nBrian Loftus – Drums \nTommy Shugart – Keyboards \n  \n*Doors open at listed event time\, live music typically starts 60-90 minutes after doors. End times are estimates.
URL:https://shakedownbarvail.com/event/scott-rednor-band-apres-6/
LOCATION:Shakedown Bar 304 Bridge St\, Vail\, CO  81657\, United States\, Shakedown Bar 304 Bridge St\, Vail\, CO 81657\, United States
CATEGORIES:Aprés,Full Band
ORGANIZER;CN="Shakedown Presents":MAILTO:info@shakedownbarvail.com
END:VEVENT
BEGIN:VEVENT
DTSTART;TZID=America/Denver:20251018T210000
DTEND;TZID=America/Denver:20251019T013000
DTSTAMP:20260420T002904
CREATED:20250806T232855Z
LAST-MODIFIED:20250806T232855Z
UID:10215-1760821200-1760837400@shakedownbarvail.com
SUMMARY:Scott Rednor Band
DESCRIPTION:Scott Rednor Band \nScott Rednor – Guitars/vocals \nKramer Kelling – Bass/vocals \nBrian Loftus – Drums \nTommy Shugart – Keyboards \n  \n*Doors open at listed event time\, live music typically starts 60-90 minutes after doors. End times are estimates.
URL:https://shakedownbarvail.com/event/scott-rednor-band-87/
LOCATION:Shakedown Bar 304 Bridge St\, Vail\, CO  81657\, United States\, Shakedown Bar 304 Bridge St\, Vail\, CO 81657\, United States
CATEGORIES:Full Band
ORGANIZER;CN="Shakedown Presents":MAILTO:info@shakedownbarvail.com
END:VEVENT
BEGIN:VEVENT
DTSTART;TZID=America/Denver:20251017T210000
DTEND;TZID=America/Denver:20251018T013000
DTSTAMP:20260420T002904
CREATED:20250806T232813Z
LAST-MODIFIED:20250806T232813Z
UID:10213-1760734800-1760751000@shakedownbarvail.com
SUMMARY:Scott Rednor Band
DESCRIPTION:Scott Rednor Band \nScott Rednor – Guitars/vocals \nKramer Kelling – Bass/vocals \nBrian Loftus – Drums \nTommy Shugart – Keyboards \n  \n*Doors open at listed event time\, live music typically starts 60-90 minutes after doors. End times are estimates.
URL:https://shakedownbarvail.com/event/scott-rednor-band-86/
LOCATION:Shakedown Bar 304 Bridge St\, Vail\, CO  81657\, United States\, Shakedown Bar 304 Bridge St\, Vail\, CO 81657\, United States
CATEGORIES:Full Band
ORGANIZER;CN="Shakedown Presents":MAILTO:info@shakedownbarvail.com
END:VEVENT
BEGIN:VEVENT
DTSTART;TZID=America/Denver:20251004T210000
DTEND;TZID=America/Denver:20251005T013000
DTSTAMP:20260420T002904
CREATED:20250806T232152Z
LAST-MODIFIED:20250806T232152Z
UID:10203-1759611600-1759627800@shakedownbarvail.com
SUMMARY:Scott Rednor Band
DESCRIPTION:Scott Rednor Band \nScott Rednor – Guitars/vocals \nKramer Kelling – Bass/vocals \nBrian Loftus – Drums \nTommy Shugart – Keyboards \n  \n*Doors open at listed event time\, live music typically starts 60-90 minutes after doors. End times are estimates.
URL:https://shakedownbarvail.com/event/scott-rednor-band-85/
LOCATION:Shakedown Bar 304 Bridge St\, Vail\, CO  81657\, United States\, Shakedown Bar 304 Bridge St\, Vail\, CO 81657\, United States
CATEGORIES:Full Band
ORGANIZER;CN="Shakedown Presents":MAILTO:info@shakedownbarvail.com
END:VEVENT
BEGIN:VEVENT
DTSTART;TZID=America/Denver:20251003T210000
DTEND;TZID=America/Denver:20251004T013000
DTSTAMP:20260420T002904
CREATED:20250806T232104Z
LAST-MODIFIED:20250806T232104Z
UID:10201-1759525200-1759541400@shakedownbarvail.com
SUMMARY:Scott Rednor Band
DESCRIPTION:Scott Rednor Band \nScott Rednor – Guitars/vocals \nKramer Kelling – Bass/vocals \nBrian Loftus – Drums \nTommy Shugart – Keyboards \n  \n*Doors open at listed event time\, live music typically starts 60-90 minutes after doors. End times are estimates.
URL:https://shakedownbarvail.com/event/scott-rednor-band-84/
LOCATION:Shakedown Bar 304 Bridge St\, Vail\, CO  81657\, United States\, Shakedown Bar 304 Bridge St\, Vail\, CO 81657\, United States
CATEGORIES:Full Band
ORGANIZER;CN="Shakedown Presents":MAILTO:info@shakedownbarvail.com
END:VEVENT
BEGIN:VEVENT
DTSTART;TZID=America/Denver:20250927T210000
DTEND;TZID=America/Denver:20250928T013000
DTSTAMP:20260420T002904
CREATED:20250806T231222Z
LAST-MODIFIED:20250806T231222Z
UID:10188-1759006800-1759023000@shakedownbarvail.com
SUMMARY:Scott Rednor Band
DESCRIPTION:Scott Rednor Band \nScott Rednor – Guitars/vocals \nKramer Kelling – Bass/vocals \nBrian Loftus – Drums \nTommy Shugart – Keyboards \n  \n*Doors open at listed event time\, live music typically starts 60-90 minutes after doors. End times are estimates.
URL:https://shakedownbarvail.com/event/scott-rednor-band-83/
LOCATION:Shakedown Bar 304 Bridge St\, Vail\, CO  81657\, United States\, Shakedown Bar 304 Bridge St\, Vail\, CO 81657\, United States
CATEGORIES:Full Band
ORGANIZER;CN="Shakedown Presents":MAILTO:info@shakedownbarvail.com
END:VEVENT
BEGIN:VEVENT
DTSTART;TZID=America/Denver:20250926T210000
DTEND;TZID=America/Denver:20250927T013000
DTSTAMP:20260420T002904
CREATED:20250806T231122Z
LAST-MODIFIED:20250806T231122Z
UID:10186-1758920400-1758936600@shakedownbarvail.com
SUMMARY:Taylor Scott Band
DESCRIPTION:Taylor Scott – Guitar/vocals \n*Doors open at listed event time\, live music typically starts 60-90 minutes after doors. End times are estimates.
URL:https://shakedownbarvail.com/event/taylor-scott-band-38/
LOCATION:Shakedown Bar 304 Bridge St\, Vail\, CO  81657\, United States\, Shakedown Bar 304 Bridge St\, Vail\, CO 81657\, United States
CATEGORIES:Full Band
ORGANIZER;CN="Shakedown Presents":MAILTO:info@shakedownbarvail.com
END:VEVENT
BEGIN:VEVENT
DTSTART;TZID=America/Denver:20250919T210000
DTEND;TZID=America/Denver:20250920T013000
DTSTAMP:20260420T002904
CREATED:20250806T200531Z
LAST-MODIFIED:20250806T200531Z
UID:10172-1758315600-1758331800@shakedownbarvail.com
SUMMARY:Scott Rednor Band
DESCRIPTION:Scott Rednor Band \nScott Rednor – Guitars/vocals \nKramer Kelling – Bass/vocals \nBrian Loftus – Drums \nTommy Shugart – Keyboards \n  \n*Doors open at listed event time\, live music typically starts 60-90 minutes after doors. End times are estimates.
URL:https://shakedownbarvail.com/event/scott-rednor-band-82/
LOCATION:Shakedown Bar 304 Bridge St\, Vail\, CO  81657\, United States\, Shakedown Bar 304 Bridge St\, Vail\, CO 81657\, United States
CATEGORIES:Full Band
ORGANIZER;CN="Shakedown Presents":MAILTO:info@shakedownbarvail.com
END:VEVENT
BEGIN:VEVENT
DTSTART;TZID=America/Denver:20250821T210000
DTEND;TZID=America/Denver:20250822T013000
DTSTAMP:20260420T002904
CREATED:20250610T015115Z
LAST-MODIFIED:20250610T015115Z
UID:10101-1755810000-1755826200@shakedownbarvail.com
SUMMARY:Scott Rednor Band
DESCRIPTION:Scott Rednor Band \nScott Rednor – Guitars/vocals \nKramer Kelling – Bass/vocals \nBrian Loftus – Drums \nTommy Shugart – Keyboards \n  \n*Doors open at listed event time\, live music typically starts 60-90 minutes after doors. End times are estimates.
URL:https://shakedownbarvail.com/event/scott-rednor-band-76/
LOCATION:Shakedown Bar 304 Bridge St\, Vail\, CO  81657\, United States\, Shakedown Bar 304 Bridge St\, Vail\, CO 81657\, United States
CATEGORIES:Full Band
ORGANIZER;CN="Shakedown Presents":MAILTO:info@shakedownbarvail.com
END:VEVENT
END:VCALENDAR