BEGIN:VCALENDAR
VERSION:2.0
PRODID:-//Shakedown Bar - ECPv6.15.14//NONSGML v1.0//EN
CALSCALE:GREGORIAN
METHOD:PUBLISH
X-WR-CALNAME:Shakedown Bar
X-ORIGINAL-URL:https://shakedownbarvail.com
X-WR-CALDESC:Events for Shakedown Bar
REFRESH-INTERVAL;VALUE=DURATION:PT1H
X-Robots-Tag:noindex
X-PUBLISHED-TTL:PT1H
BEGIN:VTIMEZONE
TZID:America/Denver
BEGIN:DAYLIGHT
TZOFFSETFROM:-0700
TZOFFSETTO:-0600
TZNAME:MDT
DTSTART:20220313T090000
END:DAYLIGHT
BEGIN:STANDARD
TZOFFSETFROM:-0600
TZOFFSETTO:-0700
TZNAME:MST
DTSTART:20221106T080000
END:STANDARD
BEGIN:DAYLIGHT
TZOFFSETFROM:-0700
TZOFFSETTO:-0600
TZNAME:MDT
DTSTART:20230312T090000
END:DAYLIGHT
BEGIN:STANDARD
TZOFFSETFROM:-0600
TZOFFSETTO:-0700
TZNAME:MST
DTSTART:20231105T080000
END:STANDARD
BEGIN:DAYLIGHT
TZOFFSETFROM:-0700
TZOFFSETTO:-0600
TZNAME:MDT
DTSTART:20240310T090000
END:DAYLIGHT
BEGIN:STANDARD
TZOFFSETFROM:-0600
TZOFFSETTO:-0700
TZNAME:MST
DTSTART:20241103T080000
END:STANDARD
END:VTIMEZONE
BEGIN:VEVENT
DTSTART;TZID=America/Denver:20231222T210000
DTEND;TZID=America/Denver:20231223T013000
DTSTAMP:20260423T125045
CREATED:20231012T191508Z
LAST-MODIFIED:20231012T191508Z
UID:8234-1703278800-1703295000@shakedownbarvail.com
SUMMARY:Kory Montgomery Band
DESCRIPTION:Kory Montgomery – Guitar/vocals \nScott Rednor – Guitar/vocals \nKramer Kelling – Bass/vocals \nMark Levy – Drums \n  \n*Doors open at listed event time\, live music typically starts 60-90 minutes after doors. End times are estimates.
URL:https://shakedownbarvail.com/event/kory-montgomery-band-10/
LOCATION:Shakedown Bar 304 Bridge St\, Vail\, CO  81657\, United States\, Shakedown Bar 304 Bridge St\, Vail\, CO 81657\, United States
CATEGORIES:Events,Full Band
ORGANIZER;CN="Shakedown Presents":MAILTO:info@shakedownbarvail.com
END:VEVENT
BEGIN:VEVENT
DTSTART;TZID=America/Denver:20231220T210000
DTEND;TZID=America/Denver:20231221T013000
DTSTAMP:20260423T125045
CREATED:20231012T190740Z
LAST-MODIFIED:20231012T190740Z
UID:8226-1703106000-1703122200@shakedownbarvail.com
SUMMARY:Kory Montgomery Solo
DESCRIPTION:Kory Montgomery – Guitar/vocals \n*Doors open at listed event time\, live music typically starts 60-90 minutes after doors. End times are estimates.
URL:https://shakedownbarvail.com/event/kory-montgomery-solo-16/
LOCATION:Shakedown Bar 304 Bridge St\, Vail\, CO  81657\, United States\, Shakedown Bar 304 Bridge St\, Vail\, CO 81657\, United States
CATEGORIES:Events,Full Band
ORGANIZER;CN="Shakedown Presents":MAILTO:info@shakedownbarvail.com
END:VEVENT
BEGIN:VEVENT
DTSTART;TZID=America/Denver:20231214T210000
DTEND;TZID=America/Denver:20231215T013000
DTSTAMP:20260423T125045
CREATED:20230928T195023Z
LAST-MODIFIED:20230928T195023Z
UID:8189-1702587600-1702603800@shakedownbarvail.com
SUMMARY:Float Like a Buffalo
DESCRIPTION:Live music featuring the Float Like a Buffalo \nDoors @ 9pm | Music @ 9:30pm
URL:https://shakedownbarvail.com/event/float-like-a-buffalo/
LOCATION:Shakedown Bar 304 Bridge St\, Vail\, CO  81657\, United States\, Shakedown Bar 304 Bridge St\, Vail\, CO 81657\, United States
CATEGORIES:Events,Full Band
ORGANIZER;CN="Shakedown Presents":MAILTO:info@shakedownbarvail.com
END:VEVENT
BEGIN:VEVENT
DTSTART;TZID=America/Denver:20231209T210000
DTEND;TZID=America/Denver:20231210T013000
DTSTAMP:20260423T125045
CREATED:20231208T002453Z
LAST-MODIFIED:20231208T002453Z
UID:8681-1702155600-1702171800@shakedownbarvail.com
SUMMARY:Taylor Scott Band
DESCRIPTION:Taylor Scott Band \n*Doors open at listed event time\, live music typically starts 60-90 minutes after doors. End times are estimates.
URL:https://shakedownbarvail.com/event/taylor-scott-band-18/
LOCATION:Shakedown Bar 304 Bridge St\, Vail\, CO  81657\, United States\, Shakedown Bar 304 Bridge St\, Vail\, CO 81657\, United States
CATEGORIES:Events,Full Band
ORGANIZER;CN="Shakedown Presents":MAILTO:info@shakedownbarvail.com
END:VEVENT
BEGIN:VEVENT
DTSTART;TZID=America/Denver:20231208T210000
DTEND;TZID=America/Denver:20231209T013000
DTSTAMP:20260423T125045
CREATED:20230928T194524Z
LAST-MODIFIED:20230928T194524Z
UID:8177-1702069200-1702085400@shakedownbarvail.com
SUMMARY:Taylor Frederick Band
DESCRIPTION:Live music featuring the Taylor Frederick Band. \nDoors @ 9pm | Music @ 9:30pm
URL:https://shakedownbarvail.com/event/taylor-frederick-band-2/
LOCATION:Shakedown Bar 304 Bridge St\, Vail\, CO  81657\, United States\, Shakedown Bar 304 Bridge St\, Vail\, CO 81657\, United States
CATEGORIES:Events,Full Band
ORGANIZER;CN="Shakedown Presents":MAILTO:info@shakedownbarvail.com
END:VEVENT
BEGIN:VEVENT
DTSTART;TZID=America/Denver:20231202T210000
DTEND;TZID=America/Denver:20231203T013000
DTSTAMP:20260423T125045
CREATED:20231102T190132Z
LAST-MODIFIED:20231102T190132Z
UID:8270-1701550800-1701567000@shakedownbarvail.com
SUMMARY:Kory Montgomery Band w/ Scott Rednor
DESCRIPTION:Kory Montgomery – Guitar/vocals \nScott Rednor – Guitar/vocals \nKramer Kelling – Bass/vocals \nBrian Loftus – Drums \n  \n*Doors open at listed event time\, live music typically starts 60-90 minutes after doors. End times are estimates.
URL:https://shakedownbarvail.com/event/kory-montgomery-band-w-scott-rednor/
LOCATION:Shakedown Bar 304 Bridge St\, Vail\, CO  81657\, United States\, Shakedown Bar 304 Bridge St\, Vail\, CO 81657\, United States
CATEGORIES:Events,Full Band
ORGANIZER;CN="Shakedown Presents":MAILTO:info@shakedownbarvail.com
END:VEVENT
BEGIN:VEVENT
DTSTART;TZID=America/Denver:20231201T210000
DTEND;TZID=America/Denver:20231202T013000
DTSTAMP:20260423T125045
CREATED:20230928T193231Z
LAST-MODIFIED:20230928T193231Z
UID:8158-1701464400-1701480600@shakedownbarvail.com
SUMMARY:Paul Benjaman Band
DESCRIPTION:Paul Benjaman Band \n*Doors open at listed event time\, live music typically starts 60-90 minutes after doors. End times are estimates.
URL:https://shakedownbarvail.com/event/paul-benjaman-band/
LOCATION:Shakedown Bar 304 Bridge St\, Vail\, CO  81657\, United States\, Shakedown Bar 304 Bridge St\, Vail\, CO 81657\, United States
CATEGORIES:Events,Full Band
ORGANIZER;CN="Shakedown Presents":MAILTO:info@shakedownbarvail.com
END:VEVENT
BEGIN:VEVENT
DTSTART;TZID=America/Denver:20231130T210000
DTEND;TZID=America/Denver:20231201T010000
DTSTAMP:20260423T125045
CREATED:20230927T221631Z
LAST-MODIFIED:20231128T000204Z
UID:8154-1701378000-1701392400@shakedownbarvail.com
SUMMARY:Pickin' On The Dead
DESCRIPTION:Tyler Grant – Guitar/vocals \nJake Wolf – Drums/vocals \nMichael Kirkpatrick – Mandolin/vocals
URL:https://shakedownbarvail.com/event/pickin-on-the-dead/
LOCATION:Shakedown Bar 304 Bridge St\, Vail\, CO  81657\, United States\, Shakedown Bar 304 Bridge St\, Vail\, CO 81657\, United States
CATEGORIES:Events,Full Band
ORGANIZER;CN="Shakedown Presents":MAILTO:info@shakedownbarvail.com
END:VEVENT
BEGIN:VEVENT
DTSTART;TZID=America/Denver:20231125T210000
DTEND;TZID=America/Denver:20231126T013000
DTSTAMP:20260423T125045
CREATED:20230927T221420Z
LAST-MODIFIED:20230927T221420Z
UID:8150-1700946000-1700962200@shakedownbarvail.com
SUMMARY:Taylor Scott Band
DESCRIPTION:Taylor Scott Band \n*Doors open at listed event time\, live music typically starts 60-90 minutes after doors. End times are estimates.
URL:https://shakedownbarvail.com/event/taylor-scott-band-13/
LOCATION:Shakedown Bar 304 Bridge St\, Vail\, CO  81657\, United States\, Shakedown Bar 304 Bridge St\, Vail\, CO 81657\, United States
CATEGORIES:Events,Full Band
ORGANIZER;CN="Shakedown Presents":MAILTO:info@shakedownbarvail.com
END:VEVENT
BEGIN:VEVENT
DTSTART;TZID=America/Denver:20231124T210000
DTEND;TZID=America/Denver:20231125T013000
DTSTAMP:20260423T125045
CREATED:20230927T221022Z
LAST-MODIFIED:20230927T221302Z
UID:8146-1700859600-1700875800@shakedownbarvail.com
SUMMARY:Taylor Frederick Band
DESCRIPTION:Live music featuring the Taylor Frederick Band. \nDoors @ 9pm | Music @ 9:30pm
URL:https://shakedownbarvail.com/event/taylor-frederick-band/
LOCATION:Shakedown Bar 304 Bridge St\, Vail\, CO  81657\, United States\, Shakedown Bar 304 Bridge St\, Vail\, CO 81657\, United States
CATEGORIES:Events,Full Band
ORGANIZER;CN="Shakedown Presents":MAILTO:info@shakedownbarvail.com
END:VEVENT
BEGIN:VEVENT
DTSTART;TZID=America/Denver:20231028T210000
DTEND;TZID=America/Denver:20231029T013000
DTSTAMP:20260423T125045
CREATED:20231009T182515Z
LAST-MODIFIED:20231009T182515Z
UID:8217-1698526800-1698543000@shakedownbarvail.com
SUMMARY:Taylor Scott Band "Soul of the 70's"
DESCRIPTION:Taylor Scott Band \n*Doors open at listed event time\, live music typically starts 60-90 minutes after doors. End times are estimates.
URL:https://shakedownbarvail.com/event/taylor-scott-band-soul-of-the-70s/
LOCATION:Shakedown Bar 304 Bridge St\, Vail\, CO  81657\, United States\, Shakedown Bar 304 Bridge St\, Vail\, CO 81657\, United States
CATEGORIES:Events,Full Band
ORGANIZER;CN="Shakedown Presents":MAILTO:info@shakedownbarvail.com
END:VEVENT
BEGIN:VEVENT
DTSTART;TZID=America/Denver:20231020T210000
DTEND;TZID=America/Denver:20231021T013000
DTSTAMP:20260423T125045
CREATED:20230927T214922Z
LAST-MODIFIED:20230927T214922Z
UID:8107-1697835600-1697851800@shakedownbarvail.com
SUMMARY:Kory Montgomery Band
DESCRIPTION:Kory Montgomery – Guitar/vocals \nScott Rednor – Guitar/vocals \nKramer Kelling – Bass/vocals \nBrian Loftus – Drums \n  \n*Doors open at listed event time\, live music typically starts 60-90 minutes after doors. End times are estimates.
URL:https://shakedownbarvail.com/event/kory-montgomery-band-9/
LOCATION:Shakedown Bar 304 Bridge St\, Vail\, CO  81657\, United States\, Shakedown Bar 304 Bridge St\, Vail\, CO 81657\, United States
CATEGORIES:Events,Full Band
ORGANIZER;CN="Shakedown Presents":MAILTO:info@shakedownbarvail.com
END:VEVENT
BEGIN:VEVENT
DTSTART;TZID=America/Denver:20231019T210000
DTEND;TZID=America/Denver:20231020T013000
DTSTAMP:20260423T125045
CREATED:20231009T182217Z
LAST-MODIFIED:20231009T182217Z
UID:8211-1697749200-1697765400@shakedownbarvail.com
SUMMARY:Kory Montgomery Solo
DESCRIPTION:Kory Montgomery – Guitar/vocals \n*Doors open at listed event time\, live music typically starts 60-90 minutes after doors. End times are estimates.
URL:https://shakedownbarvail.com/event/kory-montgomery-solo-15/
LOCATION:Shakedown Bar 304 Bridge St\, Vail\, CO  81657\, United States\, Shakedown Bar 304 Bridge St\, Vail\, CO 81657\, United States
CATEGORIES:Events,Full Band
ORGANIZER;CN="Shakedown Presents":MAILTO:info@shakedownbarvail.com
END:VEVENT
BEGIN:VEVENT
DTSTART;TZID=America/Denver:20231010T200000
DTEND;TZID=America/Denver:20231011T003000
DTSTAMP:20260423T125045
CREATED:20230927T214002Z
LAST-MODIFIED:20231006T032443Z
UID:8085-1696968000-1696984200@shakedownbarvail.com
SUMMARY:Private Event
DESCRIPTION:Closed for a private event
URL:https://shakedownbarvail.com/event/scott-rednor-band-16/
LOCATION:Shakedown Bar 304 Bridge St\, Vail\, CO  81657\, United States\, Shakedown Bar 304 Bridge St\, Vail\, CO 81657\, United States
CATEGORIES:Events,Full Band
ORGANIZER;CN="Shakedown Presents":MAILTO:info@shakedownbarvail.com
END:VEVENT
BEGIN:VEVENT
DTSTART;TZID=America/Denver:20231006T210000
DTEND;TZID=America/Denver:20231007T013000
DTSTAMP:20260423T125045
CREATED:20230927T213648Z
LAST-MODIFIED:20230927T213648Z
UID:8074-1696626000-1696642200@shakedownbarvail.com
SUMMARY:Scott Rednor Band
DESCRIPTION:Scott Rednor – Guitars/vocals \nKramer Kelling – Bass/vocals \nBrian Loftus – Drums \n*Doors open at listed event time\, live music typically starts 60-90 minutes after doors. End times are estimates.
URL:https://shakedownbarvail.com/event/scott-rednor-band-15/
LOCATION:Shakedown Bar 304 Bridge St\, Vail\, CO  81657\, United States\, Shakedown Bar 304 Bridge St\, Vail\, CO 81657\, United States
CATEGORIES:Events,Full Band
ORGANIZER;CN="Shakedown Presents":MAILTO:info@shakedownbarvail.com
END:VEVENT
BEGIN:VEVENT
DTSTART;TZID=America/Denver:20230930T210000
DTEND;TZID=America/Denver:20231001T013000
DTSTAMP:20260423T125045
CREATED:20230927T213220Z
LAST-MODIFIED:20230927T213220Z
UID:8061-1696107600-1696123800@shakedownbarvail.com
SUMMARY:Taylor Scott Band
DESCRIPTION:Taylor Scott Band \n*Doors open at listed event time\, live music typically starts 60-90 minutes after doors. End times are estimates.
URL:https://shakedownbarvail.com/event/taylor-scott-band-11/
LOCATION:Shakedown Bar 304 Bridge St\, Vail\, CO  81657\, United States\, Shakedown Bar 304 Bridge St\, Vail\, CO 81657\, United States
CATEGORIES:Events,Full Band
ORGANIZER;CN="Shakedown Presents":MAILTO:info@shakedownbarvail.com
END:VEVENT
BEGIN:VEVENT
DTSTART;TZID=America/Denver:20230929T210000
DTEND;TZID=America/Denver:20230930T013000
DTSTAMP:20260423T125045
CREATED:20230830T171022Z
LAST-MODIFIED:20230830T171022Z
UID:8049-1696021200-1696037400@shakedownbarvail.com
SUMMARY:Kory Montgomery Band
DESCRIPTION:Kory Montgomery – Guitar/vocals \n  \n*Doors open at listed event time\, live music typically starts 60-90 minutes after doors.  End times are estimates.
URL:https://shakedownbarvail.com/event/kory-montgomery-band-8/
LOCATION:Shakedown Bar 304 Bridge St\, Vail\, CO  81657\, United States\, Shakedown Bar 304 Bridge St\, Vail\, CO 81657\, United States
CATEGORIES:Events,Full Band
ORGANIZER;CN="Shakedown Presents":MAILTO:info@shakedownbarvail.com
END:VEVENT
BEGIN:VEVENT
DTSTART;TZID=America/Denver:20230923T210000
DTEND;TZID=America/Denver:20230924T013000
DTSTAMP:20260423T125045
CREATED:20230827T161451Z
LAST-MODIFIED:20230827T161451Z
UID:8039-1695502800-1695519000@shakedownbarvail.com
SUMMARY:Scott Rednor Band feat. Eric McFadden
DESCRIPTION:Scott Rednor – Guitars/vocals \nEric McFadden – Guitar/ vocals \nKramer Kelling – Bass/vocals \nBrian Loftus – Drums \n*Doors open at listed event time\, live music typically starts 60-90 minutes after doors. End times are estimates.
URL:https://shakedownbarvail.com/event/scott-rednor-band-feat-eric-mcfadden-2/
LOCATION:Shakedown Bar 304 Bridge St\, Vail\, CO  81657\, United States\, Shakedown Bar 304 Bridge St\, Vail\, CO 81657\, United States
CATEGORIES:Events,Full Band
ORGANIZER;CN="Shakedown Presents":MAILTO:info@shakedownbarvail.com
END:VEVENT
BEGIN:VEVENT
DTSTART;TZID=America/Denver:20230922T210000
DTEND;TZID=America/Denver:20230923T013000
DTSTAMP:20260423T125045
CREATED:20230827T161425Z
LAST-MODIFIED:20230827T161425Z
UID:8037-1695416400-1695432600@shakedownbarvail.com
SUMMARY:Scott Rednor Band feat. Eric McFadden
DESCRIPTION:Scott Rednor – Guitars/vocals \nEric McFadden – Guitar/ vocals \nKramer Kelling – Bass/vocals \nBrian Loftus – Drums \n*Doors open at listed event time\, live music typically starts 60-90 minutes after doors. End times are estimates.
URL:https://shakedownbarvail.com/event/scott-rednor-band-feat-eric-mcfadden/
LOCATION:Shakedown Bar 304 Bridge St\, Vail\, CO  81657\, United States\, Shakedown Bar 304 Bridge St\, Vail\, CO 81657\, United States
CATEGORIES:Events,Full Band
ORGANIZER;CN="Shakedown Presents":MAILTO:info@shakedownbarvail.com
END:VEVENT
BEGIN:VEVENT
DTSTART;TZID=America/Denver:20230917T210000
DTEND;TZID=America/Denver:20230918T013000
DTSTAMP:20260423T125045
CREATED:20230827T155903Z
LAST-MODIFIED:20230827T155903Z
UID:8026-1694984400-1695000600@shakedownbarvail.com
SUMMARY:Taylor Scott Trio
DESCRIPTION:Taylor Scott Trio \n*Doors open at listed event time\, live music typically starts 60-90 minutes after doors. End times are estimates.
URL:https://shakedownbarvail.com/event/taylor-scott-trio/
LOCATION:Shakedown Bar 304 Bridge St\, Vail\, CO  81657\, United States\, Shakedown Bar 304 Bridge St\, Vail\, CO 81657\, United States
CATEGORIES:Events,Full Band
ORGANIZER;CN="Shakedown Presents":MAILTO:info@shakedownbarvail.com
END:VEVENT
BEGIN:VEVENT
DTSTART;TZID=America/Denver:20230916T210000
DTEND;TZID=America/Denver:20230917T013000
DTSTAMP:20260423T125045
CREATED:20230827T155254Z
LAST-MODIFIED:20230827T155338Z
UID:8023-1694898000-1694914200@shakedownbarvail.com
SUMMARY:Kory Montgomery Band
DESCRIPTION:Kory Montgomery – Guitar/vocals \n  \n*Doors open at listed event time\, live music typically starts 60-90 minutes after doors.  End times are estimates.
URL:https://shakedownbarvail.com/event/kory-montgomery-band-7/
LOCATION:Shakedown Bar 304 Bridge St\, Vail\, CO  81657\, United States\, Shakedown Bar 304 Bridge St\, Vail\, CO 81657\, United States
CATEGORIES:Events,Full Band
ORGANIZER;CN="Shakedown Presents":MAILTO:info@shakedownbarvail.com
END:VEVENT
BEGIN:VEVENT
DTSTART;TZID=America/Denver:20230915T210000
DTEND;TZID=America/Denver:20230916T013000
DTSTAMP:20260423T125045
CREATED:20230827T155113Z
LAST-MODIFIED:20230827T155113Z
UID:8021-1694811600-1694827800@shakedownbarvail.com
SUMMARY:Taylor Scott Band
DESCRIPTION:Taylor Scott Band \n*Doors open at listed event time\, live music typically starts 60-90 minutes after doors. End times are estimates.
URL:https://shakedownbarvail.com/event/taylor-scott-band-10/
LOCATION:Shakedown Bar 304 Bridge St\, Vail\, CO  81657\, United States\, Shakedown Bar 304 Bridge St\, Vail\, CO 81657\, United States
CATEGORIES:Events,Full Band
ORGANIZER;CN="Shakedown Presents":MAILTO:info@shakedownbarvail.com
END:VEVENT
BEGIN:VEVENT
DTSTART;TZID=America/Denver:20230909T210000
DTEND;TZID=America/Denver:20230910T013000
DTSTAMP:20260423T125045
CREATED:20230718T031549Z
LAST-MODIFIED:20230718T031549Z
UID:7981-1694293200-1694309400@shakedownbarvail.com
SUMMARY:Scott Rednor Band
DESCRIPTION:Scott Rednor – Guitars/vocals \nKramer Kelling – Bass/vocals \nBrian Loftus – Drums \n*Doors open at listed event time\, live music typically starts 60-90 minutes after doors. End times are estimates.
URL:https://shakedownbarvail.com/event/scott-rednor-band-14/
LOCATION:Shakedown Bar 304 Bridge St\, Vail\, CO  81657\, United States\, Shakedown Bar 304 Bridge St\, Vail\, CO 81657\, United States
CATEGORIES:Events,Full Band
ORGANIZER;CN="Shakedown Presents":MAILTO:info@shakedownbarvail.com
END:VEVENT
BEGIN:VEVENT
DTSTART;TZID=America/Denver:20230908T210000
DTEND;TZID=America/Denver:20230909T013000
DTSTAMP:20260423T125045
CREATED:20230718T031230Z
LAST-MODIFIED:20230718T031230Z
UID:7979-1694206800-1694223000@shakedownbarvail.com
SUMMARY:Kory Montgomery Band
DESCRIPTION:Kory Montgomery – Guitar/vocals \nTommy Shugart – Keyboards \nKramer Kelling – Bass/vocals \nMark Levy – Drums/vocals \n  \n*Doors open at listed event time\, live music typically starts 60-90 minutes after doors.  End times are estimates.
URL:https://shakedownbarvail.com/event/kory-montgomery-band-6/
LOCATION:Shakedown Bar 304 Bridge St\, Vail\, CO  81657\, United States\, Shakedown Bar 304 Bridge St\, Vail\, CO 81657\, United States
CATEGORIES:Events,Full Band
ORGANIZER;CN="Shakedown Presents":MAILTO:info@shakedownbarvail.com
END:VEVENT
BEGIN:VEVENT
DTSTART;TZID=America/Denver:20230907T200000
DTEND;TZID=America/Denver:20230908T013000
DTSTAMP:20260423T125045
CREATED:20230718T030740Z
LAST-MODIFIED:20230817T144953Z
UID:7977-1694116800-1694136600@shakedownbarvail.com
SUMMARY:Taylor Scott Band
DESCRIPTION:Taylor Scott Band \n*Doors open at listed event time\, live music typically starts 60-90 minutes after doors. End times are estimates.
URL:https://shakedownbarvail.com/event/taylor-scott-band-9/
LOCATION:Shakedown Bar 304 Bridge St\, Vail\, CO  81657\, United States\, Shakedown Bar 304 Bridge St\, Vail\, CO 81657\, United States
CATEGORIES:Events,Full Band
ORGANIZER;CN="Shakedown Presents":MAILTO:info@shakedownbarvail.com
END:VEVENT
BEGIN:VEVENT
DTSTART;TZID=America/Denver:20230903T210000
DTEND;TZID=America/Denver:20230904T013000
DTSTAMP:20260423T125045
CREATED:20230718T025644Z
LAST-MODIFIED:20230804T232744Z
UID:7969-1693774800-1693791000@shakedownbarvail.com
SUMMARY:Graham Good & The Painters
DESCRIPTION:Graham Good and The Painters \n\n*Doors open at listed event time\, live music typically starts 60-90 minutes after doors. End times are estimates.
URL:https://shakedownbarvail.com/event/tba-6/
LOCATION:Shakedown Bar 304 Bridge St\, Vail\, CO  81657\, United States\, Shakedown Bar 304 Bridge St\, Vail\, CO 81657\, United States
CATEGORIES:Events,Full Band
ORGANIZER;CN="Shakedown Presents":MAILTO:info@shakedownbarvail.com
END:VEVENT
BEGIN:VEVENT
DTSTART;TZID=America/Denver:20230902T210000
DTEND;TZID=America/Denver:20230903T013000
DTSTAMP:20260423T125045
CREATED:20230718T025316Z
LAST-MODIFIED:20230718T025316Z
UID:7967-1693688400-1693704600@shakedownbarvail.com
SUMMARY:Shakedown Family Honky Tonk Express
DESCRIPTION:  \n*Doors open at listed event time\, live music typically starts 60-90 minutes after doors. End times are estimates.
URL:https://shakedownbarvail.com/event/shakedown-family-honky-tonk-express-2/
LOCATION:Shakedown Bar 304 Bridge St\, Vail\, CO  81657\, United States\, Shakedown Bar 304 Bridge St\, Vail\, CO 81657\, United States
CATEGORIES:Events,Full Band
ORGANIZER;CN="Shakedown Presents":MAILTO:info@shakedownbarvail.com
END:VEVENT
BEGIN:VEVENT
DTSTART;TZID=America/Denver:20230901T210000
DTEND;TZID=America/Denver:20230902T013000
DTSTAMP:20260423T125045
CREATED:20230714T225853Z
LAST-MODIFIED:20230714T225853Z
UID:7962-1693602000-1693618200@shakedownbarvail.com
SUMMARY:Taylor Scott Band
DESCRIPTION:Taylor Scott Band \n*Doors open at listed event time\, live music typically starts 60-90 minutes after doors. End times are estimates.
URL:https://shakedownbarvail.com/event/taylor-scott-band-8/
LOCATION:Shakedown Bar 304 Bridge St\, Vail\, CO  81657\, United States\, Shakedown Bar 304 Bridge St\, Vail\, CO 81657\, United States
CATEGORIES:Events,Full Band
ORGANIZER;CN="Shakedown Presents":MAILTO:info@shakedownbarvail.com
END:VEVENT
BEGIN:VEVENT
DTSTART;TZID=America/Denver:20230825T210000
DTEND;TZID=America/Denver:20230826T013000
DTSTAMP:20260423T125045
CREATED:20230524T224042Z
LAST-MODIFIED:20230524T224042Z
UID:7889-1692997200-1693013400@shakedownbarvail.com
SUMMARY:Taylor Scott Band
DESCRIPTION:Taylor Scott Band \n  \n*Doors open at listed event time\, live music typically starts 60-90 minutes after doors. End times are estimates.
URL:https://shakedownbarvail.com/event/taylor-scott-band-7/
LOCATION:Shakedown Bar 304 Bridge St\, Vail\, CO  81657\, United States\, Shakedown Bar 304 Bridge St\, Vail\, CO 81657\, United States
CATEGORIES:Events,Full Band
ORGANIZER;CN="Shakedown Presents":MAILTO:info@shakedownbarvail.com
END:VEVENT
BEGIN:VEVENT
DTSTART;TZID=America/Denver:20230812T210000
DTEND;TZID=America/Denver:20230813T013000
DTSTAMP:20260423T125045
CREATED:20230524T214715Z
LAST-MODIFIED:20230803T161427Z
UID:7861-1691874000-1691890200@shakedownbarvail.com
SUMMARY:Shakedown Family Band feat. Jay Lane (Dead and Co\, Wolf Brothers)\, Joey Porter (Motet)\, Todd Smallie (JJ Grey and Mofro) and Scott Rednor
DESCRIPTION:Scott Rednor – Guitar/vocals \nJoey Porter (The Motet) – Keyboards/vocals \nTodd Smallie – Bass \nJay Lane (Dead & Co. \, Bobby Weir & Wolf Bros) – Drums \n*Doors open at listed event time\, live music typically starts 60-90 minutes after doors.  End times are estimates.
URL:https://shakedownbarvail.com/event/matt-oree-band/
LOCATION:Shakedown Bar 304 Bridge St\, Vail\, CO  81657\, United States\, Shakedown Bar 304 Bridge St\, Vail\, CO 81657\, United States
CATEGORIES:Events,Full Band
ORGANIZER;CN="Shakedown Presents":MAILTO:info@shakedownbarvail.com
END:VEVENT
END:VCALENDAR