BEGIN:VCALENDAR
VERSION:2.0
PRODID:-//Shakedown Bar - ECPv6.15.14//NONSGML v1.0//EN
CALSCALE:GREGORIAN
METHOD:PUBLISH
X-ORIGINAL-URL:https://shakedownbarvail.com
X-WR-CALDESC:Events for Shakedown Bar
REFRESH-INTERVAL;VALUE=DURATION:PT1H
X-Robots-Tag:noindex
X-PUBLISHED-TTL:PT1H
BEGIN:VTIMEZONE
TZID:America/Denver
BEGIN:DAYLIGHT
TZOFFSETFROM:-0700
TZOFFSETTO:-0600
TZNAME:MDT
DTSTART:20250309T090000
END:DAYLIGHT
BEGIN:STANDARD
TZOFFSETFROM:-0600
TZOFFSETTO:-0700
TZNAME:MST
DTSTART:20251102T080000
END:STANDARD
BEGIN:DAYLIGHT
TZOFFSETFROM:-0700
TZOFFSETTO:-0600
TZNAME:MDT
DTSTART:20260308T090000
END:DAYLIGHT
BEGIN:STANDARD
TZOFFSETFROM:-0600
TZOFFSETTO:-0700
TZNAME:MST
DTSTART:20261101T080000
END:STANDARD
BEGIN:DAYLIGHT
TZOFFSETFROM:-0700
TZOFFSETTO:-0600
TZNAME:MDT
DTSTART:20270314T090000
END:DAYLIGHT
BEGIN:STANDARD
TZOFFSETFROM:-0600
TZOFFSETTO:-0700
TZNAME:MST
DTSTART:20271107T080000
END:STANDARD
END:VTIMEZONE
BEGIN:VEVENT
DTSTART;TZID=America/Denver:20260627T210000
DTEND;TZID=America/Denver:20260628T013000
DTSTAMP:20260419T183709
CREATED:20260418T190210Z
LAST-MODIFIED:20260418T190210Z
UID:10953-1782594000-1782610200@shakedownbarvail.com
SUMMARY:Scott Rednor Band 
DESCRIPTION:Scott Rednor Band  \nScott Rednor – Guitars/vocals \nKramer Kelling – Bass/vocals \nBrian Loftus – Drums \nTommy Shugart – Keyboards \n  \n*Doors open at listed event time\, live music typically starts 60-90 minutes after doors. End times are estimates.
URL:https://shakedownbarvail.com/event/scott-rednor-band-112/
LOCATION:Shakedown Bar 304 Bridge St\, Vail\, CO  81657\, United States\, Shakedown Bar 304 Bridge St\, Vail\, CO 81657\, United States
CATEGORIES:Full Band
ORGANIZER;CN="Shakedown Presents":MAILTO:info@shakedownbarvail.com
END:VEVENT
BEGIN:VEVENT
DTSTART;TZID=America/Denver:20260702T210000
DTEND;TZID=America/Denver:20260703T013000
DTSTAMP:20260419T183709
CREATED:20260418T190411Z
LAST-MODIFIED:20260418T190411Z
UID:10963-1783026000-1783042200@shakedownbarvail.com
SUMMARY:Scott Rednor Band 
DESCRIPTION:Scott Rednor Band  \nScott Rednor – Guitars/vocals \nKramer Kelling – Bass/vocals \nBrian Loftus – Drums \nTommy Shugart – Keyboards \n  \n*Doors open at listed event time\, live music typically starts 60-90 minutes after doors. End times are estimates.
URL:https://shakedownbarvail.com/event/scott-rednor-band-113/
LOCATION:Shakedown Bar 304 Bridge St\, Vail\, CO  81657\, United States\, Shakedown Bar 304 Bridge St\, Vail\, CO 81657\, United States
CATEGORIES:Full Band
ORGANIZER;CN="Shakedown Presents":MAILTO:info@shakedownbarvail.com
END:VEVENT
BEGIN:VEVENT
DTSTART;TZID=America/Denver:20260704T210000
DTEND;TZID=America/Denver:20260705T013000
DTSTAMP:20260419T183709
CREATED:20260418T190548Z
LAST-MODIFIED:20260418T190548Z
UID:10967-1783198800-1783215000@shakedownbarvail.com
SUMMARY:Shakedown Family Band
DESCRIPTION:Scott Rednor Band \nScott Rednor – Guitars/vocals \nKramer Kelling – Bass/vocals \nBrian Loftus – Drums \nTommy Shugart – Keyboards \n  \n*Doors open at listed event time\, live music typically starts 60-90 minutes after doors. End times are estimates.
URL:https://shakedownbarvail.com/event/shakedown-family-band-2/
LOCATION:Shakedown Bar 304 Bridge St\, Vail\, CO  81657\, United States\, Shakedown Bar 304 Bridge St\, Vail\, CO 81657\, United States
CATEGORIES:Full Band
ORGANIZER;CN="Shakedown Presents":MAILTO:info@shakedownbarvail.com
END:VEVENT
BEGIN:VEVENT
DTSTART;TZID=America/Denver:20260710T210000
DTEND;TZID=America/Denver:20260711T013000
DTSTAMP:20260419T183709
CREATED:20260418T190753Z
LAST-MODIFIED:20260418T190753Z
UID:10979-1783717200-1783733400@shakedownbarvail.com
SUMMARY:Scott Rednor Band 
DESCRIPTION:Scott Rednor Band  \nScott Rednor – Guitars/vocals \nKramer Kelling – Bass/vocals \nBrian Loftus – Drums \nTommy Shugart – Keyboards \n  \n*Doors open at listed event time\, live music typically starts 60-90 minutes after doors. End times are estimates.
URL:https://shakedownbarvail.com/event/scott-rednor-band-114/
LOCATION:Shakedown Bar 304 Bridge St\, Vail\, CO  81657\, United States\, Shakedown Bar 304 Bridge St\, Vail\, CO 81657\, United States
CATEGORIES:Full Band
ORGANIZER;CN="Shakedown Presents":MAILTO:info@shakedownbarvail.com
END:VEVENT
BEGIN:VEVENT
DTSTART;TZID=America/Denver:20260711T210000
DTEND;TZID=America/Denver:20260712T013000
DTSTAMP:20260419T183709
CREATED:20260418T190808Z
LAST-MODIFIED:20260418T190808Z
UID:10981-1783803600-1783819800@shakedownbarvail.com
SUMMARY:Scott Rednor Band 
DESCRIPTION:Scott Rednor Band  \nScott Rednor – Guitars/vocals \nKramer Kelling – Bass/vocals \nBrian Loftus – Drums \nTommy Shugart – Keyboards \n  \n*Doors open at listed event time\, live music typically starts 60-90 minutes after doors. End times are estimates.
URL:https://shakedownbarvail.com/event/scott-rednor-band-115/
LOCATION:Shakedown Bar 304 Bridge St\, Vail\, CO  81657\, United States\, Shakedown Bar 304 Bridge St\, Vail\, CO 81657\, United States
CATEGORIES:Full Band
ORGANIZER;CN="Shakedown Presents":MAILTO:info@shakedownbarvail.com
END:VEVENT
BEGIN:VEVENT
DTSTART;TZID=America/Denver:20260717T210000
DTEND;TZID=America/Denver:20260718T013000
DTSTAMP:20260419T183709
CREATED:20260418T191056Z
LAST-MODIFIED:20260418T191056Z
UID:10993-1784322000-1784338200@shakedownbarvail.com
SUMMARY:Kory Montgomery Band
DESCRIPTION:Kory Montgomery Band \nKory Montgomery – Guitar/vocals \nKramer Kelling – Bass/vocals \nMark Levy – Drums \n  \n*Doors open at listed event time\, live music typically starts 60-90 minutes after doors. End times are estimates.
URL:https://shakedownbarvail.com/event/kory-montgomery-band-46/
LOCATION:Shakedown Bar 304 Bridge St\, Vail\, CO  81657\, United States\, Shakedown Bar 304 Bridge St\, Vail\, CO 81657\, United States
CATEGORIES:Full Band
ORGANIZER;CN="Shakedown Presents":MAILTO:info@shakedownbarvail.com
END:VEVENT
BEGIN:VEVENT
DTSTART;TZID=America/Denver:20260718T210000
DTEND;TZID=America/Denver:20260719T013000
DTSTAMP:20260419T183709
CREATED:20260418T191120Z
LAST-MODIFIED:20260418T191120Z
UID:10995-1784408400-1784424600@shakedownbarvail.com
SUMMARY:Scott Rednor Band 
DESCRIPTION:Scott Rednor Band  \nScott Rednor – Guitars/vocals \nKramer Kelling – Bass/vocals \nBrian Loftus – Drums \nTommy Shugart – Keyboards \n  \n*Doors open at listed event time\, live music typically starts 60-90 minutes after doors. End times are estimates.
URL:https://shakedownbarvail.com/event/scott-rednor-band-116/
LOCATION:Shakedown Bar 304 Bridge St\, Vail\, CO  81657\, United States\, Shakedown Bar 304 Bridge St\, Vail\, CO 81657\, United States
CATEGORIES:Full Band
ORGANIZER;CN="Shakedown Presents":MAILTO:info@shakedownbarvail.com
END:VEVENT
BEGIN:VEVENT
DTSTART;TZID=America/Denver:20260724T210000
DTEND;TZID=America/Denver:20260725T013000
DTSTAMP:20260419T183709
CREATED:20260418T191441Z
LAST-MODIFIED:20260418T191441Z
UID:11007-1784926800-1784943000@shakedownbarvail.com
SUMMARY:Scott Rednor Band 
DESCRIPTION:Scott Rednor Band  \nScott Rednor – Guitars/vocals \nKramer Kelling – Bass/vocals \nBrian Loftus – Drums \nTommy Shugart – Keyboards \n  \n*Doors open at listed event time\, live music typically starts 60-90 minutes after doors. End times are estimates.
URL:https://shakedownbarvail.com/event/scott-rednor-band-117/
LOCATION:Shakedown Bar 304 Bridge St\, Vail\, CO  81657\, United States\, Shakedown Bar 304 Bridge St\, Vail\, CO 81657\, United States
CATEGORIES:Full Band
ORGANIZER;CN="Shakedown Presents":MAILTO:info@shakedownbarvail.com
END:VEVENT
BEGIN:VEVENT
DTSTART;TZID=America/Denver:20260725T210000
DTEND;TZID=America/Denver:20260726T013000
DTSTAMP:20260419T183709
CREATED:20260418T191457Z
LAST-MODIFIED:20260418T191457Z
UID:11009-1785013200-1785029400@shakedownbarvail.com
SUMMARY:Scott Rednor Band 
DESCRIPTION:Scott Rednor Band  \nScott Rednor – Guitars/vocals \nKramer Kelling – Bass/vocals \nBrian Loftus – Drums \nTommy Shugart – Keyboards \n  \n*Doors open at listed event time\, live music typically starts 60-90 minutes after doors. End times are estimates.
URL:https://shakedownbarvail.com/event/scott-rednor-band-118/
LOCATION:Shakedown Bar 304 Bridge St\, Vail\, CO  81657\, United States\, Shakedown Bar 304 Bridge St\, Vail\, CO 81657\, United States
CATEGORIES:Full Band
ORGANIZER;CN="Shakedown Presents":MAILTO:info@shakedownbarvail.com
END:VEVENT
BEGIN:VEVENT
DTSTART;TZID=America/Denver:20260730T210000
DTEND;TZID=America/Denver:20260731T013000
DTSTAMP:20260419T183709
CREATED:20260418T191629Z
LAST-MODIFIED:20260418T191629Z
UID:11019-1785445200-1785461400@shakedownbarvail.com
SUMMARY:Scott Rednor Band 
DESCRIPTION:Scott Rednor Band  \nScott Rednor – Guitars/vocals \nKramer Kelling – Bass/vocals \nBrian Loftus – Drums \nTommy Shugart – Keyboards \n  \n*Doors open at listed event time\, live music typically starts 60-90 minutes after doors. End times are estimates.
URL:https://shakedownbarvail.com/event/scott-rednor-band-119/
LOCATION:Shakedown Bar 304 Bridge St\, Vail\, CO  81657\, United States\, Shakedown Bar 304 Bridge St\, Vail\, CO 81657\, United States
CATEGORIES:Full Band
ORGANIZER;CN="Shakedown Presents":MAILTO:info@shakedownbarvail.com
END:VEVENT
BEGIN:VEVENT
DTSTART;TZID=America/Denver:20260731T210000
DTEND;TZID=America/Denver:20260801T013000
DTSTAMP:20260419T183709
CREATED:20260418T191702Z
LAST-MODIFIED:20260418T191702Z
UID:11021-1785531600-1785547800@shakedownbarvail.com
SUMMARY:Kory Montgomery Band
DESCRIPTION:Kory Montgomery Band \nKory Montgomery – Guitar/vocals \nKramer Kelling – Bass/vocals \nMark Levy – Drums \n  \n*Doors open at listed event time\, live music typically starts 60-90 minutes after doors. End times are estimates.
URL:https://shakedownbarvail.com/event/kory-montgomery-band-47/
LOCATION:Shakedown Bar 304 Bridge St\, Vail\, CO  81657\, United States\, Shakedown Bar 304 Bridge St\, Vail\, CO 81657\, United States
CATEGORIES:Full Band
ORGANIZER;CN="Shakedown Presents":MAILTO:info@shakedownbarvail.com
END:VEVENT
END:VCALENDAR