BEGIN:VCALENDAR
VERSION:2.0
PRODID:-//Shakedown Bar - ECPv6.15.14//NONSGML v1.0//EN
CALSCALE:GREGORIAN
METHOD:PUBLISH
X-WR-CALNAME:Shakedown Bar
X-ORIGINAL-URL:https://shakedownbarvail.com
X-WR-CALDESC:Events for Shakedown Bar
REFRESH-INTERVAL;VALUE=DURATION:PT1H
X-Robots-Tag:noindex
X-PUBLISHED-TTL:PT1H
BEGIN:VTIMEZONE
TZID:America/Denver
BEGIN:DAYLIGHT
TZOFFSETFROM:-0700
TZOFFSETTO:-0600
TZNAME:MDT
DTSTART:20230312T090000
END:DAYLIGHT
BEGIN:STANDARD
TZOFFSETFROM:-0600
TZOFFSETTO:-0700
TZNAME:MST
DTSTART:20231105T080000
END:STANDARD
BEGIN:DAYLIGHT
TZOFFSETFROM:-0700
TZOFFSETTO:-0600
TZNAME:MDT
DTSTART:20240310T090000
END:DAYLIGHT
BEGIN:STANDARD
TZOFFSETFROM:-0600
TZOFFSETTO:-0700
TZNAME:MST
DTSTART:20241103T080000
END:STANDARD
BEGIN:DAYLIGHT
TZOFFSETFROM:-0700
TZOFFSETTO:-0600
TZNAME:MDT
DTSTART:20250309T090000
END:DAYLIGHT
BEGIN:STANDARD
TZOFFSETFROM:-0600
TZOFFSETTO:-0700
TZNAME:MST
DTSTART:20251102T080000
END:STANDARD
END:VTIMEZONE
BEGIN:VEVENT
DTSTART;TZID=America/Denver:20241222T160000
DTEND;TZID=America/Denver:20241222T210000
DTSTAMP:20260420T090117
CREATED:20241002T000743Z
LAST-MODIFIED:20241206T215258Z
UID:9353-1734883200-1734901200@shakedownbarvail.com
SUMMARY:Scott Rednor and Rob Eaton Jr. Apres
DESCRIPTION:Scott Rednor – Guitar/vocals \nRob Eaton Jr. – Guitar/vocals \n*Doors open at listed event time\, live music typically starts 60-90 minutes after doors. End times are estimates.
URL:https://shakedownbarvail.com/event/tba-43/
LOCATION:Shakedown Bar 304 Bridge St\, Vail\, CO  81657\, United States\, Shakedown Bar 304 Bridge St\, Vail\, CO 81657\, United States
CATEGORIES:Events,Full Band
ORGANIZER;CN="Shakedown Presents":MAILTO:info@shakedownbarvail.com
END:VEVENT
BEGIN:VEVENT
DTSTART;TZID=America/Denver:20241221T210000
DTEND;TZID=America/Denver:20241222T013000
DTSTAMP:20260420T090117
CREATED:20241002T000326Z
LAST-MODIFIED:20241002T000326Z
UID:9349-1734814800-1734831000@shakedownbarvail.com
SUMMARY:Town Cavalry
DESCRIPTION:Town Cavalry \nJohnny Schleper – Guitar/vocals \nRob Eaton Jr. – Guitar/vocals \nTodd Smallie – Bass \nMark Levy – Drums \n*Doors open at listed event time\, live music typically starts 60-90 minutes after doors. End times are estimates.
URL:https://shakedownbarvail.com/event/town-cavalry-2/
LOCATION:Shakedown Bar 304 Bridge St\, Vail\, CO  81657\, United States\, Shakedown Bar 304 Bridge St\, Vail\, CO 81657\, United States
CATEGORIES:Events,Full Band
ORGANIZER;CN="Shakedown Presents":MAILTO:info@shakedownbarvail.com
END:VEVENT
BEGIN:VEVENT
DTSTART;TZID=America/Denver:20241214T210000
DTEND;TZID=America/Denver:20241215T013000
DTSTAMP:20260420T090117
CREATED:20241001T235103Z
LAST-MODIFIED:20241001T235103Z
UID:9327-1734210000-1734226200@shakedownbarvail.com
SUMMARY:Taylor Scott Band
DESCRIPTION:Taylor Scott Band \n*Doors open at listed event time\, live music typically starts 60-90 minutes after doors. End times are estimates.
URL:https://shakedownbarvail.com/event/taylor-scott-band-25/
LOCATION:Shakedown Bar 304 Bridge St\, Vail\, CO  81657\, United States\, Shakedown Bar 304 Bridge St\, Vail\, CO 81657\, United States
CATEGORIES:Events,Full Band
ORGANIZER;CN="Shakedown Presents":MAILTO:info@shakedownbarvail.com
END:VEVENT
BEGIN:VEVENT
DTSTART;TZID=America/Denver:20241213T210000
DTEND;TZID=America/Denver:20241214T013000
DTSTAMP:20260420T090117
CREATED:20241001T235014Z
LAST-MODIFIED:20241115T235628Z
UID:9325-1734123600-1734139800@shakedownbarvail.com
SUMMARY:The Hip Snacks
DESCRIPTION:The Hip Snacks \n*Doors open at listed event time\, live music typically starts 60-90 minutes after doors. End times are estimates.
URL:https://shakedownbarvail.com/event/tba-41/
LOCATION:Shakedown Bar 304 Bridge St\, Vail\, CO  81657\, United States\, Shakedown Bar 304 Bridge St\, Vail\, CO 81657\, United States
CATEGORIES:Events,Full Band
ORGANIZER;CN="Shakedown Presents":MAILTO:info@shakedownbarvail.com
END:VEVENT
BEGIN:VEVENT
DTSTART;TZID=America/Denver:20241212T210000
DTEND;TZID=America/Denver:20241213T013000
DTSTAMP:20260420T090117
CREATED:20241001T234837Z
LAST-MODIFIED:20241001T234837Z
UID:9321-1734037200-1734053400@shakedownbarvail.com
SUMMARY:Taylor Scott Duo
DESCRIPTION:Taylor Scott Duo \n*Doors open at listed event time\, live music typically starts 60-90 minutes after doors. End times are estimates.
URL:https://shakedownbarvail.com/event/taylor-scott-duo-4/
LOCATION:Shakedown Bar 304 Bridge St\, Vail\, CO  81657\, United States\, Shakedown Bar 304 Bridge St\, Vail\, CO 81657\, United States
CATEGORIES:Events,Full Band
ORGANIZER;CN="Shakedown Presents":MAILTO:info@shakedownbarvail.com
END:VEVENT
BEGIN:VEVENT
DTSTART;TZID=America/Denver:20241123T210000
DTEND;TZID=America/Denver:20241124T013000
DTSTAMP:20260420T090117
CREATED:20240904T230835Z
LAST-MODIFIED:20240904T230835Z
UID:9283-1732395600-1732411800@shakedownbarvail.com
SUMMARY:Taylor Scott Band
DESCRIPTION:Taylor Scott Band \n*Doors open at listed event time\, live music typically starts 60-90 minutes after doors. End times are estimates.
URL:https://shakedownbarvail.com/event/taylor-scott-band-24/
LOCATION:Shakedown Bar 304 Bridge St\, Vail\, CO  81657\, United States\, Shakedown Bar 304 Bridge St\, Vail\, CO 81657\, United States
CATEGORIES:Events,Full Band
ORGANIZER;CN="Shakedown Presents":MAILTO:info@shakedownbarvail.com
END:VEVENT
BEGIN:VEVENT
DTSTART;TZID=America/Denver:20241109T210000
DTEND;TZID=America/Denver:20241110T013000
DTSTAMP:20260420T090117
CREATED:20240904T224534Z
LAST-MODIFIED:20240904T224534Z
UID:9268-1731186000-1731202200@shakedownbarvail.com
SUMMARY:Taylor Scott Duo
DESCRIPTION:Taylor Scott Duo \n*Doors open at listed event time\, live music typically starts 60-90 minutes after doors. End times are estimates.
URL:https://shakedownbarvail.com/event/taylor-scott-duo-3/
LOCATION:Shakedown Bar 304 Bridge St\, Vail\, CO  81657\, United States\, Shakedown Bar 304 Bridge St\, Vail\, CO 81657\, United States
CATEGORIES:Events,Full Band
ORGANIZER;CN="Shakedown Presents":MAILTO:info@shakedownbarvail.com
END:VEVENT
BEGIN:VEVENT
DTSTART;TZID=America/Denver:20241011T210000
DTEND;TZID=America/Denver:20241012T013000
DTSTAMP:20260420T090117
CREATED:20240904T222209Z
LAST-MODIFIED:20240904T222209Z
UID:9256-1728680400-1728696600@shakedownbarvail.com
SUMMARY:Taylor Scott Band
DESCRIPTION:Taylor Scott Band \n*Doors open at listed event time\, live music typically starts 60-90 minutes after doors. End times are estimates.
URL:https://shakedownbarvail.com/event/taylor-scott-band-23/
LOCATION:Shakedown Bar 304 Bridge St\, Vail\, CO  81657\, United States\, Shakedown Bar 304 Bridge St\, Vail\, CO 81657\, United States
CATEGORIES:Events,Full Band
ORGANIZER;CN="Shakedown Presents":MAILTO:info@shakedownbarvail.com
END:VEVENT
BEGIN:VEVENT
DTSTART;TZID=America/Denver:20240913T210000
DTEND;TZID=America/Denver:20240914T013000
DTSTAMP:20260420T090117
CREATED:20240904T220705Z
LAST-MODIFIED:20240904T220705Z
UID:9247-1726261200-1726277400@shakedownbarvail.com
SUMMARY:Kory Montgomery Band
DESCRIPTION:Kory Montgomery – Guitar/vocals \nKramer Kelling – Bass/vocals \nBrian Loftus – Drums/vocals \n  \n  \n*Doors open at listed event time\, live music typically starts 60-90 minutes after doors. End times are estimates.
URL:https://shakedownbarvail.com/event/kory-montgomery-band-24/
LOCATION:Shakedown Bar 304 Bridge St\, Vail\, CO  81657\, United States\, Shakedown Bar 304 Bridge St\, Vail\, CO 81657\, United States
CATEGORIES:Events,Full Band
ORGANIZER;CN="Shakedown Presents":MAILTO:info@shakedownbarvail.com
END:VEVENT
BEGIN:VEVENT
DTSTART;TZID=America/Denver:20240906T210000
DTEND;TZID=America/Denver:20240907T013000
DTSTAMP:20260420T090117
CREATED:20240823T192746Z
LAST-MODIFIED:20240823T192746Z
UID:9168-1725656400-1725672600@shakedownbarvail.com
SUMMARY:Taylor Scott Band and Guests
DESCRIPTION:Taylor Scott Band \n*Doors open at listed event time\, live music typically starts 60-90 minutes after doors. End times are estimates.
URL:https://shakedownbarvail.com/event/taylor-scott-band-and-guests/
LOCATION:Shakedown Bar 304 Bridge St\, Vail\, CO  81657\, United States\, Shakedown Bar 304 Bridge St\, Vail\, CO 81657\, United States
CATEGORIES:Events,Full Band
ORGANIZER;CN="Shakedown Presents":MAILTO:info@shakedownbarvail.com
END:VEVENT
BEGIN:VEVENT
DTSTART;TZID=America/Denver:20240905T223000
DTEND;TZID=America/Denver:20240906T013000
DTSTAMP:20260420T090117
CREATED:20240823T192322Z
LAST-MODIFIED:20240823T192322Z
UID:9164-1725575400-1725586200@shakedownbarvail.com
SUMMARY:Taylor Frederick
DESCRIPTION:Live music featuring the Taylor Frederick \n*Doors open at listed event time\, live music typically starts 60-90 minutes after doors. End times are estimates.
URL:https://shakedownbarvail.com/event/taylor-frederick-3/
LOCATION:Shakedown Bar 304 Bridge St\, Vail\, CO  81657\, United States\, Shakedown Bar 304 Bridge St\, Vail\, CO 81657\, United States
CATEGORIES:Events,Full Band
ORGANIZER;CN="Shakedown Presents":MAILTO:info@shakedownbarvail.com
END:VEVENT
BEGIN:VEVENT
DTSTART;TZID=America/Denver:20240823T210000
DTEND;TZID=America/Denver:20240824T013000
DTSTAMP:20260420T090117
CREATED:20240608T004226Z
LAST-MODIFIED:20240608T004226Z
UID:9104-1724446800-1724463000@shakedownbarvail.com
SUMMARY:Taylor Scott Band
DESCRIPTION:Taylor Scott Band \n*Doors open at listed event time\, live music typically starts 60-90 minutes after doors. End times are estimates.
URL:https://shakedownbarvail.com/event/taylor-scott-band-22/
LOCATION:Shakedown Bar 304 Bridge St\, Vail\, CO  81657\, United States\, Shakedown Bar 304 Bridge St\, Vail\, CO 81657\, United States
CATEGORIES:Events,Full Band
ORGANIZER;CN="Shakedown Presents":MAILTO:info@shakedownbarvail.com
END:VEVENT
BEGIN:VEVENT
DTSTART;TZID=America/Denver:20240817T210000
DTEND;TZID=America/Denver:20240818T013000
DTSTAMP:20260420T090117
CREATED:20240608T003403Z
LAST-MODIFIED:20240608T003403Z
UID:9091-1723928400-1723944600@shakedownbarvail.com
SUMMARY:Kory Montgomery Band
DESCRIPTION:Kory Montgomery – Guitar/vocals \nKramer Kelling – Bass/vocals \nMark Levy – Drums/vocals \n  \n  \n*Doors open at listed event time\, live music typically starts 60-90 minutes after doors. End times are estimates.
URL:https://shakedownbarvail.com/event/kory-montgomery-band-23/
LOCATION:Shakedown Bar 304 Bridge St\, Vail\, CO  81657\, United States\, Shakedown Bar 304 Bridge St\, Vail\, CO 81657\, United States
CATEGORIES:Events,Full Band
ORGANIZER;CN="Shakedown Presents":MAILTO:info@shakedownbarvail.com
END:VEVENT
BEGIN:VEVENT
DTSTART;TZID=America/Denver:20240816T210000
DTEND;TZID=America/Denver:20240817T013000
DTSTAMP:20260420T090117
CREATED:20240608T003230Z
LAST-MODIFIED:20240608T003230Z
UID:9089-1723842000-1723858200@shakedownbarvail.com
SUMMARY:Taylor Scott Band
DESCRIPTION:Taylor Scott Band \n*Doors open at listed event time\, live music typically starts 60-90 minutes after doors. End times are estimates.
URL:https://shakedownbarvail.com/event/taylor-scott-band-21/
LOCATION:Shakedown Bar 304 Bridge St\, Vail\, CO  81657\, United States\, Shakedown Bar 304 Bridge St\, Vail\, CO 81657\, United States
CATEGORIES:Events,Full Band
ORGANIZER;CN="Shakedown Presents":MAILTO:info@shakedownbarvail.com
END:VEVENT
BEGIN:VEVENT
DTSTART;TZID=America/Denver:20240808T210000
DTEND;TZID=America/Denver:20240809T013000
DTSTAMP:20260420T090117
CREATED:20240803T193023Z
LAST-MODIFIED:20240803T193023Z
UID:9144-1723150800-1723167000@shakedownbarvail.com
SUMMARY:Taylor Scott Trio
DESCRIPTION:Taylor Scott Trio \n*Doors open at listed event time\, live music typically starts 60-90 minutes after doors. End times are estimates.
URL:https://shakedownbarvail.com/event/taylor-scott-trio-3/
LOCATION:Shakedown Bar 304 Bridge St\, Vail\, CO  81657\, United States\, Shakedown Bar 304 Bridge St\, Vail\, CO 81657\, United States
CATEGORIES:Events,Full Band
ORGANIZER;CN="Shakedown Presents":MAILTO:info@shakedownbarvail.com
END:VEVENT
BEGIN:VEVENT
DTSTART;TZID=America/Denver:20240805T210000
DTEND;TZID=America/Denver:20240806T013000
DTSTAMP:20260420T090117
CREATED:20240608T002456Z
LAST-MODIFIED:20240608T002456Z
UID:9070-1722891600-1722907800@shakedownbarvail.com
SUMMARY:Taylor Frederick
DESCRIPTION:Live music featuring the Taylor Frederick \n*Doors open at listed event time\, live music typically starts 60-90 minutes after doors. End times are estimates.
URL:https://shakedownbarvail.com/event/taylor-frederick/
LOCATION:Shakedown Bar 304 Bridge St\, Vail\, CO  81657\, United States\, Shakedown Bar 304 Bridge St\, Vail\, CO 81657\, United States
CATEGORIES:Events,Full Band
ORGANIZER;CN="Shakedown Presents":MAILTO:info@shakedownbarvail.com
END:VEVENT
BEGIN:VEVENT
DTSTART;TZID=America/Denver:20240725T210000
DTEND;TZID=America/Denver:20240726T013000
DTSTAMP:20260420T090117
CREATED:20240608T000423Z
LAST-MODIFIED:20240608T000423Z
UID:9053-1721941200-1721957400@shakedownbarvail.com
SUMMARY:Taylor Scott Trio
DESCRIPTION:Taylor Scott Trio \n*Doors open at listed event time\, live music typically starts 60-90 minutes after doors. End times are estimates.
URL:https://shakedownbarvail.com/event/taylor-scott-trio-2/
LOCATION:Shakedown Bar 304 Bridge St\, Vail\, CO  81657\, United States\, Shakedown Bar 304 Bridge St\, Vail\, CO 81657\, United States
CATEGORIES:Events,Full Band
ORGANIZER;CN="Shakedown Presents":MAILTO:info@shakedownbarvail.com
END:VEVENT
BEGIN:VEVENT
DTSTART;TZID=America/Denver:20240720T210000
DTEND;TZID=America/Denver:20240721T013000
DTSTAMP:20260420T090117
CREATED:20240608T000042Z
LAST-MODIFIED:20240608T000042Z
UID:9043-1721509200-1721525400@shakedownbarvail.com
SUMMARY:Kory Montgomery Band
DESCRIPTION:Kory Montgomery – Guitar/vocals \nKramer Kelling – Bass/vocals \nMark Levy – Drums/vocals \n  \n  \n*Doors open at listed event time\, live music typically starts 60-90 minutes after doors. End times are estimates.
URL:https://shakedownbarvail.com/event/kory-montgomery-band-22/
LOCATION:Shakedown Bar 304 Bridge St\, Vail\, CO  81657\, United States\, Shakedown Bar 304 Bridge St\, Vail\, CO 81657\, United States
CATEGORIES:Events,Full Band
ORGANIZER;CN="Shakedown Presents":MAILTO:info@shakedownbarvail.com
END:VEVENT
BEGIN:VEVENT
DTSTART;TZID=America/Denver:20240719T210000
DTEND;TZID=America/Denver:20240720T013000
DTSTAMP:20260420T090117
CREATED:20240608T000007Z
LAST-MODIFIED:20240608T000007Z
UID:9041-1721422800-1721439000@shakedownbarvail.com
SUMMARY:Taylor Scott Band
DESCRIPTION:Taylor Scott Band \n*Doors open at listed event time\, live music typically starts 60-90 minutes after doors. End times are estimates.
URL:https://shakedownbarvail.com/event/taylor-scott-band-20/
LOCATION:Shakedown Bar 304 Bridge St\, Vail\, CO  81657\, United States\, Shakedown Bar 304 Bridge St\, Vail\, CO 81657\, United States
CATEGORIES:Events,Full Band
ORGANIZER;CN="Shakedown Presents":MAILTO:info@shakedownbarvail.com
END:VEVENT
BEGIN:VEVENT
DTSTART;TZID=America/Denver:20240628T210000
DTEND;TZID=America/Denver:20240629T013000
DTSTAMP:20260420T090117
CREATED:20240601T025627Z
LAST-MODIFIED:20240601T025627Z
UID:9000-1719608400-1719624600@shakedownbarvail.com
SUMMARY:Kory Montgomery Band
DESCRIPTION:Kory Montgomery – Guitar/vocals \nKramer Kelling – Bass/vocals \nMark Levy – Drums/vocals \nTommy Shugart – Keyboards \n  \n  \n*Doors open at listed event time\, live music typically starts 60-90 minutes after doors. End times are estimates.
URL:https://shakedownbarvail.com/event/kory-montgomery-band-21/
LOCATION:Shakedown Bar 304 Bridge St\, Vail\, CO  81657\, United States\, Shakedown Bar 304 Bridge St\, Vail\, CO 81657\, United States
CATEGORIES:Events,Full Band
ORGANIZER;CN="Shakedown Presents":MAILTO:info@shakedownbarvail.com
END:VEVENT
BEGIN:VEVENT
DTSTART;TZID=America/Denver:20240625T170000
DTEND;TZID=America/Denver:20240625T210000
DTSTAMP:20260420T090117
CREATED:20240617T204612Z
LAST-MODIFIED:20240617T204612Z
UID:9132-1719334800-1719349200@shakedownbarvail.com
SUMMARY:School of Rock Show!
DESCRIPTION:School of Rock \n  \n  \n*Doors open at listed event time\, live music typically starts 60-90 minutes after doors. End times are estimates.
URL:https://shakedownbarvail.com/event/school-of-rock-show/
LOCATION:Shakedown Bar 304 Bridge St\, Vail\, CO  81657\, United States\, Shakedown Bar 304 Bridge St\, Vail\, CO 81657\, United States
CATEGORIES:Events,Full Band
ORGANIZER;CN="Shakedown Presents":MAILTO:info@shakedownbarvail.com
END:VEVENT
BEGIN:VEVENT
DTSTART;TZID=America/Denver:20240621T223000
DTEND;TZID=America/Denver:20240622T013000
DTSTAMP:20260420T090117
CREATED:20240617T203950Z
LAST-MODIFIED:20240617T204126Z
UID:9127-1719009000-1719019800@shakedownbarvail.com
SUMMARY:Taylor Frederick Band
DESCRIPTION:OPEN TO THE PUBLIC AT 10:30 PM \nLive music featuring the Taylor Frederick and his band \n*Doors open at listed event time\, live music typically starts 60-90 minutes after doors. End times are estimates.
URL:https://shakedownbarvail.com/event/taylor-frederick-band-6/
LOCATION:Shakedown Bar 304 Bridge St\, Vail\, CO  81657\, United States\, Shakedown Bar 304 Bridge St\, Vail\, CO 81657\, United States
CATEGORIES:Events,Full Band
ORGANIZER;CN="Shakedown Presents":MAILTO:info@shakedownbarvail.com
END:VEVENT
BEGIN:VEVENT
DTSTART;TZID=America/Denver:20240618T210000
DTEND;TZID=America/Denver:20240619T013000
DTSTAMP:20260420T090117
CREATED:20240617T203322Z
LAST-MODIFIED:20240617T203322Z
UID:9120-1718744400-1718760600@shakedownbarvail.com
SUMMARY:Jake Wolf's Always Dead
DESCRIPTION:Jake Wolf – Drums/vocals + his Always Dead band \n  \n  \n*Doors open at listed event time\, live music typically starts 60-90 minutes after doors. End times are estimates.
URL:https://shakedownbarvail.com/event/jake-wolfs-always-dead/
LOCATION:Shakedown Bar 304 Bridge St\, Vail\, CO  81657\, United States\, Shakedown Bar 304 Bridge St\, Vail\, CO 81657\, United States
CATEGORIES:Events,Full Band
ORGANIZER;CN="Shakedown Presents":MAILTO:info@shakedownbarvail.com
END:VEVENT
BEGIN:VEVENT
DTSTART;TZID=America/Denver:20240618T143000
DTEND;TZID=America/Denver:20240618T173000
DTSTAMP:20260420T090117
CREATED:20240617T203029Z
LAST-MODIFIED:20240617T203029Z
UID:9118-1718721000-1718731800@shakedownbarvail.com
SUMMARY:Dog Pound Family Jam
DESCRIPTION:Dog Pound Family Jam \n  \n  \n*Doors open at listed event time\, live music typically starts 60-90 minutes after doors. End times are estimates.
URL:https://shakedownbarvail.com/event/dog-pound-family-jam/
LOCATION:Shakedown Bar 304 Bridge St\, Vail\, CO  81657\, United States\, Shakedown Bar 304 Bridge St\, Vail\, CO 81657\, United States
CATEGORIES:Events,Full Band
ORGANIZER;CN="Shakedown Presents":MAILTO:info@shakedownbarvail.com
END:VEVENT
BEGIN:VEVENT
DTSTART;TZID=America/Denver:20240615T210000
DTEND;TZID=America/Denver:20240616T013000
DTSTAMP:20260420T090117
CREATED:20240513T194216Z
LAST-MODIFIED:20240513T194216Z
UID:8980-1718485200-1718501400@shakedownbarvail.com
SUMMARY:Kory Montgomery Band
DESCRIPTION:Kory Montgomery – Guitar/vocals \nKramer Kelling – Bass/vocals \nMark Levy – Drums/vocals \n  \n  \n*Doors open at listed event time\, live music typically starts 60-90 minutes after doors. End times are estimates.
URL:https://shakedownbarvail.com/event/kory-montgomery-band-20/
LOCATION:Shakedown Bar 304 Bridge St\, Vail\, CO  81657\, United States\, Shakedown Bar 304 Bridge St\, Vail\, CO 81657\, United States
CATEGORIES:Events,Full Band
ORGANIZER;CN="Shakedown Presents":MAILTO:info@shakedownbarvail.com
END:VEVENT
BEGIN:VEVENT
DTSTART;TZID=America/Denver:20240614T210000
DTEND;TZID=America/Denver:20240615T013000
DTSTAMP:20260420T090117
CREATED:20240513T194138Z
LAST-MODIFIED:20240513T194138Z
UID:8978-1718398800-1718415000@shakedownbarvail.com
SUMMARY:Taylor Scott Band
DESCRIPTION:Taylor Scott Band \n*Doors open at listed event time\, live music typically starts 60-90 minutes after doors. End times are estimates.
URL:https://shakedownbarvail.com/event/taylor-scott-band-19/
LOCATION:Shakedown Bar 304 Bridge St\, Vail\, CO  81657\, United States\, Shakedown Bar 304 Bridge St\, Vail\, CO 81657\, United States
CATEGORIES:Events,Full Band
ORGANIZER;CN="Shakedown Presents":MAILTO:info@shakedownbarvail.com
END:VEVENT
BEGIN:VEVENT
DTSTART;TZID=America/Denver:20240607T210000
DTEND;TZID=America/Denver:20240608T013000
DTSTAMP:20260420T090117
CREATED:20240513T192847Z
LAST-MODIFIED:20240513T192847Z
UID:8968-1717794000-1717810200@shakedownbarvail.com
SUMMARY:Kory Montgomery Band
DESCRIPTION:Kory Montgomery – Guitar/vocals \nKramer Kelling – Bass/vocals \nMark Levy – Drums/vocals \n  \n  \n*Doors open at listed event time\, live music typically starts 60-90 minutes after doors. End times are estimates.
URL:https://shakedownbarvail.com/event/kory-montgomery-band-19/
LOCATION:Shakedown Bar 304 Bridge St\, Vail\, CO  81657\, United States\, Shakedown Bar 304 Bridge St\, Vail\, CO 81657\, United States
CATEGORIES:Events,Full Band
ORGANIZER;CN="Shakedown Presents":MAILTO:info@shakedownbarvail.com
END:VEVENT
BEGIN:VEVENT
DTSTART;TZID=America/Denver:20240420T210000
DTEND;TZID=America/Denver:20240421T013000
DTSTAMP:20260420T090117
CREATED:20240308T003959Z
LAST-MODIFIED:20240308T003959Z
UID:8934-1713646800-1713663000@shakedownbarvail.com
SUMMARY:Taylor Scott's 420 Throwdown
DESCRIPTION:Taylor Scott & Friends \n*Doors open at listed event time\, live music typically starts 60-90 minutes after doors. End times are estimates.
URL:https://shakedownbarvail.com/event/taylor-scotts-420-throwdown/
LOCATION:Shakedown Bar 304 Bridge St\, Vail\, CO  81657\, United States\, Shakedown Bar 304 Bridge St\, Vail\, CO 81657\, United States
CATEGORIES:Events,Full Band
ORGANIZER;CN="Shakedown Presents":MAILTO:info@shakedownbarvail.com
END:VEVENT
BEGIN:VEVENT
DTSTART;TZID=America/Denver:20240412T210000
DTEND;TZID=America/Denver:20240413T013000
DTSTAMP:20260420T090117
CREATED:20231204T215210Z
LAST-MODIFIED:20231204T215210Z
UID:8673-1712955600-1712971800@shakedownbarvail.com
SUMMARY:Taylor Scott Band
DESCRIPTION:Taylor Scott Band \n*Doors open at listed event time\, live music typically starts 60-90 minutes after doors. End times are estimates.
URL:https://shakedownbarvail.com/event/taylor-scott-band-17/
LOCATION:Shakedown Bar 304 Bridge St\, Vail\, CO  81657\, United States\, Shakedown Bar 304 Bridge St\, Vail\, CO 81657\, United States
CATEGORIES:Events,Full Band
ORGANIZER;CN="Shakedown Presents":MAILTO:info@shakedownbarvail.com
END:VEVENT
BEGIN:VEVENT
DTSTART;TZID=America/Denver:20240405T210000
DTEND;TZID=America/Denver:20240406T013000
DTSTAMP:20260420T090117
CREATED:20231204T214419Z
LAST-MODIFIED:20231204T214419Z
UID:8659-1712350800-1712367000@shakedownbarvail.com
SUMMARY:Kory Montgomery Band
DESCRIPTION:Kory Montgomery – Guitar/vocals \nKramer Kelling – Bass/vocals \nMark Levy – Drums/vocals \n  \n  \n*Doors open at listed event time\, live music typically starts 60-90 minutes after doors. End times are estimates.
URL:https://shakedownbarvail.com/event/kory-montgomery-band-18/
LOCATION:Shakedown Bar 304 Bridge St\, Vail\, CO  81657\, United States\, Shakedown Bar 304 Bridge St\, Vail\, CO 81657\, United States
CATEGORIES:Events,Full Band
ORGANIZER;CN="Shakedown Presents":MAILTO:info@shakedownbarvail.com
END:VEVENT
END:VCALENDAR