BEGIN:VCALENDAR
VERSION:2.0
PRODID:-//Shakedown Bar - ECPv6.15.14//NONSGML v1.0//EN
CALSCALE:GREGORIAN
METHOD:PUBLISH
X-ORIGINAL-URL:https://shakedownbarvail.com
X-WR-CALDESC:Events for Shakedown Bar
REFRESH-INTERVAL;VALUE=DURATION:PT1H
X-Robots-Tag:noindex
X-PUBLISHED-TTL:PT1H
BEGIN:VTIMEZONE
TZID:America/Denver
BEGIN:DAYLIGHT
TZOFFSETFROM:-0700
TZOFFSETTO:-0600
TZNAME:MDT
DTSTART:20230312T090000
END:DAYLIGHT
BEGIN:STANDARD
TZOFFSETFROM:-0600
TZOFFSETTO:-0700
TZNAME:MST
DTSTART:20231105T080000
END:STANDARD
BEGIN:DAYLIGHT
TZOFFSETFROM:-0700
TZOFFSETTO:-0600
TZNAME:MDT
DTSTART:20240310T090000
END:DAYLIGHT
BEGIN:STANDARD
TZOFFSETFROM:-0600
TZOFFSETTO:-0700
TZNAME:MST
DTSTART:20241103T080000
END:STANDARD
BEGIN:DAYLIGHT
TZOFFSETFROM:-0700
TZOFFSETTO:-0600
TZNAME:MDT
DTSTART:20250309T090000
END:DAYLIGHT
BEGIN:STANDARD
TZOFFSETFROM:-0600
TZOFFSETTO:-0700
TZNAME:MST
DTSTART:20251102T080000
END:STANDARD
BEGIN:DAYLIGHT
TZOFFSETFROM:-0700
TZOFFSETTO:-0600
TZNAME:MDT
DTSTART:20260308T090000
END:DAYLIGHT
BEGIN:STANDARD
TZOFFSETFROM:-0600
TZOFFSETTO:-0700
TZNAME:MST
DTSTART:20261101T080000
END:STANDARD
END:VTIMEZONE
BEGIN:VEVENT
DTSTART;TZID=America/Denver:20250411T210000
DTEND;TZID=America/Denver:20250412T013000
DTSTAMP:20260420T062658
CREATED:20250220T190509Z
LAST-MODIFIED:20250220T190509Z
UID:9801-1744405200-1744421400@shakedownbarvail.com
SUMMARY:Kory Montgomery Band
DESCRIPTION:Kory Montgomery – Guitar/vocals \nKramer Kelling – Bass/vocals \nMark Levy – Drums/vocals \n  \n  \n*Doors open at listed event time\, live music typically starts 60-90 minutes after doors. End times are estimates.
URL:https://shakedownbarvail.com/event/kory-montgomery-band-31/
LOCATION:Shakedown Bar 304 Bridge St\, Vail\, CO  81657\, United States\, Shakedown Bar 304 Bridge St\, Vail\, CO 81657\, United States
CATEGORIES:Events,Full Band
ORGANIZER;CN="Shakedown Presents":MAILTO:info@shakedownbarvail.com
END:VEVENT
BEGIN:VEVENT
DTSTART;TZID=America/Denver:20250328T210000
DTEND;TZID=America/Denver:20250329T013000
DTSTAMP:20260420T062658
CREATED:20250127T214212Z
LAST-MODIFIED:20250127T214212Z
UID:9762-1743195600-1743211800@shakedownbarvail.com
SUMMARY:Kory Montgomery Band
DESCRIPTION:Kory Montgomery – Guitar/vocals \nKramer Kelling – Bass/vocals \nMark Levy – Drums/vocals \n  \n  \n*Doors open at listed event time\, live music typically starts 60-90 minutes after doors. End times are estimates.
URL:https://shakedownbarvail.com/event/kory-montgomery-band-30/
LOCATION:Shakedown Bar 304 Bridge St\, Vail\, CO  81657\, United States\, Shakedown Bar 304 Bridge St\, Vail\, CO 81657\, United States
CATEGORIES:Events,Full Band
ORGANIZER;CN="Shakedown Presents":MAILTO:info@shakedownbarvail.com
END:VEVENT
BEGIN:VEVENT
DTSTART;TZID=America/Denver:20250327T210000
DTEND;TZID=America/Denver:20250328T013000
DTSTAMP:20260420T062658
CREATED:20250127T213923Z
LAST-MODIFIED:20250127T213923Z
UID:9758-1743109200-1743125400@shakedownbarvail.com
SUMMARY:Jonny G of Lespecial
DESCRIPTION:Jonny G – Guitar/vocals \n*Doors open at listed event time\, live music typically starts 60-90 minutes after doors. End times are estimates.
URL:https://shakedownbarvail.com/event/jonny-g-of-lespecial-2/
LOCATION:Shakedown Bar 304 Bridge St\, Vail\, CO  81657\, United States\, Shakedown Bar 304 Bridge St\, Vail\, CO 81657\, United States
CATEGORIES:Events,Full Band
ORGANIZER;CN="Shakedown Presents":MAILTO:info@shakedownbarvail.com
END:VEVENT
BEGIN:VEVENT
DTSTART;TZID=America/Denver:20250316T180000
DTEND;TZID=America/Denver:20250316T210000
DTSTAMP:20260420T062658
CREATED:20250103T235800Z
LAST-MODIFIED:20250103T235800Z
UID:9712-1742148000-1742158800@shakedownbarvail.com
SUMMARY:Kory Montgomery Trio
DESCRIPTION:Kory Montgomery – Guitar/vocals \nKramer Kelling – Bass/vocals \nMark Levy – Drums/vocals \n  \n  \n*Doors open at listed event time\, live music typically starts 60-90 minutes after doors. End times are estimates.
URL:https://shakedownbarvail.com/event/kory-montgomery-trio-2/
LOCATION:Shakedown Bar 304 Bridge St\, Vail\, CO  81657\, United States\, Shakedown Bar 304 Bridge St\, Vail\, CO 81657\, United States
CATEGORIES:Events,Full Band
ORGANIZER;CN="Shakedown Presents":MAILTO:info@shakedownbarvail.com
END:VEVENT
BEGIN:VEVENT
DTSTART;TZID=America/Denver:20250315T210000
DTEND;TZID=America/Denver:20250316T013000
DTSTAMP:20260420T062658
CREATED:20250127T210007Z
LAST-MODIFIED:20250127T210007Z
UID:9720-1742072400-1742088600@shakedownbarvail.com
SUMMARY:Jubilingo
DESCRIPTION:Jubilingo \n*Doors open at listed event time\, live music typically starts 60-90 minutes after doors. End times are estimates.
URL:https://shakedownbarvail.com/event/jubilingo-2/
LOCATION:Shakedown Bar 304 Bridge St\, Vail\, CO  81657\, United States\, Shakedown Bar 304 Bridge St\, Vail\, CO 81657\, United States
CATEGORIES:Events,Full Band
ORGANIZER;CN="Shakedown Presents":MAILTO:info@shakedownbarvail.com
END:VEVENT
BEGIN:VEVENT
DTSTART;TZID=America/Denver:20250302T200000
DTEND;TZID=America/Denver:20250303T003000
DTSTAMP:20260420T062658
CREATED:20250103T233122Z
LAST-MODIFIED:20250302T192005Z
UID:9666-1740945600-1740961800@shakedownbarvail.com
SUMMARY:Kory Montgomery Trio
DESCRIPTION:Kory Montgomery – Guitar/vocals \nKramer Kelling – Bass/vocals \nMark Levy – Drums/vocals \n  \n  \n*Doors open at listed event time\, live music typically starts 60-90 minutes after doors. End times are estimates.
URL:https://shakedownbarvail.com/event/kory-montgomery-trio/
LOCATION:Shakedown Bar 304 Bridge St\, Vail\, CO  81657\, United States\, Shakedown Bar 304 Bridge St\, Vail\, CO 81657\, United States
CATEGORIES:Events,Full Band
ORGANIZER;CN="Shakedown Presents":MAILTO:info@shakedownbarvail.com
END:VEVENT
BEGIN:VEVENT
DTSTART;TZID=America/Denver:20250301T210000
DTEND;TZID=America/Denver:20250302T013000
DTSTAMP:20260420T062658
CREATED:20250103T225410Z
LAST-MODIFIED:20250103T225410Z
UID:9661-1740862800-1740879000@shakedownbarvail.com
SUMMARY:Kory Montgomery Band
DESCRIPTION:Kory Montgomery – Guitar/vocals \nKramer Kelling – Bass/vocals \nMark Levy – Drums/vocals \n  \n  \n*Doors open at listed event time\, live music typically starts 60-90 minutes after doors. End times are estimates.
URL:https://shakedownbarvail.com/event/kory-montgomery-band-29/
LOCATION:Shakedown Bar 304 Bridge St\, Vail\, CO  81657\, United States\, Shakedown Bar 304 Bridge St\, Vail\, CO 81657\, United States
CATEGORIES:Events,Full Band
ORGANIZER;CN="Shakedown Presents":MAILTO:info@shakedownbarvail.com
END:VEVENT
BEGIN:VEVENT
DTSTART;TZID=America/Denver:20250216T210000
DTEND;TZID=America/Denver:20250217T013000
DTSTAMP:20260420T062658
CREATED:20241206T223409Z
LAST-MODIFIED:20241206T223409Z
UID:9595-1739739600-1739755800@shakedownbarvail.com
SUMMARY:Honky Tonk
DESCRIPTION:  \n  \n*Doors open at listed event time\, live music typically starts 60-90 minutes after doors. End times are estimates.
URL:https://shakedownbarvail.com/event/honky-tonk/
LOCATION:Shakedown Bar 304 Bridge St\, Vail\, CO  81657\, United States\, Shakedown Bar 304 Bridge St\, Vail\, CO 81657\, United States
CATEGORIES:Events,Full Band
ORGANIZER;CN="Shakedown Presents":MAILTO:info@shakedownbarvail.com
END:VEVENT
BEGIN:VEVENT
DTSTART;TZID=America/Denver:20250214T210000
DTEND;TZID=America/Denver:20250215T013000
DTSTAMP:20260420T062658
CREATED:20241206T222758Z
LAST-MODIFIED:20241206T222758Z
UID:9587-1739566800-1739583000@shakedownbarvail.com
SUMMARY:Kory Montgomery Band
DESCRIPTION:Kory Montgomery – Guitar/vocals \nKramer Kelling – Bass/vocals \nMark Levy – Drums/vocals \n  \n  \n*Doors open at listed event time\, live music typically starts 60-90 minutes after doors. End times are estimates.
URL:https://shakedownbarvail.com/event/kory-montgomery-band-28/
LOCATION:Shakedown Bar 304 Bridge St\, Vail\, CO  81657\, United States\, Shakedown Bar 304 Bridge St\, Vail\, CO 81657\, United States
CATEGORIES:Events,Full Band
ORGANIZER;CN="Shakedown Presents":MAILTO:info@shakedownbarvail.com
END:VEVENT
BEGIN:VEVENT
DTSTART;TZID=America/Denver:20250202T210000
DTEND;TZID=America/Denver:20250203T013000
DTSTAMP:20260420T062658
CREATED:20241206T220341Z
LAST-MODIFIED:20241206T220341Z
UID:9546-1738530000-1738546200@shakedownbarvail.com
SUMMARY:40 oz to Freedom
DESCRIPTION:40 oz to Freedom \n*Doors open at listed event time\, live music typically starts 60-90 minutes after doors. End times are estimates.
URL:https://shakedownbarvail.com/event/40-oz-to-freedom/
LOCATION:Shakedown Bar 304 Bridge St\, Vail\, CO  81657\, United States\, Shakedown Bar 304 Bridge St\, Vail\, CO 81657\, United States
CATEGORIES:Events,Full Band
ORGANIZER;CN="Shakedown Presents":MAILTO:info@shakedownbarvail.com
END:VEVENT
BEGIN:VEVENT
DTSTART;TZID=America/Denver:20250131T210000
DTEND;TZID=America/Denver:20250201T013000
DTSTAMP:20260420T062658
CREATED:20241102T012312Z
LAST-MODIFIED:20241102T012312Z
UID:9502-1738357200-1738373400@shakedownbarvail.com
SUMMARY:Kory Montgomery Band
DESCRIPTION:Kory Montgomery – Guitar/vocals \nKramer Kelling – Bass/vocals \nMark Levy – Drums/vocals \n  \n  \n*Doors open at listed event time\, live music typically starts 60-90 minutes after doors. End times are estimates.
URL:https://shakedownbarvail.com/event/kory-montgomery-band-27/
LOCATION:Shakedown Bar 304 Bridge St\, Vail\, CO  81657\, United States\, Shakedown Bar 304 Bridge St\, Vail\, CO 81657\, United States
CATEGORIES:Events,Full Band
ORGANIZER;CN="Shakedown Presents":MAILTO:info@shakedownbarvail.com
END:VEVENT
BEGIN:VEVENT
DTSTART;TZID=America/Denver:20250119T210000
DTEND;TZID=America/Denver:20250120T010000
DTSTAMP:20260420T062658
CREATED:20241116T004238Z
LAST-MODIFIED:20241206T215750Z
UID:9521-1737320400-1737334800@shakedownbarvail.com
SUMMARY:TBA
DESCRIPTION:TBA \n*Doors open at listed event time\, live music typically starts 60-90 minutes after doors. End times are estimates.
URL:https://shakedownbarvail.com/event/eminence-ensemble-2/
LOCATION:Shakedown Bar 304 Bridge St\, Vail\, CO  81657\, United States\, Shakedown Bar 304 Bridge St\, Vail\, CO 81657\, United States
CATEGORIES:Events,Full Band
ORGANIZER;CN="Shakedown Presents":MAILTO:info@shakedownbarvail.com
END:VEVENT
BEGIN:VEVENT
DTSTART;TZID=America/Denver:20250118T210000
DTEND;TZID=America/Denver:20250119T013000
DTSTAMP:20260420T062658
CREATED:20241102T011057Z
LAST-MODIFIED:20241102T011057Z
UID:9453-1737234000-1737250200@shakedownbarvail.com
SUMMARY:Kory Montgomery Band
DESCRIPTION:Kory Montgomery – Guitar/vocals \nKramer Kelling – Bass/vocals \nMark Levy – Drums/vocals \n  \n  \n*Doors open at listed event time\, live music typically starts 60-90 minutes after doors. End times are estimates.
URL:https://shakedownbarvail.com/event/kory-montgomery-band-26/
LOCATION:Shakedown Bar 304 Bridge St\, Vail\, CO  81657\, United States\, Shakedown Bar 304 Bridge St\, Vail\, CO 81657\, United States
CATEGORIES:Events,Full Band
ORGANIZER;CN="Shakedown Presents":MAILTO:info@shakedownbarvail.com
END:VEVENT
BEGIN:VEVENT
DTSTART;TZID=America/Denver:20250104T210000
DTEND;TZID=America/Denver:20250105T013000
DTSTAMP:20260420T062658
CREATED:20241023T185903Z
LAST-MODIFIED:20241023T185903Z
UID:9402-1736024400-1736040600@shakedownbarvail.com
SUMMARY:Town Cavalry
DESCRIPTION:Town Cavalry \nJohnny Schleper – Guitar/vocals \nRob Eaton Jr. – Guitar/vocals \nTodd Smallie – Bass \nMark Levy – Drums \n*Doors open at listed event time\, live music typically starts 60-90 minutes after doors. End times are estimates.
URL:https://shakedownbarvail.com/event/town-cavalry-3/
LOCATION:Shakedown Bar 304 Bridge St\, Vail\, CO  81657\, United States\, Shakedown Bar 304 Bridge St\, Vail\, CO 81657\, United States
CATEGORIES:Events,Full Band
ORGANIZER;CN="Shakedown Presents":MAILTO:info@shakedownbarvail.com
END:VEVENT
BEGIN:VEVENT
DTSTART;TZID=America/Denver:20250103T210000
DTEND;TZID=America/Denver:20250104T013000
DTSTAMP:20260420T062658
CREATED:20241023T185649Z
LAST-MODIFIED:20241116T003113Z
UID:9398-1735938000-1735954200@shakedownbarvail.com
SUMMARY:40 oz to Freedom
DESCRIPTION:40 oz to Freedom \n*Doors open at listed event time\, live music typically starts 60-90 minutes after doors. End times are estimates.
URL:https://shakedownbarvail.com/event/tba-47/
LOCATION:Shakedown Bar 304 Bridge St\, Vail\, CO  81657\, United States\, Shakedown Bar 304 Bridge St\, Vail\, CO 81657\, United States
CATEGORIES:Events,Full Band
ORGANIZER;CN="Shakedown Presents":MAILTO:info@shakedownbarvail.com
END:VEVENT
BEGIN:VEVENT
DTSTART;TZID=America/Denver:20241230T210000
DTEND;TZID=America/Denver:20241231T013000
DTSTAMP:20260420T062658
CREATED:20241002T001958Z
LAST-MODIFIED:20241002T001958Z
UID:9372-1735592400-1735608600@shakedownbarvail.com
SUMMARY:Jocelyn and The Sweet Compression
DESCRIPTION:Jocelyn and The Sweet Compression \n  \n  \n*Doors open at listed event time\, live music typically starts 60-90 minutes after doors. End times are estimates.
URL:https://shakedownbarvail.com/event/jocelyn-and-the-sweet-compression/
LOCATION:Shakedown Bar 304 Bridge St\, Vail\, CO  81657\, United States\, Shakedown Bar 304 Bridge St\, Vail\, CO 81657\, United States
CATEGORIES:Events,Full Band
ORGANIZER;CN="Shakedown Presents":MAILTO:info@shakedownbarvail.com
END:VEVENT
BEGIN:VEVENT
DTSTART;TZID=America/Denver:20241229T210000
DTEND;TZID=America/Denver:20241230T013000
DTSTAMP:20260420T062658
CREATED:20241023T185029Z
LAST-MODIFIED:20241023T185129Z
UID:9371-1735506000-1735522200@shakedownbarvail.com
SUMMARY:Eddie Roberts & The Lucky Strokes
DESCRIPTION:Eddie Roberts & The Lucky Strokes \n  \n  \n*Doors open at listed event time\, live music typically starts 60-90 minutes after doors. End times are estimates.
URL:https://shakedownbarvail.com/event/eddie-roberts-the-lucky-strokes/
LOCATION:Shakedown Bar 304 Bridge St\, Vail\, CO  81657\, United States\, Shakedown Bar 304 Bridge St\, Vail\, CO 81657\, United States
CATEGORIES:Events,Full Band
ORGANIZER;CN="Shakedown Presents":MAILTO:info@shakedownbarvail.com
END:VEVENT
BEGIN:VEVENT
DTSTART;TZID=America/Denver:20241228T210000
DTEND;TZID=America/Denver:20241229T013000
DTSTAMP:20260420T062658
CREATED:20241002T001448Z
LAST-MODIFIED:20241002T001448Z
UID:9367-1735419600-1735435800@shakedownbarvail.com
SUMMARY:Kory Montgomery Band
DESCRIPTION:Kory Montgomery – Guitar/vocals \nKramer Kelling – Bass/vocals \nMark Levy – Drums/vocals \n  \n  \n*Doors open at listed event time\, live music typically starts 60-90 minutes after doors. End times are estimates.
URL:https://shakedownbarvail.com/event/kory-montgomery-band-25/
LOCATION:Shakedown Bar 304 Bridge St\, Vail\, CO  81657\, United States\, Shakedown Bar 304 Bridge St\, Vail\, CO 81657\, United States
CATEGORIES:Events,Full Band
ORGANIZER;CN="Shakedown Presents":MAILTO:info@shakedownbarvail.com
END:VEVENT
BEGIN:VEVENT
DTSTART;TZID=America/Denver:20241226T210000
DTEND;TZID=America/Denver:20241227T013000
DTSTAMP:20260420T062658
CREATED:20241002T002344Z
LAST-MODIFIED:20241206T215527Z
UID:9382-1735246800-1735263000@shakedownbarvail.com
SUMMARY:Scott Rednor
DESCRIPTION:Scott Rednor – Guitar/vocals \n*Doors open at listed event time\, live music typically starts 60-90 minutes after doors. End times are estimates.
URL:https://shakedownbarvail.com/event/tba-46/
LOCATION:Shakedown Bar 304 Bridge St\, Vail\, CO  81657\, United States\, Shakedown Bar 304 Bridge St\, Vail\, CO 81657\, United States
CATEGORIES:Events,Full Band
ORGANIZER;CN="Shakedown Presents":MAILTO:info@shakedownbarvail.com
END:VEVENT
BEGIN:VEVENT
DTSTART;VALUE=DATE:20241223
DTEND;VALUE=DATE:20241226
DTSTAMP:20260420T062658
CREATED:20241002T000816Z
LAST-MODIFIED:20241206T214902Z
UID:9355-1734922800-1735095599@shakedownbarvail.com
SUMMARY:-CLOSED-
DESCRIPTION:CLOSED \n*Doors open at listed event time\, live music typically starts 60-90 minutes after doors. End times are estimates.
URL:https://shakedownbarvail.com/event/tba-44/
LOCATION:Shakedown Bar 304 Bridge St\, Vail\, CO  81657\, United States\, Shakedown Bar 304 Bridge St\, Vail\, CO 81657\, United States
CATEGORIES:Events,Full Band
ORGANIZER;CN="Shakedown Presents":MAILTO:info@shakedownbarvail.com
END:VEVENT
BEGIN:VEVENT
DTSTART;TZID=America/Denver:20241222T160000
DTEND;TZID=America/Denver:20241222T210000
DTSTAMP:20260420T062658
CREATED:20241002T000743Z
LAST-MODIFIED:20241206T215258Z
UID:9353-1734883200-1734901200@shakedownbarvail.com
SUMMARY:Scott Rednor and Rob Eaton Jr. Apres
DESCRIPTION:Scott Rednor – Guitar/vocals \nRob Eaton Jr. – Guitar/vocals \n*Doors open at listed event time\, live music typically starts 60-90 minutes after doors. End times are estimates.
URL:https://shakedownbarvail.com/event/tba-43/
LOCATION:Shakedown Bar 304 Bridge St\, Vail\, CO  81657\, United States\, Shakedown Bar 304 Bridge St\, Vail\, CO 81657\, United States
CATEGORIES:Events,Full Band
ORGANIZER;CN="Shakedown Presents":MAILTO:info@shakedownbarvail.com
END:VEVENT
BEGIN:VEVENT
DTSTART;TZID=America/Denver:20241221T210000
DTEND;TZID=America/Denver:20241222T013000
DTSTAMP:20260420T062658
CREATED:20241002T000326Z
LAST-MODIFIED:20241002T000326Z
UID:9349-1734814800-1734831000@shakedownbarvail.com
SUMMARY:Town Cavalry
DESCRIPTION:Town Cavalry \nJohnny Schleper – Guitar/vocals \nRob Eaton Jr. – Guitar/vocals \nTodd Smallie – Bass \nMark Levy – Drums \n*Doors open at listed event time\, live music typically starts 60-90 minutes after doors. End times are estimates.
URL:https://shakedownbarvail.com/event/town-cavalry-2/
LOCATION:Shakedown Bar 304 Bridge St\, Vail\, CO  81657\, United States\, Shakedown Bar 304 Bridge St\, Vail\, CO 81657\, United States
CATEGORIES:Events,Full Band
ORGANIZER;CN="Shakedown Presents":MAILTO:info@shakedownbarvail.com
END:VEVENT
BEGIN:VEVENT
DTSTART;TZID=America/Denver:20241214T210000
DTEND;TZID=America/Denver:20241215T013000
DTSTAMP:20260420T062658
CREATED:20241001T235103Z
LAST-MODIFIED:20241001T235103Z
UID:9327-1734210000-1734226200@shakedownbarvail.com
SUMMARY:Taylor Scott Band
DESCRIPTION:Taylor Scott Band \n*Doors open at listed event time\, live music typically starts 60-90 minutes after doors. End times are estimates.
URL:https://shakedownbarvail.com/event/taylor-scott-band-25/
LOCATION:Shakedown Bar 304 Bridge St\, Vail\, CO  81657\, United States\, Shakedown Bar 304 Bridge St\, Vail\, CO 81657\, United States
CATEGORIES:Events,Full Band
ORGANIZER;CN="Shakedown Presents":MAILTO:info@shakedownbarvail.com
END:VEVENT
BEGIN:VEVENT
DTSTART;TZID=America/Denver:20241213T210000
DTEND;TZID=America/Denver:20241214T013000
DTSTAMP:20260420T062658
CREATED:20241001T235014Z
LAST-MODIFIED:20241115T235628Z
UID:9325-1734123600-1734139800@shakedownbarvail.com
SUMMARY:The Hip Snacks
DESCRIPTION:The Hip Snacks \n*Doors open at listed event time\, live music typically starts 60-90 minutes after doors. End times are estimates.
URL:https://shakedownbarvail.com/event/tba-41/
LOCATION:Shakedown Bar 304 Bridge St\, Vail\, CO  81657\, United States\, Shakedown Bar 304 Bridge St\, Vail\, CO 81657\, United States
CATEGORIES:Events,Full Band
ORGANIZER;CN="Shakedown Presents":MAILTO:info@shakedownbarvail.com
END:VEVENT
BEGIN:VEVENT
DTSTART;TZID=America/Denver:20241212T210000
DTEND;TZID=America/Denver:20241213T013000
DTSTAMP:20260420T062658
CREATED:20241001T234837Z
LAST-MODIFIED:20241001T234837Z
UID:9321-1734037200-1734053400@shakedownbarvail.com
SUMMARY:Taylor Scott Duo
DESCRIPTION:Taylor Scott Duo \n*Doors open at listed event time\, live music typically starts 60-90 minutes after doors. End times are estimates.
URL:https://shakedownbarvail.com/event/taylor-scott-duo-4/
LOCATION:Shakedown Bar 304 Bridge St\, Vail\, CO  81657\, United States\, Shakedown Bar 304 Bridge St\, Vail\, CO 81657\, United States
CATEGORIES:Events,Full Band
ORGANIZER;CN="Shakedown Presents":MAILTO:info@shakedownbarvail.com
END:VEVENT
BEGIN:VEVENT
DTSTART;TZID=America/Denver:20241123T210000
DTEND;TZID=America/Denver:20241124T013000
DTSTAMP:20260420T062658
CREATED:20240904T230835Z
LAST-MODIFIED:20240904T230835Z
UID:9283-1732395600-1732411800@shakedownbarvail.com
SUMMARY:Taylor Scott Band
DESCRIPTION:Taylor Scott Band \n*Doors open at listed event time\, live music typically starts 60-90 minutes after doors. End times are estimates.
URL:https://shakedownbarvail.com/event/taylor-scott-band-24/
LOCATION:Shakedown Bar 304 Bridge St\, Vail\, CO  81657\, United States\, Shakedown Bar 304 Bridge St\, Vail\, CO 81657\, United States
CATEGORIES:Events,Full Band
ORGANIZER;CN="Shakedown Presents":MAILTO:info@shakedownbarvail.com
END:VEVENT
BEGIN:VEVENT
DTSTART;TZID=America/Denver:20241109T210000
DTEND;TZID=America/Denver:20241110T013000
DTSTAMP:20260420T062658
CREATED:20240904T224534Z
LAST-MODIFIED:20240904T224534Z
UID:9268-1731186000-1731202200@shakedownbarvail.com
SUMMARY:Taylor Scott Duo
DESCRIPTION:Taylor Scott Duo \n*Doors open at listed event time\, live music typically starts 60-90 minutes after doors. End times are estimates.
URL:https://shakedownbarvail.com/event/taylor-scott-duo-3/
LOCATION:Shakedown Bar 304 Bridge St\, Vail\, CO  81657\, United States\, Shakedown Bar 304 Bridge St\, Vail\, CO 81657\, United States
CATEGORIES:Events,Full Band
ORGANIZER;CN="Shakedown Presents":MAILTO:info@shakedownbarvail.com
END:VEVENT
BEGIN:VEVENT
DTSTART;TZID=America/Denver:20241011T210000
DTEND;TZID=America/Denver:20241012T013000
DTSTAMP:20260420T062658
CREATED:20240904T222209Z
LAST-MODIFIED:20240904T222209Z
UID:9256-1728680400-1728696600@shakedownbarvail.com
SUMMARY:Taylor Scott Band
DESCRIPTION:Taylor Scott Band \n*Doors open at listed event time\, live music typically starts 60-90 minutes after doors. End times are estimates.
URL:https://shakedownbarvail.com/event/taylor-scott-band-23/
LOCATION:Shakedown Bar 304 Bridge St\, Vail\, CO  81657\, United States\, Shakedown Bar 304 Bridge St\, Vail\, CO 81657\, United States
CATEGORIES:Events,Full Band
ORGANIZER;CN="Shakedown Presents":MAILTO:info@shakedownbarvail.com
END:VEVENT
BEGIN:VEVENT
DTSTART;TZID=America/Denver:20240913T210000
DTEND;TZID=America/Denver:20240914T013000
DTSTAMP:20260420T062658
CREATED:20240904T220705Z
LAST-MODIFIED:20240904T220705Z
UID:9247-1726261200-1726277400@shakedownbarvail.com
SUMMARY:Kory Montgomery Band
DESCRIPTION:Kory Montgomery – Guitar/vocals \nKramer Kelling – Bass/vocals \nBrian Loftus – Drums/vocals \n  \n  \n*Doors open at listed event time\, live music typically starts 60-90 minutes after doors. End times are estimates.
URL:https://shakedownbarvail.com/event/kory-montgomery-band-24/
LOCATION:Shakedown Bar 304 Bridge St\, Vail\, CO  81657\, United States\, Shakedown Bar 304 Bridge St\, Vail\, CO 81657\, United States
CATEGORIES:Events,Full Band
ORGANIZER;CN="Shakedown Presents":MAILTO:info@shakedownbarvail.com
END:VEVENT
BEGIN:VEVENT
DTSTART;TZID=America/Denver:20240906T210000
DTEND;TZID=America/Denver:20240907T013000
DTSTAMP:20260420T062658
CREATED:20240823T192746Z
LAST-MODIFIED:20240823T192746Z
UID:9168-1725656400-1725672600@shakedownbarvail.com
SUMMARY:Taylor Scott Band and Guests
DESCRIPTION:Taylor Scott Band \n*Doors open at listed event time\, live music typically starts 60-90 minutes after doors. End times are estimates.
URL:https://shakedownbarvail.com/event/taylor-scott-band-and-guests/
LOCATION:Shakedown Bar 304 Bridge St\, Vail\, CO  81657\, United States\, Shakedown Bar 304 Bridge St\, Vail\, CO 81657\, United States
CATEGORIES:Events,Full Band
ORGANIZER;CN="Shakedown Presents":MAILTO:info@shakedownbarvail.com
END:VEVENT
END:VCALENDAR