BEGIN:VCALENDAR
VERSION:2.0
PRODID:-//Shakedown Bar - ECPv6.15.14//NONSGML v1.0//EN
CALSCALE:GREGORIAN
METHOD:PUBLISH
X-WR-CALNAME:Shakedown Bar
X-ORIGINAL-URL:https://shakedownbarvail.com
X-WR-CALDESC:Events for Shakedown Bar
REFRESH-INTERVAL;VALUE=DURATION:PT1H
X-Robots-Tag:noindex
X-PUBLISHED-TTL:PT1H
BEGIN:VTIMEZONE
TZID:America/Denver
BEGIN:DAYLIGHT
TZOFFSETFROM:-0700
TZOFFSETTO:-0600
TZNAME:MDT
DTSTART:20250309T090000
END:DAYLIGHT
BEGIN:STANDARD
TZOFFSETFROM:-0600
TZOFFSETTO:-0700
TZNAME:MST
DTSTART:20251102T080000
END:STANDARD
BEGIN:DAYLIGHT
TZOFFSETFROM:-0700
TZOFFSETTO:-0600
TZNAME:MDT
DTSTART:20260308T090000
END:DAYLIGHT
BEGIN:STANDARD
TZOFFSETFROM:-0600
TZOFFSETTO:-0700
TZNAME:MST
DTSTART:20261101T080000
END:STANDARD
BEGIN:DAYLIGHT
TZOFFSETFROM:-0700
TZOFFSETTO:-0600
TZNAME:MDT
DTSTART:20270314T090000
END:DAYLIGHT
BEGIN:STANDARD
TZOFFSETFROM:-0600
TZOFFSETTO:-0700
TZNAME:MST
DTSTART:20271107T080000
END:STANDARD
END:VTIMEZONE
BEGIN:VEVENT
DTSTART;TZID=America/Denver:20260410T210000
DTEND;TZID=America/Denver:20260411T013000
DTSTAMP:20260419T144910
CREATED:20260302T215539Z
LAST-MODIFIED:20260302T215539Z
UID:10843-1775854800-1775871000@shakedownbarvail.com
SUMMARY:Scott Rednor Band 
DESCRIPTION:Scott Rednor Band  \nScott Rednor – Guitars/vocals \nKramer Kelling – Bass/vocals \nBrian Loftus – Drums \nTommy Shugart – Keyboards \n  \n*Doors open at listed event time\, live music typically starts 60-90 minutes after doors. End times are estimates.
URL:https://shakedownbarvail.com/event/scott-rednor-band-106/
LOCATION:Shakedown Bar 304 Bridge St\, Vail\, CO  81657\, United States\, Shakedown Bar 304 Bridge St\, Vail\, CO 81657\, United States
CATEGORIES:Full Band
ORGANIZER;CN="Shakedown Presents":MAILTO:info@shakedownbarvail.com
END:VEVENT
BEGIN:VEVENT
DTSTART;VALUE=DATE:20260408
DTEND;VALUE=DATE:20260410
DTSTAMP:20260419T144910
CREATED:20260302T215244Z
LAST-MODIFIED:20260408T133742Z
UID:10835-1775617200-1775703599@shakedownbarvail.com
SUMMARY:CLOSED
DESCRIPTION:CLOSED
URL:https://shakedownbarvail.com/event/dave-tucker-6/
LOCATION:Shakedown Bar 304 Bridge St\, Vail\, CO  81657\, United States\, Shakedown Bar 304 Bridge St\, Vail\, CO 81657\, United States
CATEGORIES:Full Band
ORGANIZER;CN="Shakedown Presents":MAILTO:info@shakedownbarvail.com
END:VEVENT
BEGIN:VEVENT
DTSTART;TZID=America/Denver:20260404T210000
DTEND;TZID=America/Denver:20260405T013000
DTSTAMP:20260419T144910
CREATED:20260302T215051Z
LAST-MODIFIED:20260302T215051Z
UID:10829-1775336400-1775352600@shakedownbarvail.com
SUMMARY:Taylor Scott Band
DESCRIPTION:Taylor Scott Band \nTaylor Scott – Guitar/vocals \n*Doors open at listed event time\, live music typically starts 60-90 minutes after doors. End times are estimates.
URL:https://shakedownbarvail.com/event/taylor-scott-band-46/
LOCATION:Shakedown Bar 304 Bridge St\, Vail\, CO  81657\, United States\, Shakedown Bar 304 Bridge St\, Vail\, CO 81657\, United States
CATEGORIES:Full Band
ORGANIZER;CN="Shakedown Presents":MAILTO:info@shakedownbarvail.com
END:VEVENT
BEGIN:VEVENT
DTSTART;TZID=America/Denver:20260403T210000
DTEND;TZID=America/Denver:20260404T013000
DTSTAMP:20260419T144910
CREATED:20260302T214923Z
LAST-MODIFIED:20260302T214923Z
UID:10825-1775250000-1775266200@shakedownbarvail.com
SUMMARY:Scott Rednor Band 
DESCRIPTION:Scott Rednor Band  \nScott Rednor – Guitars/vocals \nKramer Kelling – Bass/vocals \nBrian Loftus – Drums \nTommy Shugart – Keyboards \n  \n*Doors open at listed event time\, live music typically starts 60-90 minutes after doors. End times are estimates.
URL:https://shakedownbarvail.com/event/scott-rednor-band-105/
LOCATION:Shakedown Bar 304 Bridge St\, Vail\, CO  81657\, United States\, Shakedown Bar 304 Bridge St\, Vail\, CO 81657\, United States
CATEGORIES:Full Band
ORGANIZER;CN="Shakedown Presents":MAILTO:info@shakedownbarvail.com
END:VEVENT
BEGIN:VEVENT
DTSTART;TZID=America/Denver:20260402T160000
DTEND;TZID=America/Denver:20260402T200000
DTSTAMP:20260419T144910
CREATED:20260302T214628Z
LAST-MODIFIED:20260302T214628Z
UID:10819-1775145600-1775160000@shakedownbarvail.com
SUMMARY:Dave Tucker Apres
DESCRIPTION:Dave Tucker \n  \n  \n*Doors open at listed event time\, live music typically starts 60-90 minutes after doors. End times are estimates.
URL:https://shakedownbarvail.com/event/dave-tucker-apres-3/
LOCATION:Shakedown Bar 304 Bridge St\, Vail\, CO  81657\, United States\, Shakedown Bar 304 Bridge St\, Vail\, CO 81657\, United States
CATEGORIES:Full Band
ORGANIZER;CN="Shakedown Presents":MAILTO:info@shakedownbarvail.com
END:VEVENT
BEGIN:VEVENT
DTSTART;TZID=America/Denver:20260330T210000
DTEND;TZID=America/Denver:20260331T013000
DTSTAMP:20260419T144910
CREATED:20260302T214535Z
LAST-MODIFIED:20260302T214535Z
UID:10817-1774904400-1774920600@shakedownbarvail.com
SUMMARY:Dave Tucker
DESCRIPTION:Dave Tucker \n  \n  \n*Doors open at listed event time\, live music typically starts 60-90 minutes after doors. End times are estimates.
URL:https://shakedownbarvail.com/event/dave-tucker-5/
LOCATION:Shakedown Bar 304 Bridge St\, Vail\, CO  81657\, United States\, Shakedown Bar 304 Bridge St\, Vail\, CO 81657\, United States
CATEGORIES:Full Band
ORGANIZER;CN="Shakedown Presents":MAILTO:info@shakedownbarvail.com
END:VEVENT
BEGIN:VEVENT
DTSTART;TZID=America/Denver:20260328T210000
DTEND;TZID=America/Denver:20260329T013000
DTSTAMP:20260419T144910
CREATED:20260111T224038Z
LAST-MODIFIED:20260111T224038Z
UID:10780-1774731600-1774747800@shakedownbarvail.com
SUMMARY:Kory Montgomery Band
DESCRIPTION:Kory Montgomery Band \nKory Montgomery – Guitar/vocals \nKramer Kelling – Bass/vocals \nBrian Loftus – Drums \n  \n*Doors open at listed event time\, live music typically starts 60-90 minutes after doors. End times are estimates.
URL:https://shakedownbarvail.com/event/kory-montgomery-band-43/
LOCATION:Shakedown Bar 304 Bridge St\, Vail\, CO  81657\, United States\, Shakedown Bar 304 Bridge St\, Vail\, CO 81657\, United States
CATEGORIES:Full Band
ORGANIZER;CN="Shakedown Presents":MAILTO:info@shakedownbarvail.com
END:VEVENT
BEGIN:VEVENT
DTSTART;TZID=America/Denver:20260327T210000
DTEND;TZID=America/Denver:20260328T013000
DTSTAMP:20260419T144910
CREATED:20260111T223700Z
LAST-MODIFIED:20260111T223700Z
UID:10776-1774645200-1774661400@shakedownbarvail.com
SUMMARY:The Hip Snacks
DESCRIPTION:The Hip Snacks \n*Doors open at listed event time\, live music typically starts 60-90 minutes after doors. End times are estimates.
URL:https://shakedownbarvail.com/event/the-hip-snacks-2/
LOCATION:Shakedown Bar 304 Bridge St\, Vail\, CO  81657\, United States\, Shakedown Bar 304 Bridge St\, Vail\, CO 81657\, United States
CATEGORIES:Events,Full Band
ORGANIZER;CN="Shakedown Presents":MAILTO:info@shakedownbarvail.com
END:VEVENT
BEGIN:VEVENT
DTSTART;TZID=America/Denver:20260325T210000
DTEND;TZID=America/Denver:20260326T013000
DTSTAMP:20260419T144910
CREATED:20260111T223145Z
LAST-MODIFIED:20260302T214320Z
UID:10766-1774472400-1774488600@shakedownbarvail.com
SUMMARY:Dave Tucker
DESCRIPTION:Dave Tucker \n  \n  \n*Doors open at listed event time\, live music typically starts 60-90 minutes after doors. End times are estimates.
URL:https://shakedownbarvail.com/event/tba-70/
LOCATION:Shakedown Bar 304 Bridge St\, Vail\, CO  81657\, United States\, Shakedown Bar 304 Bridge St\, Vail\, CO 81657\, United States
CATEGORIES:Full Band
ORGANIZER;CN="Shakedown Presents":MAILTO:info@shakedownbarvail.com
END:VEVENT
BEGIN:VEVENT
DTSTART;TZID=America/Denver:20260322T160000
DTEND;TZID=America/Denver:20260322T200000
DTSTAMP:20260419T144910
CREATED:20260111T222703Z
LAST-MODIFIED:20260111T222703Z
UID:10758-1774195200-1774209600@shakedownbarvail.com
SUMMARY:Scott Rednor Band Apres
DESCRIPTION:Scott Rednor Band Apres \nScott Rednor – Guitars/vocals \nKramer Kelling – Bass/vocals \nBrian Loftus – Drums \nTommy Shugart – Keyboards \n  \n*Doors open at listed event time\, live music typically starts 60-90 minutes after doors. End times are estimates.
URL:https://shakedownbarvail.com/event/scott-rednor-band-apres-25/
LOCATION:Shakedown Bar 304 Bridge St\, Vail\, CO  81657\, United States\, Shakedown Bar 304 Bridge St\, Vail\, CO 81657\, United States
CATEGORIES:Aprés,Full Band
ORGANIZER;CN="Shakedown Presents":MAILTO:info@shakedownbarvail.com
END:VEVENT
BEGIN:VEVENT
DTSTART;TZID=America/Denver:20260321T210000
DTEND;TZID=America/Denver:20260322T013000
DTSTAMP:20260419T144910
CREATED:20260111T222636Z
LAST-MODIFIED:20260111T222636Z
UID:10756-1774126800-1774143000@shakedownbarvail.com
SUMMARY:Scott Rednor Band 
DESCRIPTION:Scott Rednor Band  \nScott Rednor – Guitars/vocals \nKramer Kelling – Bass/vocals \nBrian Loftus – Drums \nTommy Shugart – Keyboards \n  \n*Doors open at listed event time\, live music typically starts 60-90 minutes after doors. End times are estimates.
URL:https://shakedownbarvail.com/event/scott-rednor-band-104/
LOCATION:Shakedown Bar 304 Bridge St\, Vail\, CO  81657\, United States\, Shakedown Bar 304 Bridge St\, Vail\, CO 81657\, United States
CATEGORIES:Full Band
ORGANIZER;CN="Shakedown Presents":MAILTO:info@shakedownbarvail.com
END:VEVENT
BEGIN:VEVENT
DTSTART;TZID=America/Denver:20260320T210000
DTEND;TZID=America/Denver:20260321T013000
DTSTAMP:20260419T144910
CREATED:20260111T222419Z
LAST-MODIFIED:20260111T222419Z
UID:10752-1774040400-1774056600@shakedownbarvail.com
SUMMARY:Scott Rednor Band 
DESCRIPTION:Scott Rednor Band  \nScott Rednor – Guitars/vocals \nKramer Kelling – Bass/vocals \nBrian Loftus – Drums \nTommy Shugart – Keyboards \n  \n*Doors open at listed event time\, live music typically starts 60-90 minutes after doors. End times are estimates.
URL:https://shakedownbarvail.com/event/scott-rednor-band-103/
LOCATION:Shakedown Bar 304 Bridge St\, Vail\, CO  81657\, United States\, Shakedown Bar 304 Bridge St\, Vail\, CO 81657\, United States
CATEGORIES:Full Band
ORGANIZER;CN="Shakedown Presents":MAILTO:info@shakedownbarvail.com
END:VEVENT
BEGIN:VEVENT
DTSTART;TZID=America/Denver:20260318T210000
DTEND;TZID=America/Denver:20260319T013000
DTSTAMP:20260419T144910
CREATED:20260111T221933Z
LAST-MODIFIED:20260302T213840Z
UID:10744-1773867600-1773883800@shakedownbarvail.com
SUMMARY:CLOSED FOR PRIVATE EVENT
DESCRIPTION:CLOSED FOR PRIVATE EVENT
URL:https://shakedownbarvail.com/event/tba-67/
LOCATION:Shakedown Bar 304 Bridge St\, Vail\, CO  81657\, United States\, Shakedown Bar 304 Bridge St\, Vail\, CO 81657\, United States
CATEGORIES:Full Band
ORGANIZER;CN="Shakedown Presents":MAILTO:info@shakedownbarvail.com
END:VEVENT
BEGIN:VEVENT
DTSTART;TZID=America/Denver:20260315T210000
DTEND;TZID=America/Denver:20260316T013000
DTSTAMP:20260419T144910
CREATED:20260111T221710Z
LAST-MODIFIED:20260302T213559Z
UID:10736-1773608400-1773624600@shakedownbarvail.com
SUMMARY:2 Lot
DESCRIPTION:2 Lot \n  \n  \n*Doors open at listed event time\, live music typically starts 60-90 minutes after doors. End times are estimates.
URL:https://shakedownbarvail.com/event/tba-63/
LOCATION:Shakedown Bar 304 Bridge St\, Vail\, CO  81657\, United States\, Shakedown Bar 304 Bridge St\, Vail\, CO 81657\, United States
CATEGORIES:Full Band
ORGANIZER;CN="Shakedown Presents":MAILTO:info@shakedownbarvail.com
END:VEVENT
BEGIN:VEVENT
DTSTART;TZID=America/Denver:20260315T160000
DTEND;TZID=America/Denver:20260315T200000
DTSTAMP:20260419T144910
CREATED:20260111T221622Z
LAST-MODIFIED:20260111T221622Z
UID:10734-1773590400-1773604800@shakedownbarvail.com
SUMMARY:Scott Rednor Band Apres
DESCRIPTION:Scott Rednor Band Apres \nScott Rednor – Guitars/vocals \nKramer Kelling – Bass/vocals \nBrian Loftus – Drums \nTommy Shugart – Keyboards \n  \n*Doors open at listed event time\, live music typically starts 60-90 minutes after doors. End times are estimates.
URL:https://shakedownbarvail.com/event/scott-rednor-band-apres-24/
LOCATION:Shakedown Bar 304 Bridge St\, Vail\, CO  81657\, United States\, Shakedown Bar 304 Bridge St\, Vail\, CO 81657\, United States
CATEGORIES:Aprés,Full Band
ORGANIZER;CN="Shakedown Presents":MAILTO:info@shakedownbarvail.com
END:VEVENT
BEGIN:VEVENT
DTSTART;TZID=America/Denver:20260314T210000
DTEND;TZID=America/Denver:20260315T013000
DTSTAMP:20260419T144910
CREATED:20260111T221553Z
LAST-MODIFIED:20260111T221553Z
UID:10732-1773522000-1773538200@shakedownbarvail.com
SUMMARY:Kory Montgomery Band
DESCRIPTION:Kory Montgomery Band \nKory Montgomery – Guitar/vocals \nKramer Kelling – Bass/vocals \nMark Levy – Drums/vocals \n  \n*Doors open at listed event time\, live music typically starts 60-90 minutes after doors. End times are estimates.
URL:https://shakedownbarvail.com/event/kory-montgomery-band-42/
LOCATION:Shakedown Bar 304 Bridge St\, Vail\, CO  81657\, United States\, Shakedown Bar 304 Bridge St\, Vail\, CO 81657\, United States
CATEGORIES:Full Band
ORGANIZER;CN="Shakedown Presents":MAILTO:info@shakedownbarvail.com
END:VEVENT
BEGIN:VEVENT
DTSTART;TZID=America/Denver:20260314T160000
DTEND;TZID=America/Denver:20260314T200000
DTSTAMP:20260419T144910
CREATED:20260111T221515Z
LAST-MODIFIED:20260111T221515Z
UID:10730-1773504000-1773518400@shakedownbarvail.com
SUMMARY:Scott Rednor Band Apres
DESCRIPTION:Scott Rednor Band Apres \nScott Rednor – Guitars/vocals \nKramer Kelling – Bass/vocals \nBrian Loftus – Drums \nTommy Shugart – Keyboards \n  \n*Doors open at listed event time\, live music typically starts 60-90 minutes after doors. End times are estimates.
URL:https://shakedownbarvail.com/event/scott-rednor-band-apres-23/
LOCATION:Shakedown Bar 304 Bridge St\, Vail\, CO  81657\, United States\, Shakedown Bar 304 Bridge St\, Vail\, CO 81657\, United States
CATEGORIES:Aprés,Full Band
ORGANIZER;CN="Shakedown Presents":MAILTO:info@shakedownbarvail.com
END:VEVENT
BEGIN:VEVENT
DTSTART;TZID=America/Denver:20260313T210000
DTEND;TZID=America/Denver:20260314T013000
DTSTAMP:20260419T144910
CREATED:20260111T221448Z
LAST-MODIFIED:20260111T221448Z
UID:10728-1773435600-1773451800@shakedownbarvail.com
SUMMARY:Taylor Scott Band
DESCRIPTION:Taylor Scott Band \nTaylor Scott – Guitar/vocals \n*Doors open at listed event time\, live music typically starts 60-90 minutes after doors. End times are estimates.
URL:https://shakedownbarvail.com/event/taylor-scott-band-45/
LOCATION:Shakedown Bar 304 Bridge St\, Vail\, CO  81657\, United States\, Shakedown Bar 304 Bridge St\, Vail\, CO 81657\, United States
CATEGORIES:Full Band
ORGANIZER;CN="Shakedown Presents":MAILTO:info@shakedownbarvail.com
END:VEVENT
BEGIN:VEVENT
DTSTART;TZID=America/Denver:20260308T210000
DTEND;TZID=America/Denver:20260309T013000
DTSTAMP:20260419T144910
CREATED:20260302T212723Z
LAST-MODIFIED:20260302T212723Z
UID:10808-1773003600-1773019800@shakedownbarvail.com
SUMMARY:Town Cavalry
DESCRIPTION:Town Cavalry \nJohnny Schleper – Guitar/vocals \nRob Eaton Jr. – Guitar/vocals \nJiho Han – Bass/vocals \nMark Levy – Drums/vocals \n  \n*Doors open at listed event time\, live music typically starts 60-90 minutes after doors. End times are estimates.
URL:https://shakedownbarvail.com/event/town-cavalry-5/
LOCATION:Shakedown Bar 304 Bridge St\, Vail\, CO  81657\, United States\, Shakedown Bar 304 Bridge St\, Vail\, CO 81657\, United States
CATEGORIES:Full Band,Saturdays
ORGANIZER;CN="Shakedown Presents":MAILTO:info@shakedownbarvail.com
END:VEVENT
BEGIN:VEVENT
DTSTART;TZID=America/Denver:20260308T160000
DTEND;TZID=America/Denver:20260308T200000
DTSTAMP:20260419T144910
CREATED:20260111T220905Z
LAST-MODIFIED:20260111T220905Z
UID:10710-1772985600-1773000000@shakedownbarvail.com
SUMMARY:Scott Rednor Band Apres
DESCRIPTION:Scott Rednor Band Apres \nScott Rednor – Guitars/vocals \nKramer Kelling – Bass/vocals \nBrian Loftus – Drums \nTommy Shugart – Keyboards \n  \n*Doors open at listed event time\, live music typically starts 60-90 minutes after doors. End times are estimates.
URL:https://shakedownbarvail.com/event/scott-rednor-band-apres-22/
LOCATION:Shakedown Bar 304 Bridge St\, Vail\, CO  81657\, United States\, Shakedown Bar 304 Bridge St\, Vail\, CO 81657\, United States
CATEGORIES:Aprés,Full Band
ORGANIZER;CN="Shakedown Presents":MAILTO:info@shakedownbarvail.com
END:VEVENT
BEGIN:VEVENT
DTSTART;TZID=America/Denver:20260307T210000
DTEND;TZID=America/Denver:20260308T013000
DTSTAMP:20260419T144910
CREATED:20260111T220835Z
LAST-MODIFIED:20260111T220835Z
UID:10708-1772917200-1772933400@shakedownbarvail.com
SUMMARY:Taylor Scott Band
DESCRIPTION:Taylor Scott Band \nTaylor Scott – Guitar/vocals \n*Doors open at listed event time\, live music typically starts 60-90 minutes after doors. End times are estimates.
URL:https://shakedownbarvail.com/event/taylor-scott-band-44/
LOCATION:Shakedown Bar 304 Bridge St\, Vail\, CO  81657\, United States\, Shakedown Bar 304 Bridge St\, Vail\, CO 81657\, United States
CATEGORIES:Full Band
ORGANIZER;CN="Shakedown Presents":MAILTO:info@shakedownbarvail.com
END:VEVENT
BEGIN:VEVENT
DTSTART;TZID=America/Denver:20260307T160000
DTEND;TZID=America/Denver:20260307T200000
DTSTAMP:20260419T144910
CREATED:20260111T220804Z
LAST-MODIFIED:20260111T220804Z
UID:10706-1772899200-1772913600@shakedownbarvail.com
SUMMARY:Scott Rednor Band Apres
DESCRIPTION:Scott Rednor Band Apres \nScott Rednor – Guitars/vocals \nKramer Kelling – Bass/vocals \nBrian Loftus – Drums \nTommy Shugart – Keyboards \n  \n*Doors open at listed event time\, live music typically starts 60-90 minutes after doors. End times are estimates.
URL:https://shakedownbarvail.com/event/scott-rednor-band-apres-21/
LOCATION:Shakedown Bar 304 Bridge St\, Vail\, CO  81657\, United States\, Shakedown Bar 304 Bridge St\, Vail\, CO 81657\, United States
CATEGORIES:Aprés,Full Band
ORGANIZER;CN="Shakedown Presents":MAILTO:info@shakedownbarvail.com
END:VEVENT
BEGIN:VEVENT
DTSTART;TZID=America/Denver:20260306T210000
DTEND;TZID=America/Denver:20260307T013000
DTSTAMP:20260419T144910
CREATED:20260111T220744Z
LAST-MODIFIED:20260111T220744Z
UID:10704-1772830800-1772847000@shakedownbarvail.com
SUMMARY:Scott Rednor Band 
DESCRIPTION:Scott Rednor Band  \nScott Rednor – Guitars/vocals \nKramer Kelling – Bass/vocals \nBrian Loftus – Drums \nTommy Shugart – Keyboards \n  \n*Doors open at listed event time\, live music typically starts 60-90 minutes after doors. End times are estimates.
URL:https://shakedownbarvail.com/event/scott-rednor-band-102/
LOCATION:Shakedown Bar 304 Bridge St\, Vail\, CO  81657\, United States\, Shakedown Bar 304 Bridge St\, Vail\, CO 81657\, United States
CATEGORIES:Full Band
ORGANIZER;CN="Shakedown Presents":MAILTO:info@shakedownbarvail.com
END:VEVENT
BEGIN:VEVENT
DTSTART;TZID=America/Denver:20260301T210000
DTEND;TZID=America/Denver:20260302T013000
DTSTAMP:20260419T144910
CREATED:20260111T220207Z
LAST-MODIFIED:20260111T220207Z
UID:10686-1772398800-1772415000@shakedownbarvail.com
SUMMARY:Dave Watts and Friends
DESCRIPTION:Dave Watts and Friends \nDave Watts – Drums \n  \n*Doors open at listed event time\, live music typically starts 60-90 minutes after doors. End times are estimates.
URL:https://shakedownbarvail.com/event/dave-watts-and-friends/
LOCATION:Shakedown Bar 304 Bridge St\, Vail\, CO  81657\, United States\, Shakedown Bar 304 Bridge St\, Vail\, CO 81657\, United States
CATEGORIES:Full Band
ORGANIZER;CN="Shakedown Presents":MAILTO:info@shakedownbarvail.com
END:VEVENT
BEGIN:VEVENT
DTSTART;TZID=America/Denver:20260301T160000
DTEND;TZID=America/Denver:20260301T200000
DTSTAMP:20260419T144910
CREATED:20260111T215925Z
LAST-MODIFIED:20260111T215925Z
UID:10684-1772380800-1772395200@shakedownbarvail.com
SUMMARY:Scott Rednor Band Apres
DESCRIPTION:Scott Rednor Band Apres \nScott Rednor – Guitars/vocals \nKramer Kelling – Bass/vocals \nBrian Loftus – Drums \nTommy Shugart – Keyboards \n  \n*Doors open at listed event time\, live music typically starts 60-90 minutes after doors. End times are estimates.
URL:https://shakedownbarvail.com/event/scott-rednor-band-apres-20/
LOCATION:Shakedown Bar 304 Bridge St\, Vail\, CO  81657\, United States\, Shakedown Bar 304 Bridge St\, Vail\, CO 81657\, United States
CATEGORIES:Aprés,Full Band
ORGANIZER;CN="Shakedown Presents":MAILTO:info@shakedownbarvail.com
END:VEVENT
BEGIN:VEVENT
DTSTART;TZID=America/Denver:20260228T210000
DTEND;TZID=America/Denver:20260301T013000
DTSTAMP:20260419T144910
CREATED:20260105T211326Z
LAST-MODIFIED:20260105T211326Z
UID:10661-1772312400-1772328600@shakedownbarvail.com
SUMMARY:Taylor Scott Sneakin' Drinks - Honky Tonk Night
DESCRIPTION:Taylor Scott – Guitar/vocals \n*Doors open at listed event time\, live music typically starts 60-90 minutes after doors. End times are estimates.
URL:https://shakedownbarvail.com/event/taylor-scott-sneakin-drinks-honky-tonk-night-2/
LOCATION:Shakedown Bar 304 Bridge St\, Vail\, CO  81657\, United States\, Shakedown Bar 304 Bridge St\, Vail\, CO 81657\, United States
CATEGORIES:Full Band
ORGANIZER;CN="Shakedown Presents":MAILTO:info@shakedownbarvail.com
END:VEVENT
BEGIN:VEVENT
DTSTART;TZID=America/Denver:20260228T160000
DTEND;TZID=America/Denver:20260228T200000
DTSTAMP:20260419T144910
CREATED:20260105T211239Z
LAST-MODIFIED:20260105T211239Z
UID:10659-1772294400-1772308800@shakedownbarvail.com
SUMMARY:Scott Rednor Band Apres
DESCRIPTION:Scott Rednor Band Apres \nScott Rednor – Guitars/vocals \nKramer Kelling – Bass/vocals \nBrian Loftus – Drums \nTommy Shugart – Keyboards \n  \n*Doors open at listed event time\, live music typically starts 60-90 minutes after doors. End times are estimates.
URL:https://shakedownbarvail.com/event/scott-rednor-band-apres-19/
LOCATION:Shakedown Bar 304 Bridge St\, Vail\, CO  81657\, United States\, Shakedown Bar 304 Bridge St\, Vail\, CO 81657\, United States
CATEGORIES:Aprés,Full Band
ORGANIZER;CN="Shakedown Presents":MAILTO:info@shakedownbarvail.com
END:VEVENT
BEGIN:VEVENT
DTSTART;TZID=America/Denver:20260227T210000
DTEND;TZID=America/Denver:20260228T013000
DTSTAMP:20260419T144910
CREATED:20260105T211124Z
LAST-MODIFIED:20260105T211124Z
UID:10657-1772226000-1772242200@shakedownbarvail.com
SUMMARY:Kory Montgomery Band
DESCRIPTION:Kory Montgomery Band \nKory Montgomery – Guitar/vocals \nKramer Kelling – Bass/vocals \nMark Levy – Drums/vocals \n  \n*Doors open at listed event time\, live music typically starts 60-90 minutes after doors. End times are estimates.
URL:https://shakedownbarvail.com/event/kory-montgomery-band-41/
LOCATION:Shakedown Bar 304 Bridge St\, Vail\, CO  81657\, United States\, Shakedown Bar 304 Bridge St\, Vail\, CO 81657\, United States
CATEGORIES:Full Band
ORGANIZER;CN="Shakedown Presents":MAILTO:info@shakedownbarvail.com
END:VEVENT
BEGIN:VEVENT
DTSTART;TZID=America/Denver:20260222T160000
DTEND;TZID=America/Denver:20260222T200000
DTSTAMP:20260419T144910
CREATED:20260105T210534Z
LAST-MODIFIED:20260105T210534Z
UID:10637-1771776000-1771790400@shakedownbarvail.com
SUMMARY:Scott Rednor Band Apres
DESCRIPTION:Scott Rednor Band Apres \nScott Rednor – Guitars/vocals \nKramer Kelling – Bass/vocals \nBrian Loftus – Drums \nTommy Shugart – Keyboards \n  \n*Doors open at listed event time\, live music typically starts 60-90 minutes after doors. End times are estimates.
URL:https://shakedownbarvail.com/event/scott-rednor-band-apres-18/
LOCATION:Shakedown Bar 304 Bridge St\, Vail\, CO  81657\, United States\, Shakedown Bar 304 Bridge St\, Vail\, CO 81657\, United States
CATEGORIES:Aprés,Full Band
ORGANIZER;CN="Shakedown Presents":MAILTO:info@shakedownbarvail.com
END:VEVENT
BEGIN:VEVENT
DTSTART;TZID=America/Denver:20260221T210000
DTEND;TZID=America/Denver:20260222T013000
DTSTAMP:20260419T144910
CREATED:20260105T210458Z
LAST-MODIFIED:20260105T210458Z
UID:10635-1771707600-1771723800@shakedownbarvail.com
SUMMARY:Scott Rednor Band 
DESCRIPTION:Scott Rednor Band  \nScott Rednor – Guitars/vocals \nKramer Kelling – Bass/vocals \nBrian Loftus – Drums \nTommy Shugart – Keyboards \n  \n*Doors open at listed event time\, live music typically starts 60-90 minutes after doors. End times are estimates.
URL:https://shakedownbarvail.com/event/scott-rednor-band-101/
LOCATION:Shakedown Bar 304 Bridge St\, Vail\, CO  81657\, United States\, Shakedown Bar 304 Bridge St\, Vail\, CO 81657\, United States
CATEGORIES:Full Band
ORGANIZER;CN="Shakedown Presents":MAILTO:info@shakedownbarvail.com
END:VEVENT
END:VCALENDAR