BEGIN:VCALENDAR
VERSION:2.0
PRODID:-//Shakedown Bar - ECPv6.15.14//NONSGML v1.0//EN
CALSCALE:GREGORIAN
METHOD:PUBLISH
X-ORIGINAL-URL:https://shakedownbarvail.com
X-WR-CALDESC:Events for Shakedown Bar
REFRESH-INTERVAL;VALUE=DURATION:PT1H
X-Robots-Tag:noindex
X-PUBLISHED-TTL:PT1H
BEGIN:VTIMEZONE
TZID:America/Denver
BEGIN:DAYLIGHT
TZOFFSETFROM:-0700
TZOFFSETTO:-0600
TZNAME:MDT
DTSTART:20220313T090000
END:DAYLIGHT
BEGIN:STANDARD
TZOFFSETFROM:-0600
TZOFFSETTO:-0700
TZNAME:MST
DTSTART:20221106T080000
END:STANDARD
BEGIN:DAYLIGHT
TZOFFSETFROM:-0700
TZOFFSETTO:-0600
TZNAME:MDT
DTSTART:20230312T090000
END:DAYLIGHT
BEGIN:STANDARD
TZOFFSETFROM:-0600
TZOFFSETTO:-0700
TZNAME:MST
DTSTART:20231105T080000
END:STANDARD
BEGIN:DAYLIGHT
TZOFFSETFROM:-0700
TZOFFSETTO:-0600
TZNAME:MDT
DTSTART:20240310T090000
END:DAYLIGHT
BEGIN:STANDARD
TZOFFSETFROM:-0600
TZOFFSETTO:-0700
TZNAME:MST
DTSTART:20241103T080000
END:STANDARD
END:VTIMEZONE
BEGIN:VEVENT
DTSTART;TZID=America/Denver:20231201T210000
DTEND;TZID=America/Denver:20231202T013000
DTSTAMP:20260424T032744
CREATED:20230928T193231Z
LAST-MODIFIED:20230928T193231Z
UID:8158-1701464400-1701480600@shakedownbarvail.com
SUMMARY:Paul Benjaman Band
DESCRIPTION:Paul Benjaman Band \n*Doors open at listed event time\, live music typically starts 60-90 minutes after doors. End times are estimates.
URL:https://shakedownbarvail.com/event/paul-benjaman-band/
LOCATION:Shakedown Bar 304 Bridge St\, Vail\, CO  81657\, United States\, Shakedown Bar 304 Bridge St\, Vail\, CO 81657\, United States
CATEGORIES:Events,Full Band
ORGANIZER;CN="Shakedown Presents":MAILTO:info@shakedownbarvail.com
END:VEVENT
BEGIN:VEVENT
DTSTART;TZID=America/Denver:20231202T210000
DTEND;TZID=America/Denver:20231203T013000
DTSTAMP:20260424T032744
CREATED:20231102T190132Z
LAST-MODIFIED:20231102T190132Z
UID:8270-1701550800-1701567000@shakedownbarvail.com
SUMMARY:Kory Montgomery Band w/ Scott Rednor
DESCRIPTION:Kory Montgomery – Guitar/vocals \nScott Rednor – Guitar/vocals \nKramer Kelling – Bass/vocals \nBrian Loftus – Drums \n  \n*Doors open at listed event time\, live music typically starts 60-90 minutes after doors. End times are estimates.
URL:https://shakedownbarvail.com/event/kory-montgomery-band-w-scott-rednor/
LOCATION:Shakedown Bar 304 Bridge St\, Vail\, CO  81657\, United States\, Shakedown Bar 304 Bridge St\, Vail\, CO 81657\, United States
CATEGORIES:Events,Full Band
ORGANIZER;CN="Shakedown Presents":MAILTO:info@shakedownbarvail.com
END:VEVENT
BEGIN:VEVENT
DTSTART;TZID=America/Denver:20231208T210000
DTEND;TZID=America/Denver:20231209T013000
DTSTAMP:20260424T032744
CREATED:20230928T194524Z
LAST-MODIFIED:20230928T194524Z
UID:8177-1702069200-1702085400@shakedownbarvail.com
SUMMARY:Taylor Frederick Band
DESCRIPTION:Live music featuring the Taylor Frederick Band. \nDoors @ 9pm | Music @ 9:30pm
URL:https://shakedownbarvail.com/event/taylor-frederick-band-2/
LOCATION:Shakedown Bar 304 Bridge St\, Vail\, CO  81657\, United States\, Shakedown Bar 304 Bridge St\, Vail\, CO 81657\, United States
CATEGORIES:Events,Full Band
ORGANIZER;CN="Shakedown Presents":MAILTO:info@shakedownbarvail.com
END:VEVENT
BEGIN:VEVENT
DTSTART;TZID=America/Denver:20231209T210000
DTEND;TZID=America/Denver:20231210T013000
DTSTAMP:20260424T032744
CREATED:20231208T002453Z
LAST-MODIFIED:20231208T002453Z
UID:8681-1702155600-1702171800@shakedownbarvail.com
SUMMARY:Taylor Scott Band
DESCRIPTION:Taylor Scott Band \n*Doors open at listed event time\, live music typically starts 60-90 minutes after doors. End times are estimates.
URL:https://shakedownbarvail.com/event/taylor-scott-band-18/
LOCATION:Shakedown Bar 304 Bridge St\, Vail\, CO  81657\, United States\, Shakedown Bar 304 Bridge St\, Vail\, CO 81657\, United States
CATEGORIES:Events,Full Band
ORGANIZER;CN="Shakedown Presents":MAILTO:info@shakedownbarvail.com
END:VEVENT
BEGIN:VEVENT
DTSTART;TZID=America/Denver:20231214T210000
DTEND;TZID=America/Denver:20231215T013000
DTSTAMP:20260424T032744
CREATED:20230928T195023Z
LAST-MODIFIED:20230928T195023Z
UID:8189-1702587600-1702603800@shakedownbarvail.com
SUMMARY:Float Like a Buffalo
DESCRIPTION:Live music featuring the Float Like a Buffalo \nDoors @ 9pm | Music @ 9:30pm
URL:https://shakedownbarvail.com/event/float-like-a-buffalo/
LOCATION:Shakedown Bar 304 Bridge St\, Vail\, CO  81657\, United States\, Shakedown Bar 304 Bridge St\, Vail\, CO 81657\, United States
CATEGORIES:Events,Full Band
ORGANIZER;CN="Shakedown Presents":MAILTO:info@shakedownbarvail.com
END:VEVENT
BEGIN:VEVENT
DTSTART;TZID=America/Denver:20231220T210000
DTEND;TZID=America/Denver:20231221T013000
DTSTAMP:20260424T032744
CREATED:20231012T190740Z
LAST-MODIFIED:20231012T190740Z
UID:8226-1703106000-1703122200@shakedownbarvail.com
SUMMARY:Kory Montgomery Solo
DESCRIPTION:Kory Montgomery – Guitar/vocals \n*Doors open at listed event time\, live music typically starts 60-90 minutes after doors. End times are estimates.
URL:https://shakedownbarvail.com/event/kory-montgomery-solo-16/
LOCATION:Shakedown Bar 304 Bridge St\, Vail\, CO  81657\, United States\, Shakedown Bar 304 Bridge St\, Vail\, CO 81657\, United States
CATEGORIES:Events,Full Band
ORGANIZER;CN="Shakedown Presents":MAILTO:info@shakedownbarvail.com
END:VEVENT
BEGIN:VEVENT
DTSTART;TZID=America/Denver:20231222T210000
DTEND;TZID=America/Denver:20231223T013000
DTSTAMP:20260424T032744
CREATED:20231012T191508Z
LAST-MODIFIED:20231012T191508Z
UID:8234-1703278800-1703295000@shakedownbarvail.com
SUMMARY:Kory Montgomery Band
DESCRIPTION:Kory Montgomery – Guitar/vocals \nScott Rednor – Guitar/vocals \nKramer Kelling – Bass/vocals \nMark Levy – Drums \n  \n*Doors open at listed event time\, live music typically starts 60-90 minutes after doors. End times are estimates.
URL:https://shakedownbarvail.com/event/kory-montgomery-band-10/
LOCATION:Shakedown Bar 304 Bridge St\, Vail\, CO  81657\, United States\, Shakedown Bar 304 Bridge St\, Vail\, CO 81657\, United States
CATEGORIES:Events,Full Band
ORGANIZER;CN="Shakedown Presents":MAILTO:info@shakedownbarvail.com
END:VEVENT
BEGIN:VEVENT
DTSTART;TZID=America/Denver:20231227T210000
DTEND;TZID=America/Denver:20231228T013000
DTSTAMP:20260424T032744
CREATED:20231012T192229Z
LAST-MODIFIED:20231012T192229Z
UID:8246-1703710800-1703727000@shakedownbarvail.com
SUMMARY:Kory Montgomery Solo
DESCRIPTION:Kory Montgomery – Guitar/vocals \n*Doors open at listed event time\, live music typically starts 60-90 minutes after doors. End times are estimates.
URL:https://shakedownbarvail.com/event/kory-montgomery-solo-17/
LOCATION:Shakedown Bar 304 Bridge St\, Vail\, CO  81657\, United States\, Shakedown Bar 304 Bridge St\, Vail\, CO 81657\, United States
CATEGORIES:Events,Full Band
ORGANIZER;CN="Shakedown Presents":MAILTO:info@shakedownbarvail.com
END:VEVENT
BEGIN:VEVENT
DTSTART;TZID=America/Denver:20231228T210000
DTEND;TZID=America/Denver:20231229T013000
DTSTAMP:20260424T032744
CREATED:20231114T004550Z
LAST-MODIFIED:20231114T004550Z
UID:8298-1703797200-1703813400@shakedownbarvail.com
SUMMARY:Taylor Frederick Trio
DESCRIPTION:Live music featuring the Taylor Frederick Trio \n*Doors open at listed event time\, live music typically starts 60-90 minutes after doors. End times are estimates.
URL:https://shakedownbarvail.com/event/taylor-frederick-trio/
LOCATION:Shakedown Bar 304 Bridge St\, Vail\, CO  81657\, United States\, Shakedown Bar 304 Bridge St\, Vail\, CO 81657\, United States
CATEGORIES:Events,Full Band
ORGANIZER;CN="Shakedown Presents":MAILTO:info@shakedownbarvail.com
END:VEVENT
BEGIN:VEVENT
DTSTART;TZID=America/Denver:20231230T210000
DTEND;TZID=America/Denver:20231231T010000
DTSTAMP:20260424T032744
CREATED:20231012T192747Z
LAST-MODIFIED:20231114T003929Z
UID:8250-1703970000-1703984400@shakedownbarvail.com
SUMMARY:Eminence Ensemble
DESCRIPTION:Eminence Ensemble \n*Doors open at listed event time\, live music typically starts 60-90 minutes after doors. End times are estimates.
URL:https://shakedownbarvail.com/event/eminence-ensemble/
LOCATION:Shakedown Bar 304 Bridge St\, Vail\, CO  81657\, United States\, Shakedown Bar 304 Bridge St\, Vail\, CO 81657\, United States
CATEGORIES:Events,Full Band
ORGANIZER;CN="Shakedown Presents":MAILTO:info@shakedownbarvail.com
END:VEVENT
END:VCALENDAR