BEGIN:VCALENDAR
VERSION:2.0
PRODID:-//Shakedown Bar - ECPv6.15.14//NONSGML v1.0//EN
CALSCALE:GREGORIAN
METHOD:PUBLISH
X-ORIGINAL-URL:https://shakedownbarvail.com
X-WR-CALDESC:Events for Shakedown Bar
REFRESH-INTERVAL;VALUE=DURATION:PT1H
X-Robots-Tag:noindex
X-PUBLISHED-TTL:PT1H
BEGIN:VTIMEZONE
TZID:America/Denver
BEGIN:DAYLIGHT
TZOFFSETFROM:-0700
TZOFFSETTO:-0600
TZNAME:MDT
DTSTART:20170312T090000
END:DAYLIGHT
BEGIN:STANDARD
TZOFFSETFROM:-0600
TZOFFSETTO:-0700
TZNAME:MST
DTSTART:20171105T080000
END:STANDARD
BEGIN:DAYLIGHT
TZOFFSETFROM:-0700
TZOFFSETTO:-0600
TZNAME:MDT
DTSTART:20180311T090000
END:DAYLIGHT
BEGIN:STANDARD
TZOFFSETFROM:-0600
TZOFFSETTO:-0700
TZNAME:MST
DTSTART:20181104T080000
END:STANDARD
BEGIN:DAYLIGHT
TZOFFSETFROM:-0700
TZOFFSETTO:-0600
TZNAME:MDT
DTSTART:20190310T090000
END:DAYLIGHT
BEGIN:STANDARD
TZOFFSETFROM:-0600
TZOFFSETTO:-0700
TZNAME:MST
DTSTART:20191103T080000
END:STANDARD
END:VTIMEZONE
BEGIN:VEVENT
DTSTART;TZID=America/Denver:20181215T213000
DTEND;TZID=America/Denver:20181216T013000
DTSTAMP:20260423T204345
CREATED:20181209T214941Z
LAST-MODIFIED:20181211T233730Z
UID:2466-1544909400-1544923800@shakedownbarvail.com
SUMMARY:9:30 PM - Scott Rednor Band
DESCRIPTION:Doors: 3:30 pm Show: 9:30 pm  \nScott Rednor Band  \nScott Rednor – Guitar/vox \nRob Eaton Jr. – Guitar/vox \nShawn Eckels (Andy Frasco and The U.N.) – Guitar/vox \nMark Levy (Circles Around The Sun) – Drums \nTodd Smallie (JJ Grey & Mofro) – Bass \nJohn Ginty (Duane Betts\, Citizen Cope) – Keyboards \nNicholas Gerlach (Pretty Lights Live Band) – Saxophone
URL:https://shakedownbarvail.com/event/scott-rednor-band-2/
LOCATION:Shakedown Bar Vail\, 304 Bridge Street\, Vail\, CO\, 81657\, United States
CATEGORIES:Evening Show,Events
ATTACH;FMTTYPE=image/jpeg:https://shakedownbarvail.com/wp-content/uploads/2018/12/home-slider.jpg
END:VEVENT
BEGIN:VEVENT
DTSTART;TZID=America/Denver:20181214T213000
DTEND;TZID=America/Denver:20181215T013000
DTSTAMP:20260423T204345
CREATED:20181209T214305Z
LAST-MODIFIED:20181211T234216Z
UID:2460-1544823000-1544837400@shakedownbarvail.com
SUMMARY:9:30 PM - Brothers Keeper w/ John Ginty and Nicholas Gerlach
DESCRIPTION:Doors: 3:30 pm Show: 9:30 pm \n20-year veterans of the John Oates Band John Michel (Drums/vocals) and Michael Jude (Bass/vocals)\, join Scott Rednor (Vocals/Guitar) and Rob Eaton Jr. (Guitar/Vocals) to form Brothers Keeper\, a truly world-class musical experience. This show also features John Ginty (Citizen Cope\, Santana\, Jewel) on keyboards and Nicholas Gerlach (Pretty Lights Live Band) on Saxophone
URL:https://shakedownbarvail.com/event/brothers-keeper-w-john-ginty-and-nicholas-gerlach/
LOCATION:Shakedown Bar Vail\, 304 Bridge Street\, Vail\, CO\, 81657\, United States
CATEGORIES:Evening Show,Events
ATTACH;FMTTYPE=image/jpeg:https://shakedownbarvail.com/wp-content/uploads/2018/12/Shakedown_Lockman_highres2017-17-e1547756561305.jpg
END:VEVENT
BEGIN:VEVENT
DTSTART;TZID=America/Denver:20181213T213000
DTEND;TZID=America/Denver:20181214T013000
DTSTAMP:20260423T204345
CREATED:20181209T212620Z
LAST-MODIFIED:20181211T234603Z
UID:2450-1544736600-1544751000@shakedownbarvail.com
SUMMARY:9:30 PM - DJ Williams' Shots Fired
DESCRIPTION:Doors: 3:30 pm Show: 9:30 pm \nDJ Williams (Karl Denson’s Tiny Universe) assembles an all-star cast of musicians to bring funk and dance music raging from Denver right into Shakedown Bar!  This lineup includes: Todd Stoops (Electric Beethoven\, RAQ)\, Nick Gerlach (Pretty Lights Live Band)\, Neal “Fro” Evans (Dopapod)\, Andre Mali (Prince / Stevie Wonder)\, and Dan Africano (John Brown’s Body)
URL:https://shakedownbarvail.com/event/dj-williams-shots-fired/
LOCATION:Shakedown Bar Vail\, 304 Bridge Street\, Vail\, CO\, 81657\, United States
CATEGORIES:Evening Show,Events
ATTACH;FMTTYPE=image/jpeg:https://shakedownbarvail.com/wp-content/uploads/2018/12/46889243_1018867294963414_6233740160756875264_n.jpg
END:VEVENT
BEGIN:VEVENT
DTSTART;TZID=America/Denver:20181212T210000
DTEND;TZID=America/Denver:20181213T010000
DTSTAMP:20260423T204345
CREATED:20181209T210824Z
LAST-MODIFIED:20181211T234755Z
UID:2447-1544648400-1544662800@shakedownbarvail.com
SUMMARY:9:00 PM - Scott Rednor\, Rob Eaton Jr.\, and John Ginty (Citizen Cope\, Santana\, Jewel)
DESCRIPTION:Doors: 3:30 pm Show: 9:00 pm \nCome hear two of Colorado’s finest guitarists playing their interpretations of all of your favorite classic songs! Vocal harmonies\, rhythmic looping\, & duel guitar leads make this an exciting acoustic duo! This show also features John Ginty (Citizen Cope\, Santana\, Jewel\, Charlie Mars) on keyboards!
URL:https://shakedownbarvail.com/event/scott-rednor-rob-eaton-jr-and-john-ginty-citizen-cope-santana-jewel/
LOCATION:Shakedown Bar Vail\, 304 Bridge Street\, Vail\, CO\, 81657\, United States
CATEGORIES:Evening Show,Events
END:VEVENT
BEGIN:VEVENT
DTSTART;TZID=America/Denver:20181210T200000
DTEND;TZID=America/Denver:20181211T010000
DTSTAMP:20260423T204345
CREATED:20181209T203802Z
LAST-MODIFIED:20181211T235113Z
UID:2440-1544472000-1544490000@shakedownbarvail.com
SUMMARY:8:00 PM - Tori Pater and Jess Holloway
DESCRIPTION:Doors: 8:00 pm Show: 9:00 pm
URL:https://shakedownbarvail.com/event/tori-pater-and-jess-hollowell/
LOCATION:Shakedown Bar Vail\, 304 Bridge Street\, Vail\, CO\, 81657\, United States
CATEGORIES:Evening Show,Events
ATTACH;FMTTYPE=image/jpeg:https://shakedownbarvail.com/wp-content/uploads/2018/12/35296107_2001959813467517_4651300571972632576_o-e1544388098766.jpg
END:VEVENT
BEGIN:VEVENT
DTSTART;TZID=America/Denver:20181210T200000
DTEND;TZID=America/Denver:20181211T010000
DTSTAMP:20260423T204345
CREATED:20181209T203802Z
LAST-MODIFIED:20181211T235113Z
UID:2440-1544472000-1544490000@shakedownbarvail.com
SUMMARY:8:00 PM - Tori Pater and Jess Holloway
DESCRIPTION:Doors: 8:00 pm Show: 9:00 pm
URL:https://shakedownbarvail.com/event/tori-pater-and-jess-hollowell/
LOCATION:Shakedown Bar Vail\, 304 Bridge Street\, Vail\, CO\, 81657\, United States
CATEGORIES:Evening Show,Events
ATTACH;FMTTYPE=image/jpeg:https://shakedownbarvail.com/wp-content/uploads/2018/12/35296107_2001959813467517_4651300571972632576_o-e1544388098766.jpg
END:VEVENT
BEGIN:VEVENT
DTSTART;TZID=America/Denver:20181209T200000
DTEND;TZID=America/Denver:20181210T010000
DTSTAMP:20260423T204345
CREATED:20181209T200516Z
LAST-MODIFIED:20181210T201547Z
UID:2433-1544385600-1544403600@shakedownbarvail.com
SUMMARY:Tori Pater and Friends with Benefits
DESCRIPTION:Doors: 8:00 pm Show: 9:00 pm \nTori Pater brings some of Denver’s best up to Vail to ROCK! Jessica Holloway\, Niek Velvis\, Alana Dym
URL:https://shakedownbarvail.com/event/tori-pater-band/
LOCATION:Shakedown Bar Vail\, 304 Bridge Street\, Vail\, CO\, 81657\, United States
CATEGORIES:Evening Show
ATTACH;FMTTYPE=image/jpeg:https://shakedownbarvail.com/wp-content/uploads/2018/12/47491592_10218065931627747_4734254515220381696_n.jpg
END:VEVENT
BEGIN:VEVENT
DTSTART;TZID=America/Denver:20181208T213000
DTEND;TZID=America/Denver:20181209T020000
DTSTAMP:20260423T204345
CREATED:20181128T215229Z
LAST-MODIFIED:20181210T195701Z
UID:2304-1544304600-1544320800@shakedownbarvail.com
SUMMARY:Brothers Keeper w/ Bill McKay
DESCRIPTION:20-year veterans of the John Oates Band Jon Michel (Drums/vocals) and Michael Jude (Bass/vocals)\, join Scott Rednor (Vocals/Guitar) and Rob Eaton Jr. (Guitar/Vocals) to form Brothers Keeper\, a truly world-class musical experience. This show also features Bill McKay (Keyboards/Vocals)
URL:https://shakedownbarvail.com/event/brothers-keeper-w-bill-mckay/
LOCATION:Shakedown Bar Vail\, 304 Bridge Street\, Vail\, CO\, 81657\, United States
CATEGORIES:Evening Show,Saturdays
ATTACH;FMTTYPE=image/jpeg:https://shakedownbarvail.com/wp-content/uploads/2018/11/brothers-keeper.jpg
END:VEVENT
BEGIN:VEVENT
DTSTART;TZID=America/Denver:20181206T200000
DTEND;TZID=America/Denver:20181207T020000
DTSTAMP:20260423T204345
CREATED:20181203T201501Z
LAST-MODIFIED:20181210T195606Z
UID:2338-1544126400-1544148000@shakedownbarvail.com
SUMMARY:Scott Rednor and Rob Eaton Jr. Acoustic Duo
DESCRIPTION:Come hear two of Colorado’s finest guitarists playing their interpretations of all of your favorite classic songs!  Vocal harmonies\, rhythmic looping\, & duel guitar leads make this an exciting acoustic duo!
URL:https://shakedownbarvail.com/event/scott-rednor-and-rob-eaton-jr-acoustic-duo-4/
LOCATION:Shakedown Bar Vail\, 304 Bridge Street\, Vail\, CO\, 81657\, United States
CATEGORIES:Evening Show
ATTACH;FMTTYPE=image/jpeg:https://shakedownbarvail.com/wp-content/uploads/2018/12/scott-rob-02.jpg
END:VEVENT
BEGIN:VEVENT
DTSTART;TZID=America/Denver:20181205T200000
DTEND;TZID=America/Denver:20181206T020000
DTSTAMP:20260423T204345
CREATED:20181203T200935Z
LAST-MODIFIED:20181210T195607Z
UID:2334-1544040000-1544061600@shakedownbarvail.com
SUMMARY:Scott Rednor and Rob Eaton Jr. Acoustic Duo
DESCRIPTION:Come hear two of Colorado’s finest guitarists playing their interpretations of all of your favorite classic songs!  Vocal harmonies\, rhythmic looping\, & duel guitar leads make this an exciting acoustic duo!
URL:https://shakedownbarvail.com/event/scott-rednor-and-rob-eaton-jr-acoustic-duo-2/
LOCATION:Shakedown Bar Vail\, 304 Bridge Street\, Vail\, CO\, 81657\, United States
CATEGORIES:Evening Show
ATTACH;FMTTYPE=image/jpeg:https://shakedownbarvail.com/wp-content/uploads/2018/11/scott-band.jpg
END:VEVENT
BEGIN:VEVENT
DTSTART;TZID=America/Denver:20181201T213000
DTEND;TZID=America/Denver:20181202T020000
DTSTAMP:20260423T204345
CREATED:20181128T210413Z
LAST-MODIFIED:20181210T195607Z
UID:2292-1543699800-1543716000@shakedownbarvail.com
SUMMARY:Scott Rednor Band
DESCRIPTION:Scott Rednor – Guitar/vox\nRob Eaton Jr. – Guitar/vox\nTodd Smallie – Bass\nMark Levy – Drums
URL:https://shakedownbarvail.com/event/scott-rednor-band/
LOCATION:Shakedown Bar Vail\, 304 Bridge Street\, Vail\, CO\, 81657\, United States
CATEGORIES:Evening Show,Saturdays
ATTACH;FMTTYPE=image/jpeg:https://shakedownbarvail.com/wp-content/uploads/2018/11/scott-band.jpg
END:VEVENT
END:VCALENDAR