BEGIN:VCALENDAR
VERSION:2.0
PRODID:-//Shakedown Bar - ECPv6.15.14//NONSGML v1.0//EN
CALSCALE:GREGORIAN
METHOD:PUBLISH
X-WR-CALNAME:Shakedown Bar
X-ORIGINAL-URL:https://shakedownbarvail.com
X-WR-CALDESC:Events for Shakedown Bar
REFRESH-INTERVAL;VALUE=DURATION:PT1H
X-Robots-Tag:noindex
X-PUBLISHED-TTL:PT1H
BEGIN:VTIMEZONE
TZID:America/Denver
BEGIN:DAYLIGHT
TZOFFSETFROM:-0700
TZOFFSETTO:-0600
TZNAME:MDT
DTSTART:20170312T090000
END:DAYLIGHT
BEGIN:STANDARD
TZOFFSETFROM:-0600
TZOFFSETTO:-0700
TZNAME:MST
DTSTART:20171105T080000
END:STANDARD
BEGIN:DAYLIGHT
TZOFFSETFROM:-0700
TZOFFSETTO:-0600
TZNAME:MDT
DTSTART:20180311T090000
END:DAYLIGHT
BEGIN:STANDARD
TZOFFSETFROM:-0600
TZOFFSETTO:-0700
TZNAME:MST
DTSTART:20181104T080000
END:STANDARD
BEGIN:DAYLIGHT
TZOFFSETFROM:-0700
TZOFFSETTO:-0600
TZNAME:MDT
DTSTART:20190310T090000
END:DAYLIGHT
BEGIN:STANDARD
TZOFFSETFROM:-0600
TZOFFSETTO:-0700
TZNAME:MST
DTSTART:20191103T080000
END:STANDARD
BEGIN:DAYLIGHT
TZOFFSETFROM:-0700
TZOFFSETTO:-0600
TZNAME:MDT
DTSTART:20200308T090000
END:DAYLIGHT
BEGIN:STANDARD
TZOFFSETFROM:-0600
TZOFFSETTO:-0700
TZNAME:MST
DTSTART:20201101T080000
END:STANDARD
END:VTIMEZONE
BEGIN:VEVENT
DTSTART;TZID=America/Denver:20190107T200000
DTEND;TZID=America/Denver:20190108T013000
DTSTAMP:20260423T160811
CREATED:20181210T191748Z
LAST-MODIFIED:20181217T215837Z
UID:2570-1546891200-1546911000@shakedownbarvail.com
SUMMARY:8:00 PM — Kory Montgomery
DESCRIPTION:Doors: 8:00 pm Show: 9:00 pm \nKory Montgomery – Guitar/vox (Drunken Hearts) \n 
URL:https://shakedownbarvail.com/event/800-pm-kory-montgomery-and-shawn-eckels/
LOCATION:Shakedown Bar Vail\, 304 Bridge Street\, Vail\, CO\, 81657\, United States
CATEGORIES:Evening Show,Events
ATTACH;FMTTYPE=image/jpeg:https://shakedownbarvail.com/wp-content/uploads/2018/12/Kory.jpg
END:VEVENT
BEGIN:VEVENT
DTSTART;TZID=America/Denver:20190105T213000
DTEND;TZID=America/Denver:20190106T013000
DTSTAMP:20260423T160811
CREATED:20181210T191748Z
LAST-MODIFIED:20181213T005941Z
UID:2566-1546723800-1546738200@shakedownbarvail.com
SUMMARY:9:30 PM - Brothers Keeper
DESCRIPTION:Show: 9:30 PM \n20-year veterans of the John Oates Band John Michel (Drums/vocals) and Michael Jude (Bass/vocals)\, join Scott Rednor (Vocals/Guitar) and Rob Eaton Jr. (Guitar/Vocals) to form Brothers Keeper\, a truly world-class musical experience.  This show also features Bill Mckay (Coral Creek\, Leftover Salmon) on Keyboards!
URL:https://shakedownbarvail.com/event/930-pm-brothers-keeper-2/
LOCATION:Shakedown Bar Vail\, 304 Bridge Street\, Vail\, CO\, 81657\, United States
CATEGORIES:Evening Show,Events
ATTACH;FMTTYPE=image/jpeg:https://shakedownbarvail.com/wp-content/uploads/2018/12/36781656_1741708825916317_2701520427590615040_o-1-e1570751827566.jpg
END:VEVENT
BEGIN:VEVENT
DTSTART;TZID=America/Denver:20190104T213000
DTEND;TZID=America/Denver:20190105T013000
DTSTAMP:20260423T160811
CREATED:20181210T191747Z
LAST-MODIFIED:20181213T013542Z
UID:2564-1546637400-1546651800@shakedownbarvail.com
SUMMARY:9:30 PM - Taylor James Frederick Band
DESCRIPTION:Show: 9:30 pm \nTaylor Frederick Band \nTaylor Frederick – Guitar/vocals \nRob Eaton Jr. – Guitar/vocals \nJiho Hahn – Bass \nNeal “Fro” Evans – Drums \nEric Luba – Keyboards
URL:https://shakedownbarvail.com/event/930-pm-taylor-frederick-band/
LOCATION:Shakedown Bar Vail\, 304 Bridge Street\, Vail\, CO\, 81657\, United States
CATEGORIES:Evening Show,Events
ATTACH;FMTTYPE=image/jpeg:https://shakedownbarvail.com/wp-content/uploads/2018/12/IMG_3919.jpg
END:VEVENT
BEGIN:VEVENT
DTSTART;TZID=America/Denver:20190103T210000
DTEND;TZID=America/Denver:20190104T010000
DTSTAMP:20260423T160811
CREATED:20181210T191747Z
LAST-MODIFIED:20181213T010520Z
UID:2563-1546549200-1546563600@shakedownbarvail.com
SUMMARY:9:00 PM — Scott Rednor and Rob Eaton Jr. Acoustic Duo
DESCRIPTION:Show: 9:00 pm \nCome hear two of Colorado’s finest guitarists playing their interpretations of all of your favorite classic songs! Vocal harmonies\, rhythmic looping\, & duel guitar leads make this an exciting acoustic duo!
URL:https://shakedownbarvail.com/event/900-pm-scott-rednor-and-rob-eaton-jr-acoustic-duo-3/
LOCATION:Shakedown Bar Vail\, 304 Bridge Street\, Vail\, CO\, 81657\, United States
CATEGORIES:Evening Show,Events
END:VEVENT
BEGIN:VEVENT
DTSTART;TZID=America/Denver:20190102T200000
DTEND;TZID=America/Denver:20190103T013000
DTSTAMP:20260423T160811
CREATED:20181210T191747Z
LAST-MODIFIED:20181227T222306Z
UID:2561-1546459200-1546479000@shakedownbarvail.com
SUMMARY:8:00 PM — Glenn McClelland (WEEN)\, Scott Rednor\, Rob Eaton Jr.
DESCRIPTION:Doors: 8:00 pm Show: 9:00 pm \nCome hear two of Colorado’s finest guitarists playing their interpretations of all of your favorite classic songs! Vocal harmonies\, rhythmic looping\, & dueling guitar leads make this an exciting acoustic duo! Plus Glen McClelland (WEEN) shredding with the guys all night long!
URL:https://shakedownbarvail.com/event/900-pm-glenn-mcclelland-scott-rednor-rob-eaton-jr/
LOCATION:Shakedown Bar Vail\, 304 Bridge Street\, Vail\, CO\, 81657\, United States
CATEGORIES:Evening Show,Events
END:VEVENT
BEGIN:VEVENT
DTSTART;TZID=America/Denver:20181231T203000
DTEND;TZID=America/Denver:20190101T013000
DTSTAMP:20260423T160811
CREATED:20181210T191747Z
LAST-MODIFIED:20181213T010201Z
UID:2558-1546288200-1546306200@shakedownbarvail.com
SUMMARY:8:30 PM - NYE Talking Heads Tribute
DESCRIPTION:Doors: 8:30 pm Show: 9:30 pm \nTickets available at HERE  \nScott Rednor (Brothers Keeper) – Guitar/vox\nRob Eaton Jr. (Brothers Keeper) – Guitar/vox\nGlenn McClelland (WEEN\, Blood Sweat and Tears) – Keyboards/vox\nChuck Jones (Dopapod) – Bass\nNeal “Fro” Evans (Dopapod) – Drums\nWill Trask (Great American Taxi) – Percussion
URL:https://shakedownbarvail.com/event/830-pm-nye-talking-heads-tribute/
LOCATION:Shakedown Bar Vail\, 304 Bridge Street\, Vail\, CO\, 81657\, United States
CATEGORIES:Evening Show,Events,Ticket Event
ATTACH;FMTTYPE=image/jpeg:https://shakedownbarvail.com/wp-content/uploads/2018/12/69377127-happy-new-year-2019-with-colorful-fireworks.jpg
END:VEVENT
BEGIN:VEVENT
DTSTART;TZID=America/Denver:20181230T213000
DTEND;TZID=America/Denver:20181231T013000
DTSTAMP:20260423T160811
CREATED:20181209T225629Z
LAST-MODIFIED:20181211T214429Z
UID:2516-1546205400-1546219800@shakedownbarvail.com
SUMMARY:9:30 PM - Brothers Keeper w/ Glenn McClelland (WEEN\, Blood Sweat & Tears)
DESCRIPTION:Doors: 3:30 pm Show: 9:30 pm  \n20-year veterans of the John Oates Band John Michel (Drums/vocals) and Michael Jude (Bass/vocals)\, join Scott Rednor (Vocals/Guitar) and Rob Eaton Jr. (Guitar/Vocals) to form Brothers Keeper\, a truly world-class musical experience. This show also features Glenn McClelland (Keyboards/Vocals)
URL:https://shakedownbarvail.com/event/brothers-keeper-w-glenn-mcclelland-ween-blood-sweat-tears/
LOCATION:Shakedown Bar Vail\, 304 Bridge Street\, Vail\, CO\, 81657\, United States
CATEGORIES:Evening Show,Events
ATTACH;FMTTYPE=image/jpeg:https://shakedownbarvail.com/wp-content/uploads/2018/12/BrosKeeper_ColorRed_11_14_18_lockman_highres-16.jpg
END:VEVENT
BEGIN:VEVENT
DTSTART;TZID=America/Denver:20181229T213000
DTEND;TZID=America/Denver:20181230T013000
DTSTAMP:20260423T160811
CREATED:20181209T225335Z
LAST-MODIFIED:20181211T220618Z
UID:2512-1546119000-1546133400@shakedownbarvail.com
SUMMARY:9:30 PM - Brothers Keeper w/ Eric McFadden
DESCRIPTION:Doors: 3:30 pm Show: 9:30 pm \n20-year veterans of the John Oates Band John Michel (Drums/vocals) and Michael Jude (Bass/vocals)\, join Scott Rednor (Vocals/Guitar) and Rob Eaton Jr. (Guitar/Vocals) to form Brothers Keeper\, a truly world-class musical experience. This show also features Eric McFadden (Guitar/vocals)
URL:https://shakedownbarvail.com/event/brothers-keeper-w-eric-mcfadden/
LOCATION:Shakedown Bar Vail\, 304 Bridge Street\, Vail\, CO\, 81657\, United States
CATEGORIES:Evening Show,Events
ATTACH;FMTTYPE=image/jpeg:https://shakedownbarvail.com/wp-content/uploads/2018/12/BrosKeeper_ColorRed_11_14_18_lockman_highres-16.jpg
END:VEVENT
BEGIN:VEVENT
DTSTART;TZID=America/Denver:20181228T213000
DTEND;TZID=America/Denver:20181229T013000
DTSTAMP:20260423T160811
CREATED:20181209T225104Z
LAST-MODIFIED:20181211T221937Z
UID:2508-1546032600-1546047000@shakedownbarvail.com
SUMMARY:9:30 PM - Scott Rednor Band w/ Eric McFadden
DESCRIPTION:Doors: 3:30 pm Show: 9:30 pm  \nScott Rednor Band w/ Eric McFadden  \nScott Rednor – Guitar/vox \nRob Eaton Jr. – Guitar/vox \nEric McFadden (George Clinton) – Guitar \nMark Levy (Circles Around The Sun) – Drums \nJustin Kimmel (Toubab Krewe\, Antibalas) – Bass
URL:https://shakedownbarvail.com/event/scott-rednor-band-w-eric-mcfadden/
LOCATION:Shakedown Bar Vail\, 304 Bridge Street\, Vail\, CO\, 81657\, United States
CATEGORIES:Evening Show,Events
ATTACH;FMTTYPE=image/jpeg:https://shakedownbarvail.com/wp-content/uploads/2018/12/home-slider.jpg
END:VEVENT
BEGIN:VEVENT
DTSTART;TZID=America/Denver:20181227T213000
DTEND;TZID=America/Denver:20181228T013000
DTSTAMP:20260423T160811
CREATED:20181209T224753Z
LAST-MODIFIED:20181211T222743Z
UID:2503-1545946200-1545960600@shakedownbarvail.com
SUMMARY:9:30 PM - Town Cavalry
DESCRIPTION:Doors: 3:30 pm Show: 9:30 pm  \nJohnny Schleper – Guitar/vox \nRob Eaton Jr. – Guitar/vox \nMark Levy (Circles Around The Sun) – Drums \nJustin Kimmel (Toubab Krewe\, Antibalas) – Bass \nNicholas Gerlach – Saxophone
URL:https://shakedownbarvail.com/event/town-cavalry/
LOCATION:Shakedown Bar Vail\, 304 Bridge Street\, Vail\, CO\, 81657\, United States
CATEGORIES:Evening Show,Events
ATTACH;FMTTYPE=image/jpeg:https://shakedownbarvail.com/wp-content/uploads/2018/12/Shakedown_Lockman_highres2016-27.jpg
END:VEVENT
BEGIN:VEVENT
DTSTART;TZID=America/Denver:20181226T210000
DTEND;TZID=America/Denver:20181227T010000
DTSTAMP:20260423T160811
CREATED:20181209T224311Z
LAST-MODIFIED:20181211T223525Z
UID:2499-1545858000-1545872400@shakedownbarvail.com
SUMMARY:9:00 PM - Scott Rednor\, Rob Eaton Jr.\, and Kory Montgomery Acoustic
DESCRIPTION:Doors: 3:30 pm Show: 9:00 pm  \nCome hear two of Colorado’s finest guitarists playing their interpretations of all of your favorite classic songs! Vocal harmonies\, rhythmic looping\, & duel guitar leads make this an exciting acoustic duo! Plus Kory Montgomery sticks around to join the guys to make this an exciting acoustic TRIO!
URL:https://shakedownbarvail.com/event/scott-rednor-rob-eaton-jr-and-kory-montgomery-acoustic/
LOCATION:Shakedown Bar Vail\, 304 Bridge Street\, Vail\, CO\, 81657\, United States
CATEGORIES:Evening Show,Events
ATTACH;FMTTYPE=image/jpeg:https://shakedownbarvail.com/wp-content/uploads/2018/12/Kory.jpg
END:VEVENT
BEGIN:VEVENT
DTSTART;TZID=America/Denver:20181225T200000
DTEND;TZID=America/Denver:20181226T010000
DTSTAMP:20260423T160811
CREATED:20181209T223955Z
LAST-MODIFIED:20181220T010820Z
UID:2495-1545768000-1545786000@shakedownbarvail.com
SUMMARY:8:00 PM — Scott Rednor and Rob Eaton Jr. Acoustic Duo
DESCRIPTION:Doors: 8:00 pm Show: 9:00 pm  \nCome hear two of Colorado’s finest guitarists playing their interpretations of all of your favorite classic songs! Vocal harmonies\, rhythmic looping\, & duel guitar leads make this an exciting acoustic duo!
URL:https://shakedownbarvail.com/event/tba-4/
LOCATION:Shakedown Bar Vail\, 304 Bridge Street\, Vail\, CO\, 81657\, United States
CATEGORIES:Evening Show
END:VEVENT
BEGIN:VEVENT
DTSTART;TZID=America/Denver:20181223T210000
DTEND;TZID=America/Denver:20181224T010000
DTSTAMP:20260423T160811
CREATED:20181209T223737Z
LAST-MODIFIED:20181213T014334Z
UID:2491-1545598800-1545613200@shakedownbarvail.com
SUMMARY:9:00 PM - Scott Rednor and Rob Eaton Jr. Acoustic Duo
DESCRIPTION:Doors: 9:00 pm Show: 9:30 pm \nCome hear two of Colorado’s finest guitarists playing their interpretations of all of your favorite classic songs! Vocal harmonies\, rhythmic looping\, & duel guitar leads make this an exciting acoustic duo!
URL:https://shakedownbarvail.com/event/scott-rednor-and-rob-eaton-jr-acoustic-duo-13/
LOCATION:Shakedown Bar Vail\, 304 Bridge Street\, Vail\, CO\, 81657\, United States
CATEGORIES:Evening Show,Events
END:VEVENT
BEGIN:VEVENT
DTSTART;TZID=America/Denver:20181222T213000
DTEND;TZID=America/Denver:20181223T013000
DTSTAMP:20260423T160811
CREATED:20181209T223517Z
LAST-MODIFIED:20181213T012931Z
UID:2489-1545514200-1545528600@shakedownbarvail.com
SUMMARY:9:30 PM - Brothers Keeper w/ Todd Stoops
DESCRIPTION:Doors: 3:30 pm Show: 9:30 pm \n20-year veterans of the John Oates Band Jon Michel (Drums/vocals) and Michael Jude (Bass/vocals)\, join Scott Rednor (Vocals/Guitar) and Rob Eaton Jr. (Guitar/Vocals) to form Brothers Keeper\, a truly world-class musical experience.  Todd Stoops (Electric Beethoven\, RAQ) joins the band on Keyboards for this show!
URL:https://shakedownbarvail.com/event/brothers-keeper/
LOCATION:Shakedown Bar Vail\, 304 Bridge Street\, Vail\, CO\, 81657\, United States
CATEGORIES:Evening Show,Events
ATTACH;FMTTYPE=image/jpeg:https://shakedownbarvail.com/wp-content/uploads/2018/12/36781656_1741708825916317_2701520427590615040_o-1-e1570751827566.jpg
END:VEVENT
BEGIN:VEVENT
DTSTART;TZID=America/Denver:20181221T213000
DTEND;TZID=America/Denver:20181222T013000
DTSTAMP:20260423T160811
CREATED:20181209T222707Z
LAST-MODIFIED:20181211T225739Z
UID:2485-1545427800-1545442200@shakedownbarvail.com
SUMMARY:8:30 PM - Eddie Roberts SuperJam
DESCRIPTION:Doors: 8:30 pm Show: 9:30 pm  \nEddie Roberts (The New Mastersounds) – Guitar \nJeremy Salken (Big Gigantic) – Drums \nTodd Smallie (JJ Grey & Mofro) – Bass \nTodd Stoops (Electric Beethoven) – Keyboards \nNicholas Gerlach (Pretty Lights Live Band) – Saxophone
URL:https://shakedownbarvail.com/event/eddie-roberts-superjam/
LOCATION:Shakedown Bar Vail\, 304 Bridge Street\, Vail\, CO\, 81657\, United States
CATEGORIES:Evening Show,Events
ATTACH;FMTTYPE=image/jpeg:https://shakedownbarvail.com/wp-content/uploads/2018/12/Shakedown_Lockman_highres2018-27.jpg
END:VEVENT
BEGIN:VEVENT
DTSTART;TZID=America/Denver:20181220T210000
DTEND;TZID=America/Denver:20181221T010000
DTSTAMP:20260423T160811
CREATED:20181209T222102Z
LAST-MODIFIED:20181211T231031Z
UID:2481-1545339600-1545354000@shakedownbarvail.com
SUMMARY:9:00 PM - Scott Rednor and Rob Eaton Jr. Acoustic Duo
DESCRIPTION:Doors: 3:30 pm Show: 9:00 pm \nCome hear two of Colorado’s finest guitarists playing their interpretations of all of your favorite classic songs! Vocal harmonies\, rhythmic looping\, & duel guitar leads make this an exciting acoustic duo!
URL:https://shakedownbarvail.com/event/scott-rednor-and-rob-eaton-jr-acoustic-duo-10/
LOCATION:Shakedown Bar Vail\, 304 Bridge Street\, Vail\, CO\, 81657\, United States
CATEGORIES:Evening Show,Events
END:VEVENT
BEGIN:VEVENT
DTSTART;TZID=America/Denver:20181219T210000
DTEND;TZID=America/Denver:20181220T010000
DTSTAMP:20260423T160811
CREATED:20181209T220936Z
LAST-MODIFIED:20181211T232350Z
UID:2477-1545253200-1545267600@shakedownbarvail.com
SUMMARY:9:00 PM - Scott Rednor and Rob Eaton Jr. Acoustic Duo
DESCRIPTION:Doors: 8:00 pm Show: 9:00 pm \nCome hear two of Colorado’s finest guitarists playing their interpretations of all of your favorite classic songs! Vocal harmonies\, rhythmic looping\, & duel guitar leads make this an exciting acoustic duo!
URL:https://shakedownbarvail.com/event/scott-rednor-and-rob-eaton-jr-acoustic-duo-8/
LOCATION:Shakedown Bar Vail\, 304 Bridge Street\, Vail\, CO\, 81657\, United States
CATEGORIES:Evening Show,Events
END:VEVENT
BEGIN:VEVENT
DTSTART;TZID=America/Denver:20181218T200000
DTEND;TZID=America/Denver:20181219T010000
DTSTAMP:20260423T160811
CREATED:20181209T215935Z
LAST-MODIFIED:20181217T215952Z
UID:2473-1545163200-1545181200@shakedownbarvail.com
SUMMARY:8:00 PM - Christopher Thompson
DESCRIPTION:Doors: 8:00 pm Show: 9:00 pm \nChristopher Thompson of Colorado band Coral Creek \nhttps://www.coralcreek.net
URL:https://shakedownbarvail.com/event/tba-2/
LOCATION:Shakedown Bar Vail\, 304 Bridge Street\, Vail\, CO\, 81657\, United States
CATEGORIES:Evening Show,Events
ATTACH;FMTTYPE=image/jpeg:https://shakedownbarvail.com/wp-content/uploads/2018/12/IMG_3385-e1547755866500.jpg
END:VEVENT
BEGIN:VEVENT
DTSTART;TZID=America/Denver:20181217T200000
DTEND;TZID=America/Denver:20181218T010000
DTSTAMP:20260423T160811
CREATED:20181209T215718Z
LAST-MODIFIED:20181217T220028Z
UID:2471-1545076800-1545094800@shakedownbarvail.com
SUMMARY:8:00 PM - Christopher Thompson
DESCRIPTION:Doors: 8:00 pm Show: 9:00 pm \nChristopher Thompson of Colorado band Coral Creek \nhttps://www.coralcreek.net
URL:https://shakedownbarvail.com/event/tba/
LOCATION:Shakedown Bar Vail\, 304 Bridge Street\, Vail\, CO\, 81657\, United States
CATEGORIES:Evening Show,Events
ATTACH;FMTTYPE=image/jpeg:https://shakedownbarvail.com/wp-content/uploads/2018/12/IMG_3385-e1547755866500.jpg
END:VEVENT
BEGIN:VEVENT
DTSTART;TZID=America/Denver:20181216T210000
DTEND;TZID=America/Denver:20181217T010000
DTSTAMP:20260423T160811
CREATED:20181209T215314Z
LAST-MODIFIED:20181213T014014Z
UID:2468-1544994000-1545008400@shakedownbarvail.com
SUMMARY:9:00 PM - Scott Rednor and Rob Eaton Jr. Acoustic Duo
DESCRIPTION:Doors: 9:00 pm Show: 9:30 pm \nCome hear two of Colorado’s finest guitarists playing their interpretations of all of your favorite classic songs! Vocal harmonies\, rhythmic looping\, & duel guitar leads make this an exciting acoustic duo!
URL:https://shakedownbarvail.com/event/scott-rednor-and-rob-eaton-jr-acoustic-duo-7/
LOCATION:Shakedown Bar Vail\, 304 Bridge Street\, Vail\, CO\, 81657\, United States
CATEGORIES:Evening Show,Events
END:VEVENT
BEGIN:VEVENT
DTSTART;TZID=America/Denver:20181215T213000
DTEND;TZID=America/Denver:20181216T013000
DTSTAMP:20260423T160811
CREATED:20181209T214941Z
LAST-MODIFIED:20181211T233730Z
UID:2466-1544909400-1544923800@shakedownbarvail.com
SUMMARY:9:30 PM - Scott Rednor Band
DESCRIPTION:Doors: 3:30 pm Show: 9:30 pm  \nScott Rednor Band  \nScott Rednor – Guitar/vox \nRob Eaton Jr. – Guitar/vox \nShawn Eckels (Andy Frasco and The U.N.) – Guitar/vox \nMark Levy (Circles Around The Sun) – Drums \nTodd Smallie (JJ Grey & Mofro) – Bass \nJohn Ginty (Duane Betts\, Citizen Cope) – Keyboards \nNicholas Gerlach (Pretty Lights Live Band) – Saxophone
URL:https://shakedownbarvail.com/event/scott-rednor-band-2/
LOCATION:Shakedown Bar Vail\, 304 Bridge Street\, Vail\, CO\, 81657\, United States
CATEGORIES:Evening Show,Events
ATTACH;FMTTYPE=image/jpeg:https://shakedownbarvail.com/wp-content/uploads/2018/12/home-slider.jpg
END:VEVENT
BEGIN:VEVENT
DTSTART;TZID=America/Denver:20181214T213000
DTEND;TZID=America/Denver:20181215T013000
DTSTAMP:20260423T160811
CREATED:20181209T214305Z
LAST-MODIFIED:20181211T234216Z
UID:2460-1544823000-1544837400@shakedownbarvail.com
SUMMARY:9:30 PM - Brothers Keeper w/ John Ginty and Nicholas Gerlach
DESCRIPTION:Doors: 3:30 pm Show: 9:30 pm \n20-year veterans of the John Oates Band John Michel (Drums/vocals) and Michael Jude (Bass/vocals)\, join Scott Rednor (Vocals/Guitar) and Rob Eaton Jr. (Guitar/Vocals) to form Brothers Keeper\, a truly world-class musical experience. This show also features John Ginty (Citizen Cope\, Santana\, Jewel) on keyboards and Nicholas Gerlach (Pretty Lights Live Band) on Saxophone
URL:https://shakedownbarvail.com/event/brothers-keeper-w-john-ginty-and-nicholas-gerlach/
LOCATION:Shakedown Bar Vail\, 304 Bridge Street\, Vail\, CO\, 81657\, United States
CATEGORIES:Evening Show,Events
ATTACH;FMTTYPE=image/jpeg:https://shakedownbarvail.com/wp-content/uploads/2018/12/Shakedown_Lockman_highres2017-17-e1547756561305.jpg
END:VEVENT
BEGIN:VEVENT
DTSTART;TZID=America/Denver:20181213T213000
DTEND;TZID=America/Denver:20181214T013000
DTSTAMP:20260423T160811
CREATED:20181209T212620Z
LAST-MODIFIED:20181211T234603Z
UID:2450-1544736600-1544751000@shakedownbarvail.com
SUMMARY:9:30 PM - DJ Williams' Shots Fired
DESCRIPTION:Doors: 3:30 pm Show: 9:30 pm \nDJ Williams (Karl Denson’s Tiny Universe) assembles an all-star cast of musicians to bring funk and dance music raging from Denver right into Shakedown Bar!  This lineup includes: Todd Stoops (Electric Beethoven\, RAQ)\, Nick Gerlach (Pretty Lights Live Band)\, Neal “Fro” Evans (Dopapod)\, Andre Mali (Prince / Stevie Wonder)\, and Dan Africano (John Brown’s Body)
URL:https://shakedownbarvail.com/event/dj-williams-shots-fired/
LOCATION:Shakedown Bar Vail\, 304 Bridge Street\, Vail\, CO\, 81657\, United States
CATEGORIES:Evening Show,Events
ATTACH;FMTTYPE=image/jpeg:https://shakedownbarvail.com/wp-content/uploads/2018/12/46889243_1018867294963414_6233740160756875264_n.jpg
END:VEVENT
BEGIN:VEVENT
DTSTART;TZID=America/Denver:20181212T210000
DTEND;TZID=America/Denver:20181213T010000
DTSTAMP:20260423T160811
CREATED:20181209T210824Z
LAST-MODIFIED:20181211T234755Z
UID:2447-1544648400-1544662800@shakedownbarvail.com
SUMMARY:9:00 PM - Scott Rednor\, Rob Eaton Jr.\, and John Ginty (Citizen Cope\, Santana\, Jewel)
DESCRIPTION:Doors: 3:30 pm Show: 9:00 pm \nCome hear two of Colorado’s finest guitarists playing their interpretations of all of your favorite classic songs! Vocal harmonies\, rhythmic looping\, & duel guitar leads make this an exciting acoustic duo! This show also features John Ginty (Citizen Cope\, Santana\, Jewel\, Charlie Mars) on keyboards!
URL:https://shakedownbarvail.com/event/scott-rednor-rob-eaton-jr-and-john-ginty-citizen-cope-santana-jewel/
LOCATION:Shakedown Bar Vail\, 304 Bridge Street\, Vail\, CO\, 81657\, United States
CATEGORIES:Evening Show,Events
END:VEVENT
BEGIN:VEVENT
DTSTART;TZID=America/Denver:20181210T200000
DTEND;TZID=America/Denver:20181211T010000
DTSTAMP:20260423T160811
CREATED:20181209T203802Z
LAST-MODIFIED:20181211T235113Z
UID:2440-1544472000-1544490000@shakedownbarvail.com
SUMMARY:8:00 PM - Tori Pater and Jess Holloway
DESCRIPTION:Doors: 8:00 pm Show: 9:00 pm
URL:https://shakedownbarvail.com/event/tori-pater-and-jess-hollowell/
LOCATION:Shakedown Bar Vail\, 304 Bridge Street\, Vail\, CO\, 81657\, United States
CATEGORIES:Evening Show,Events
ATTACH;FMTTYPE=image/jpeg:https://shakedownbarvail.com/wp-content/uploads/2018/12/35296107_2001959813467517_4651300571972632576_o-e1544388098766.jpg
END:VEVENT
BEGIN:VEVENT
DTSTART;TZID=America/Denver:20181210T200000
DTEND;TZID=America/Denver:20181211T010000
DTSTAMP:20260423T160811
CREATED:20181209T203802Z
LAST-MODIFIED:20181211T235113Z
UID:2440-1544472000-1544490000@shakedownbarvail.com
SUMMARY:8:00 PM - Tori Pater and Jess Holloway
DESCRIPTION:Doors: 8:00 pm Show: 9:00 pm
URL:https://shakedownbarvail.com/event/tori-pater-and-jess-hollowell/
LOCATION:Shakedown Bar Vail\, 304 Bridge Street\, Vail\, CO\, 81657\, United States
CATEGORIES:Evening Show,Events
ATTACH;FMTTYPE=image/jpeg:https://shakedownbarvail.com/wp-content/uploads/2018/12/35296107_2001959813467517_4651300571972632576_o-e1544388098766.jpg
END:VEVENT
BEGIN:VEVENT
DTSTART;TZID=America/Denver:20181209T200000
DTEND;TZID=America/Denver:20181210T010000
DTSTAMP:20260423T160811
CREATED:20181209T200516Z
LAST-MODIFIED:20181210T201547Z
UID:2433-1544385600-1544403600@shakedownbarvail.com
SUMMARY:Tori Pater and Friends with Benefits
DESCRIPTION:Doors: 8:00 pm Show: 9:00 pm \nTori Pater brings some of Denver’s best up to Vail to ROCK! Jessica Holloway\, Niek Velvis\, Alana Dym
URL:https://shakedownbarvail.com/event/tori-pater-band/
LOCATION:Shakedown Bar Vail\, 304 Bridge Street\, Vail\, CO\, 81657\, United States
CATEGORIES:Evening Show
ATTACH;FMTTYPE=image/jpeg:https://shakedownbarvail.com/wp-content/uploads/2018/12/47491592_10218065931627747_4734254515220381696_n.jpg
END:VEVENT
BEGIN:VEVENT
DTSTART;TZID=America/Denver:20181208T213000
DTEND;TZID=America/Denver:20181209T020000
DTSTAMP:20260423T160811
CREATED:20181128T215229Z
LAST-MODIFIED:20181210T195701Z
UID:2304-1544304600-1544320800@shakedownbarvail.com
SUMMARY:Brothers Keeper w/ Bill McKay
DESCRIPTION:20-year veterans of the John Oates Band Jon Michel (Drums/vocals) and Michael Jude (Bass/vocals)\, join Scott Rednor (Vocals/Guitar) and Rob Eaton Jr. (Guitar/Vocals) to form Brothers Keeper\, a truly world-class musical experience. This show also features Bill McKay (Keyboards/Vocals)
URL:https://shakedownbarvail.com/event/brothers-keeper-w-bill-mckay/
LOCATION:Shakedown Bar Vail\, 304 Bridge Street\, Vail\, CO\, 81657\, United States
CATEGORIES:Evening Show,Saturdays
ATTACH;FMTTYPE=image/jpeg:https://shakedownbarvail.com/wp-content/uploads/2018/11/brothers-keeper.jpg
END:VEVENT
BEGIN:VEVENT
DTSTART;TZID=America/Denver:20181206T200000
DTEND;TZID=America/Denver:20181207T020000
DTSTAMP:20260423T160811
CREATED:20181203T201501Z
LAST-MODIFIED:20181210T195606Z
UID:2338-1544126400-1544148000@shakedownbarvail.com
SUMMARY:Scott Rednor and Rob Eaton Jr. Acoustic Duo
DESCRIPTION:Come hear two of Colorado’s finest guitarists playing their interpretations of all of your favorite classic songs!  Vocal harmonies\, rhythmic looping\, & duel guitar leads make this an exciting acoustic duo!
URL:https://shakedownbarvail.com/event/scott-rednor-and-rob-eaton-jr-acoustic-duo-4/
LOCATION:Shakedown Bar Vail\, 304 Bridge Street\, Vail\, CO\, 81657\, United States
CATEGORIES:Evening Show
ATTACH;FMTTYPE=image/jpeg:https://shakedownbarvail.com/wp-content/uploads/2018/12/scott-rob-02.jpg
END:VEVENT
BEGIN:VEVENT
DTSTART;TZID=America/Denver:20181205T200000
DTEND;TZID=America/Denver:20181206T020000
DTSTAMP:20260423T160811
CREATED:20181203T200935Z
LAST-MODIFIED:20181210T195607Z
UID:2334-1544040000-1544061600@shakedownbarvail.com
SUMMARY:Scott Rednor and Rob Eaton Jr. Acoustic Duo
DESCRIPTION:Come hear two of Colorado’s finest guitarists playing their interpretations of all of your favorite classic songs!  Vocal harmonies\, rhythmic looping\, & duel guitar leads make this an exciting acoustic duo!
URL:https://shakedownbarvail.com/event/scott-rednor-and-rob-eaton-jr-acoustic-duo-2/
LOCATION:Shakedown Bar Vail\, 304 Bridge Street\, Vail\, CO\, 81657\, United States
CATEGORIES:Evening Show
ATTACH;FMTTYPE=image/jpeg:https://shakedownbarvail.com/wp-content/uploads/2018/11/scott-band.jpg
END:VEVENT
END:VCALENDAR