BEGIN:VCALENDAR
VERSION:2.0
PRODID:-//Shakedown Bar - ECPv6.15.14//NONSGML v1.0//EN
CALSCALE:GREGORIAN
METHOD:PUBLISH
X-WR-CALNAME:Shakedown Bar
X-ORIGINAL-URL:https://shakedownbarvail.com
X-WR-CALDESC:Events for Shakedown Bar
REFRESH-INTERVAL;VALUE=DURATION:PT1H
X-Robots-Tag:noindex
X-PUBLISHED-TTL:PT1H
BEGIN:VTIMEZONE
TZID:America/Denver
BEGIN:DAYLIGHT
TZOFFSETFROM:-0700
TZOFFSETTO:-0600
TZNAME:MDT
DTSTART:20180311T090000
END:DAYLIGHT
BEGIN:STANDARD
TZOFFSETFROM:-0600
TZOFFSETTO:-0700
TZNAME:MST
DTSTART:20181104T080000
END:STANDARD
BEGIN:DAYLIGHT
TZOFFSETFROM:-0700
TZOFFSETTO:-0600
TZNAME:MDT
DTSTART:20190310T090000
END:DAYLIGHT
BEGIN:STANDARD
TZOFFSETFROM:-0600
TZOFFSETTO:-0700
TZNAME:MST
DTSTART:20191103T080000
END:STANDARD
BEGIN:DAYLIGHT
TZOFFSETFROM:-0700
TZOFFSETTO:-0600
TZNAME:MDT
DTSTART:20200308T090000
END:DAYLIGHT
BEGIN:STANDARD
TZOFFSETFROM:-0600
TZOFFSETTO:-0700
TZNAME:MST
DTSTART:20201101T080000
END:STANDARD
END:VTIMEZONE
BEGIN:VEVENT
DTSTART;TZID=America/Denver:20191207T213000
DTEND;TZID=America/Denver:20191208T013000
DTSTAMP:20260420T202647
CREATED:20191010T235804Z
LAST-MODIFIED:20191130T063443Z
UID:3933-1575754200-1575768600@shakedownbarvail.com
SUMMARY:9:30 PM - Brothers Keeper w/ Ross James
DESCRIPTION:Show: 9:30 PM\n\n20-year veterans of the John Oates Band John Michel (Drums/vocals) and Michael Jude (Bass/vocals)\, join Scott Rednor (Vocals/Guitar) to form Brothers Keeper\, a truly world-class musical experience.  This show also features Ross James (Phil Lesh & The Terrapin Family Band) on Guitar/vocals.
URL:https://shakedownbarvail.com/event/1000-pm-brothers-keeper/
LOCATION:Shakedown Bar 304 Bridge St\, Vail\, CO  81657\, United States\, Shakedown Bar 304 Bridge St\, Vail\, CO 81657\, United States
CATEGORIES:Evening Show,Events,Saturdays
ATTACH;FMTTYPE=image/jpeg:https://shakedownbarvail.com/wp-content/uploads/2018/12/36781656_1741708825916317_2701520427590615040_o-1-e1570751827566.jpg
END:VEVENT
BEGIN:VEVENT
DTSTART;TZID=America/Denver:20191206T213000
DTEND;TZID=America/Denver:20191207T013000
DTSTAMP:20260420T202647
CREATED:20191010T234645Z
LAST-MODIFIED:20191111T161955Z
UID:3930-1575667800-1575682200@shakedownbarvail.com
SUMMARY:9:30 PM - Kory Montgomery Band
DESCRIPTION:Show: 9:30 pm\n*Video of the stage and room will be captured at this show \nKory Montgomery (Drunken Hearts) – Guitar/vocals \nScott Rednor (Brothers Keeper) – Guitar/vocals \nBill McKay (Coral Creek) – Keyboards/vocals \nMark Levy (Circles Around The Sun) – Drums \nKramer Kelling – Bass/vocals
URL:https://shakedownbarvail.com/event/1000-pm-kory-montgomery-band/
LOCATION:Shakedown Bar 304 Bridge St\, Vail\, CO  81657\, United States\, Shakedown Bar 304 Bridge St\, Vail\, CO 81657\, United States
CATEGORIES:Evening Show,Events
ATTACH;FMTTYPE=image/jpeg:https://shakedownbarvail.com/wp-content/uploads/2018/12/Kory.jpg
END:VEVENT
BEGIN:VEVENT
DTSTART;TZID=America/Denver:20191205T213000
DTEND;TZID=America/Denver:20191206T010000
DTSTAMP:20260420T202647
CREATED:20191010T231855Z
LAST-MODIFIED:20191010T231855Z
UID:3926-1575581400-1575594000@shakedownbarvail.com
SUMMARY:9:30 PM - Taylor James Frederick
DESCRIPTION:Show: 9:30 pm \nJoin Taylor James Frederick as he plays a wide variety of songs you’ve loved your whole life and some you never knew you loved!
URL:https://shakedownbarvail.com/event/930-pm-taylor-james-frederick/
LOCATION:Shakedown Bar 304 Bridge St\, Vail\, CO  81657\, United States\, Shakedown Bar 304 Bridge St\, Vail\, CO 81657\, United States
CATEGORIES:Evening Show,Events
ATTACH;FMTTYPE=image/jpeg:https://shakedownbarvail.com/wp-content/uploads/2018/12/IMG_3919.jpg
END:VEVENT
BEGIN:VEVENT
DTSTART;TZID=America/Denver:20191204T213000
DTEND;TZID=America/Denver:20191205T010000
DTSTAMP:20260420T202647
CREATED:20191010T225741Z
LAST-MODIFIED:20191011T003233Z
UID:3920-1575495000-1575507600@shakedownbarvail.com
SUMMARY:9:30 PM — Shawn Eckels Acoustic
DESCRIPTION:Doors: 9:00 pm • Show: 9:30 pm \nShawn Eckels – Guitar/vox (Andy Frasco and the Model UN) \nGuitarist for touring machine Andy Frasco & the UN.  Acoustic soul\, rock n’ roll\, and twang. Covers and originals. Music to drink to.
URL:https://shakedownbarvail.com/event/930-pm-shawn-eckels-solo/
LOCATION:Shakedown Bar 304 Bridge St\, Vail\, CO  81657\, United States\, Shakedown Bar 304 Bridge St\, Vail\, CO 81657\, United States
CATEGORIES:Evening Show,Events
ATTACH;FMTTYPE=image/jpeg:https://shakedownbarvail.com/wp-content/uploads/2019/10/unnamed.jpg
END:VEVENT
BEGIN:VEVENT
DTSTART;VALUE=DATE:20191201
DTEND;VALUE=DATE:20191203
DTSTAMP:20260420T202648
CREATED:20191010T210810Z
LAST-MODIFIED:20191111T001947Z
UID:3911-1575169200-1575255599@shakedownbarvail.com
SUMMARY:- CLOSED -
DESCRIPTION:CLOSED
URL:https://shakedownbarvail.com/event/900-pm-fareed-haque-tony-monaco-and-paul-wertico/
LOCATION:Shakedown Bar 304 Bridge St\, Vail\, CO  81657\, United States\, Shakedown Bar 304 Bridge St\, Vail\, CO 81657\, United States
CATEGORIES:Evening Show,Events,Ticket Event
ATTACH;FMTTYPE=image/jpeg:https://shakedownbarvail.com/wp-content/uploads/2018/11/no-open.jpg
END:VEVENT
BEGIN:VEVENT
DTSTART;TZID=America/Denver:20191130T213000
DTEND;TZID=America/Denver:20191201T013000
DTSTAMP:20260420T202648
CREATED:20190930T191911Z
LAST-MODIFIED:20191125T040751Z
UID:3885-1575149400-1575163800@shakedownbarvail.com
SUMMARY:9:30 PM - Brothers Keeper w/ Nick Cassarino & Bill McKay
DESCRIPTION:Show 9:30 PM\n\n20-year veterans of the John Oates Band John Michel (Drums/vocals) and Michael Jude (Bass/vocals)\, join Scott Rednor (Vocals/Guitar) to form Brothers Keeper\, a truly world-class musical experience.  This show also features Nick Cassarino on Guitar/vocals and Bill McKay on Keyboards/vocals.
URL:https://shakedownbarvail.com/event/1000-pm-brothers-keeper-trio-4/
LOCATION:Shakedown Bar 304 Bridge St\, Vail\, CO  81657\, United States\, Shakedown Bar 304 Bridge St\, Vail\, CO 81657\, United States
CATEGORIES:Evening Show,Events,Saturdays
ATTACH;FMTTYPE=image/jpeg:https://shakedownbarvail.com/wp-content/uploads/2018/12/36781656_1741708825916317_2701520427590615040_o-1-e1570751827566.jpg
END:VEVENT
BEGIN:VEVENT
DTSTART;TZID=America/Denver:20191129T213000
DTEND;TZID=America/Denver:20191130T013000
DTSTAMP:20260420T202648
CREATED:20190930T191542Z
LAST-MODIFIED:20191111T160735Z
UID:3881-1575063000-1575077400@shakedownbarvail.com
SUMMARY:9:30 PM - Johnny Schleper Band
DESCRIPTION:Show: 9:30 PM \nJohnny Schleper (MTHDS) – Guitar/vocals\nJordan Linit (Analog Son) – Guitar\nTodd Smallie (JJ Grey\, Derek Trucks Band) – Bass\nMark Levy (Circles Around The Sun) – Drums
URL:https://shakedownbarvail.com/event/1000-pm-johnny-schleper-band/
LOCATION:Shakedown Bar 304 Bridge St\, Vail\, CO  81657\, United States\, Shakedown Bar 304 Bridge St\, Vail\, CO 81657\, United States
CATEGORIES:Evening Show,Events
ATTACH;FMTTYPE=image/jpeg:https://shakedownbarvail.com/wp-content/uploads/2018/12/JohnnySchleper.jpg
END:VEVENT
BEGIN:VEVENT
DTSTART;TZID=America/Denver:20191128T213000
DTEND;TZID=America/Denver:20191129T010000
DTSTAMP:20260420T202648
CREATED:20191010T204550Z
LAST-MODIFIED:20191010T204550Z
UID:3902-1574976600-1574989200@shakedownbarvail.com
SUMMARY:9:30 PM - Johnny Schleper Solo Acoustic
DESCRIPTION:Doors: 9:00 pm • Show: 9:30 pm \n🦃 HAPPY THANKSGIVING!🦃  \nJoin local favorite Johnny Schleper as he plays his wide ranging song list of Rock\, Soul\, Reggae\, Blues\, and more!
URL:https://shakedownbarvail.com/event/930-pm-johnny-schleper-solo-acoustic-2/
LOCATION:Shakedown Bar 304 Bridge St\, Vail\, CO  81657\, United States\, Shakedown Bar 304 Bridge St\, Vail\, CO 81657\, United States
CATEGORIES:Evening Show,Events
ATTACH;FMTTYPE=image/jpeg:https://shakedownbarvail.com/wp-content/uploads/2018/12/JohnnySchleper.jpg
END:VEVENT
BEGIN:VEVENT
DTSTART;TZID=America/Denver:20191124T213000
DTEND;TZID=America/Denver:20191125T010000
DTSTAMP:20260420T202648
CREATED:20191104T194214Z
LAST-MODIFIED:20191104T194214Z
UID:4010-1574631000-1574643600@shakedownbarvail.com
SUMMARY:9:30 PM - TBA
DESCRIPTION:Doors: 9:00 pm • Show: 9:30 pm\n\nTBA
URL:https://shakedownbarvail.com/event/930-pm-tba-2/
LOCATION:Shakedown Bar 304 Bridge St\, Vail\, CO  81657\, United States\, Shakedown Bar 304 Bridge St\, Vail\, CO 81657\, United States
CATEGORIES:Evening Show,Events
ATTACH;FMTTYPE=image/jpeg:https://shakedownbarvail.com/wp-content/uploads/2019/03/home-slider-logo.jpg
END:VEVENT
BEGIN:VEVENT
DTSTART;TZID=America/Denver:20191123T210000
DTEND;TZID=America/Denver:20191124T013000
DTSTAMP:20260420T202648
CREATED:20190930T185701Z
LAST-MODIFIED:20190930T185701Z
UID:3873-1574542800-1574559000@shakedownbarvail.com
SUMMARY:10:00 PM - Mihali (of Twiddle) Live Band
DESCRIPTION:Doors: 9:00 PM • Show: 10:00 PM\n\nMihali (of Twiddle) brings a live band to Shakedown Bar for an evening of music that is sure to get your soulshine kicked into high gear! \n  \nTickets Available at: https://www.eventbrite.com/e/mihali-live-band-at-shakedown-bar-on-nov-23-2019-tickets-73780382109
URL:https://shakedownbarvail.com/event/1000-pm-mihali-of-twiddle-live-band/
LOCATION:Shakedown Bar 304 Bridge St\, Vail\, CO  81657\, United States\, Shakedown Bar 304 Bridge St\, Vail\, CO 81657\, United States
CATEGORIES:Evening Show,Events,Saturdays,Ticket Event
ATTACH;FMTTYPE=image/jpeg:https://shakedownbarvail.com/wp-content/uploads/2019/09/Mihali-Press.jpg
END:VEVENT
BEGIN:VEVENT
DTSTART;TZID=America/Denver:20191122T220000
DTEND;TZID=America/Denver:20191123T013000
DTSTAMP:20260420T202648
CREATED:20190930T181408Z
LAST-MODIFIED:20191010T191543Z
UID:3869-1574460000-1574472600@shakedownbarvail.com
SUMMARY:10:00 PM - Taylor James Frederick Band
DESCRIPTION:Show: 10:00 PM\n\nTaylor James Frederick (Eminence Ensemble) – Guitar/vocals\nJiho Han (Honey Puddle) – Bass\nEric Luba (Analog Son) – Keyboards\nJeff Peterson (Euforquestra) – Drums
URL:https://shakedownbarvail.com/event/1000-pm-taylor-james-frederick-band/
LOCATION:Shakedown Bar 304 Bridge St\, Vail\, CO  81657\, United States\, Shakedown Bar 304 Bridge St\, Vail\, CO 81657\, United States
CATEGORIES:Evening Show,Events
ATTACH;FMTTYPE=image/jpeg:https://shakedownbarvail.com/wp-content/uploads/2018/12/IMG_3919.jpg
END:VEVENT
BEGIN:VEVENT
DTSTART;TZID=America/Denver:20191121T213000
DTEND;TZID=America/Denver:20191122T010000
DTSTAMP:20260420T202648
CREATED:20190924T035928Z
LAST-MODIFIED:20190924T035928Z
UID:3859-1574371800-1574384400@shakedownbarvail.com
SUMMARY:9:30 PM - Johnny Schleper Solo Acoustic
DESCRIPTION:Doors: 9:00 pm Show: 9:30 pm \nJoin local favorite Johnny Schleper as he plays his wide ranging song list of Rock\, Soul\, Reggae\, Blues\, and more!
URL:https://shakedownbarvail.com/event/930-pm-johnny-schleper-solo-acoustic/
LOCATION:Shakedown Bar 304 Bridge St\, Vail\, CO  81657\, United States\, Shakedown Bar 304 Bridge St\, Vail\, CO 81657\, United States
CATEGORIES:Evening Show,Events
ATTACH;FMTTYPE=image/jpeg:https://shakedownbarvail.com/wp-content/uploads/2018/12/JohnnySchleper.jpg
END:VEVENT
BEGIN:VEVENT
DTSTART;TZID=America/Denver:20191116T220000
DTEND;TZID=America/Denver:20191117T013000
DTSTAMP:20260420T202648
CREATED:20190924T035225Z
LAST-MODIFIED:20191110T203742Z
UID:3852-1573941600-1573954200@shakedownbarvail.com
SUMMARY:10:00 PM - Brothers Keeper w/ Bill McKay
DESCRIPTION:Doors: 9:00 Show: 10:00 PM\n\n20-year veterans of the John Oates Band John Michel (Drums/vocals) and Michael Jude (Bass/vocals)\, join Scott Rednor (Vocals/Guitar) to form Brothers Keeper\, a truly world-class musical experience.  This show also features Bill McKay (Derek Trucks Band\, Leftover Salmon) on Keyboards/vocals.
URL:https://shakedownbarvail.com/event/1000-pm-brothers-keeper-trio-3/
LOCATION:Shakedown Bar 304 Bridge St\, Vail\, CO  81657\, United States\, Shakedown Bar 304 Bridge St\, Vail\, CO 81657\, United States
CATEGORIES:Evening Show,Events,Saturdays
ATTACH;FMTTYPE=image/jpeg:https://shakedownbarvail.com/wp-content/uploads/2018/12/36781656_1741708825916317_2701520427590615040_o-1-e1570751827566.jpg
END:VEVENT
BEGIN:VEVENT
DTSTART;TZID=America/Denver:20191115T220000
DTEND;TZID=America/Denver:20191116T013000
DTSTAMP:20260420T202648
CREATED:20190924T035049Z
LAST-MODIFIED:20191110T210604Z
UID:3850-1573855200-1573867800@shakedownbarvail.com
SUMMARY:10:00 PM - ❄️ WINTER SEASON OPENER ❄️  Taylor James Frederick Band
DESCRIPTION:VAIL MOUNTAIN WINTER SEASON OPENER \nShow: 10:00 PM\n\nTaylor James Frederick (Eminence Ensemble) – Guitar/vocals\nZac Flynn (Eminence Ensemble) – Bass\nEric Luba (Analog Son) – Keyboards\nJeff Peterson (Euforquestra) – Drums
URL:https://shakedownbarvail.com/event/1000-pm-taylor-james-frederick-solo-acoustic/
LOCATION:Shakedown Bar 304 Bridge St\, Vail\, CO  81657\, United States\, Shakedown Bar 304 Bridge St\, Vail\, CO 81657\, United States
CATEGORIES:Evening Show,Events
ATTACH;FMTTYPE=image/jpeg:https://shakedownbarvail.com/wp-content/uploads/2018/12/IMG_3919.jpg
END:VEVENT
BEGIN:VEVENT
DTSTART;TZID=America/Denver:20191109T220000
DTEND;TZID=America/Denver:20191110T013000
DTSTAMP:20260420T202648
CREATED:20190924T034240Z
LAST-MODIFIED:20190924T034240Z
UID:3842-1573336800-1573349400@shakedownbarvail.com
SUMMARY:10:00 PM - Brothers Keeper Trio
DESCRIPTION:Doors: 9:00 Show: 10:00 PM\n\n20-year veterans of the John Oates Band John Michel (Drums/vocals) and Michael Jude (Bass/vocals)\, join Scott Rednor (Vocals/Guitar) to form Brothers Keeper\, a truly world-class musical experience.
URL:https://shakedownbarvail.com/event/1000-pm-brothers-keeper-trio-2/
LOCATION:Shakedown Bar 304 Bridge St\, Vail\, CO  81657\, United States\, Shakedown Bar 304 Bridge St\, Vail\, CO 81657\, United States
CATEGORIES:Evening Show,Events,Saturdays
ATTACH;FMTTYPE=image/jpeg:https://shakedownbarvail.com/wp-content/uploads/2018/12/36781656_1741708825916317_2701520427590615040_o-1-e1570751827566.jpg
END:VEVENT
BEGIN:VEVENT
DTSTART;TZID=America/Denver:20191108T220000
DTEND;TZID=America/Denver:20191109T013000
DTSTAMP:20260420T202648
CREATED:20191010T190503Z
LAST-MODIFIED:20191010T190503Z
UID:3896-1573250400-1573263000@shakedownbarvail.com
SUMMARY:10:00 PM - Kory Montgomery and Scott Rednor
DESCRIPTION:Doors: 9:00 pm • Show: 10:00 pm  \nCome hear two of Colorado’s best playing their interpretations of all of your favorite classic songs! Vocal harmonies\, rhythmic looping\, & duel guitar leads make this an exciting acoustic duo!
URL:https://shakedownbarvail.com/event/1000-pm-kory-montgomery-and-scott-rednor/
LOCATION:Shakedown Bar 304 Bridge St\, Vail\, CO  81657\, United States\, Shakedown Bar 304 Bridge St\, Vail\, CO 81657\, United States
CATEGORIES:Evening Show,Events
ATTACH;FMTTYPE=image/jpeg:https://shakedownbarvail.com/wp-content/uploads/2018/12/Kory.jpg
END:VEVENT
BEGIN:VEVENT
DTSTART;TZID=America/Denver:20191102T220000
DTEND;TZID=America/Denver:20191103T013000
DTSTAMP:20260420T202648
CREATED:20190924T033557Z
LAST-MODIFIED:20190924T033557Z
UID:3830-1572732000-1572744600@shakedownbarvail.com
SUMMARY:10:00 PM - Brothers Keeper Trio
DESCRIPTION:Doors: 9:00 Show: 10:00 PM\n\n20-year veterans of the John Oates Band John Michel (Drums/vocals) and Michael Jude (Bass/vocals)\, join Scott Rednor (Vocals/Guitar) to form Brothers Keeper\, a truly world-class musical experience.
URL:https://shakedownbarvail.com/event/1000-pm-brothers-keeper-trio/
LOCATION:Shakedown Bar 304 Bridge St\, Vail\, CO  81657\, United States\, Shakedown Bar 304 Bridge St\, Vail\, CO 81657\, United States
CATEGORIES:Evening Show,Events,Saturdays
ATTACH;FMTTYPE=image/jpeg:https://shakedownbarvail.com/wp-content/uploads/2018/12/36781656_1741708825916317_2701520427590615040_o-1-e1570751827566.jpg
END:VEVENT
BEGIN:VEVENT
DTSTART;TZID=America/Denver:20191101T210000
DTEND;TZID=America/Denver:20191102T010000
DTSTAMP:20260420T202648
CREATED:20190924T033054Z
LAST-MODIFIED:20190924T033054Z
UID:3826-1572642000-1572656400@shakedownbarvail.com
SUMMARY:10:00 PM - Johnny Schleper Solo Acoustic
DESCRIPTION:Doors: 9:00 pm Show: 10:00 pm \nJoin local favorite Johnny Schleper as he plays his wide ranging song list of Rock\, Soul\, Reggae\, Blues\, and more!
URL:https://shakedownbarvail.com/event/1000-pm-johnny-schleper-solo-acoustic/
LOCATION:Shakedown Bar 304 Bridge St\, Vail\, CO  81657\, United States\, Shakedown Bar 304 Bridge St\, Vail\, CO 81657\, United States
CATEGORIES:Evening Show,Events
ATTACH;FMTTYPE=image/jpeg:https://shakedownbarvail.com/wp-content/uploads/2018/12/JohnnySchleper.jpg
END:VEVENT
BEGIN:VEVENT
DTSTART;TZID=America/Denver:20191026T220000
DTEND;TZID=America/Denver:20191027T013000
DTSTAMP:20260420T202648
CREATED:20190821T004852Z
LAST-MODIFIED:20190924T033325Z
UID:3781-1572127200-1572139800@shakedownbarvail.com
SUMMARY:10:00 PM - Brothers Keeper Trio
DESCRIPTION:Doors: 9:00 Show: 10:00 PM\n\n20-year veterans of the John Oates Band John Michel (Drums/vocals) and Michael Jude (Bass/vocals)\, join Scott Rednor (Vocals/Guitar) to form Brothers Keeper\, a truly world-class musical experience.
URL:https://shakedownbarvail.com/event/930-pm-scott-rednor-and-rob-eaton-jr-acoustic-duo-5/
LOCATION:Shakedown Bar 304 Bridge St\, Vail\, CO  81657\, United States\, Shakedown Bar 304 Bridge St\, Vail\, CO 81657\, United States
CATEGORIES:Evening Show,Events,Saturdays
ATTACH;FMTTYPE=image/jpeg:https://shakedownbarvail.com/wp-content/uploads/2018/12/36781656_1741708825916317_2701520427590615040_o-1-e1570751827566.jpg
END:VEVENT
BEGIN:VEVENT
DTSTART;TZID=America/Denver:20191025T213000
DTEND;TZID=America/Denver:20191026T013000
DTSTAMP:20260420T202648
CREATED:20190821T004628Z
LAST-MODIFIED:20190821T004726Z
UID:3778-1572039000-1572053400@shakedownbarvail.com
SUMMARY:9:30 PM - Kory Montgomery
DESCRIPTION:Doors: 8:00 pm Show: 9:30 pm\n\nKory Montgomery has been spreading his name and reputation across the country now for years\, and still continues to gain new popularity with his solid grooves\, intense solos\, and demanding lyrics. Kory has been described as “a backwoods orgy of Blues\, Funk\, Jazz Fusion\, that leaves the listener drunk\, horny\, and looking for a fight.” \nOver the past years Kory Montgomery has played numerous festivals and events throughout the country including the opportunities to open for BB King\, on multiple occasions\, Kenny Wayne Shepard\, Earth Wind & Fire\, JJ Grey & Mofro\, Buddy Guy\, Robert Randolph\, Hubert Sumlin\, The North Mississippi All Stars and many other national acts. He also continues to play with the Blues Brothers Revue under musical direction of Paul Schaffer. For more information and music go to https://www.reverbnation.com/thekorymontgomeryband
URL:https://shakedownbarvail.com/event/930-pm-kory-montgomery-2/
LOCATION:Shakedown Bar 304 Bridge St\, Vail\, CO  81657\, United States\, Shakedown Bar 304 Bridge St\, Vail\, CO 81657\, United States
CATEGORIES:Evening Show,Events
ATTACH;FMTTYPE=image/jpeg:https://shakedownbarvail.com/wp-content/uploads/2018/12/Kory.jpg
END:VEVENT
BEGIN:VEVENT
DTSTART;TZID=America/Denver:20191024T210000
DTEND;TZID=America/Denver:20191025T010000
DTSTAMP:20260420T202648
CREATED:20190821T004511Z
LAST-MODIFIED:20190821T004511Z
UID:3776-1571950800-1571965200@shakedownbarvail.com
SUMMARY:9:00 PM - Kory Montgomery
DESCRIPTION:Doors: 8:00 pm Show: 9:00 pm\n\nKory Montgomery has been spreading his name and reputation across the country now for years\, and still continues to gain new popularity with his solid grooves\, intense solos\, and demanding lyrics. Kory has been described as “a backwoods orgy of Blues\, Funk\, Jazz Fusion\, that leaves the listener drunk\, horny\, and looking for a fight.” \nOver the past years Kory Montgomery has played numerous festivals and events throughout the country including the opportunities to open for BB King\, on multiple occasions\, Kenny Wayne Shepard\, Earth Wind & Fire\, JJ Grey & Mofro\, Buddy Guy\, Robert Randolph\, Hubert Sumlin\, The North Mississippi All Stars and many other national acts. He also continues to play with the Blues Brothers Revue under musical direction of Paul Schaffer. For more information and music go to https://www.reverbnation.com/thekorymontgomeryband
URL:https://shakedownbarvail.com/event/900-pm-kory-montgomery-10/
LOCATION:Shakedown Bar 304 Bridge St\, Vail\, CO  81657\, United States\, Shakedown Bar 304 Bridge St\, Vail\, CO 81657\, United States
CATEGORIES:Evening Show,Events
ATTACH;FMTTYPE=image/jpeg:https://shakedownbarvail.com/wp-content/uploads/2018/12/Kory.jpg
END:VEVENT
BEGIN:VEVENT
DTSTART;TZID=America/Denver:20191019T220000
DTEND;TZID=America/Denver:20191020T013000
DTSTAMP:20260420T202648
CREATED:20190821T004231Z
LAST-MODIFIED:20190924T033311Z
UID:3770-1571522400-1571535000@shakedownbarvail.com
SUMMARY:10:00 PM - Brothers Keeper Trio
DESCRIPTION:Doors: 9:00 Show: 10:00 PM\n\n20-year veterans of the John Oates Band John Michel (Drums/vocals) and Michael Jude (Bass/vocals)\, join Scott Rednor (Vocals/Guitar) to form Brothers Keeper\, a truly world-class musical experience.
URL:https://shakedownbarvail.com/event/930-pm-scott-rednor-and-rob-eaton-jr-acoustic-duo-4-2019-10-19/
LOCATION:Shakedown Bar 304 Bridge St\, Vail\, CO  81657\, United States\, Shakedown Bar 304 Bridge St\, Vail\, CO 81657\, United States
CATEGORIES:Evening Show,Events,Saturdays
ATTACH;FMTTYPE=image/jpeg:https://shakedownbarvail.com/wp-content/uploads/2018/12/36781656_1741708825916317_2701520427590615040_o-1-e1570751827566.jpg
END:VEVENT
BEGIN:VEVENT
DTSTART;TZID=America/Denver:20191018T220000
DTEND;TZID=America/Denver:20191019T013000
DTSTAMP:20260420T202648
CREATED:20190821T004231Z
LAST-MODIFIED:20190924T031011Z
UID:3768-1571436000-1571448600@shakedownbarvail.com
SUMMARY:10:00 PM — Johnny Schleper and Scott Rednor Acoustic Duo
DESCRIPTION:Doors: 9:00 pm Show: 10:00 pm \nJoin Johnny Schleper and Scott Rednor as they play selections from a huge list of your favorite songs.  Dueling guitars\, harmonies\, and rhythmic looping make this an exciting acoustic show not to miss!
URL:https://shakedownbarvail.com/event/930-pm-scott-rednor-and-rob-eaton-jr-acoustic-duo-4/
LOCATION:Shakedown Bar 304 Bridge St\, Vail\, CO  81657\, United States\, Shakedown Bar 304 Bridge St\, Vail\, CO 81657\, United States
CATEGORIES:Evening Show,Events
ATTACH;FMTTYPE=image/jpeg:https://shakedownbarvail.com/wp-content/uploads/2019/03/home-slider-logo-1.jpg
END:VEVENT
BEGIN:VEVENT
DTSTART;TZID=America/Denver:20191017T213000
DTEND;TZID=America/Denver:20191018T010000
DTSTAMP:20260420T202648
CREATED:20190821T004115Z
LAST-MODIFIED:20190924T030242Z
UID:3766-1571347800-1571360400@shakedownbarvail.com
SUMMARY:9:30 PM - Johnny Schleper Solo Acoustic
DESCRIPTION:Doors: 9:00 pm Show: 9:30 pm \nJoin local favorite Johnny Schleper as he plays his wide ranging song list of Rock\, Soul\, Reggae\, Blues\, and more!
URL:https://shakedownbarvail.com/event/900-pm-scott-rednor-and-rob-eaton-jr-acoustic-duo-42/
LOCATION:Shakedown Bar 304 Bridge St\, Vail\, CO  81657\, United States\, Shakedown Bar 304 Bridge St\, Vail\, CO 81657\, United States
CATEGORIES:Evening Show,Events
ATTACH;FMTTYPE=image/jpeg:https://shakedownbarvail.com/wp-content/uploads/2018/12/JohnnySchleper.jpg
END:VEVENT
BEGIN:VEVENT
DTSTART;TZID=America/Denver:20191012T220000
DTEND;TZID=America/Denver:20191013T013000
DTSTAMP:20260420T202648
CREATED:20190821T003849Z
LAST-MODIFIED:20190924T165211Z
UID:3760-1570917600-1570930200@shakedownbarvail.com
SUMMARY:10:00 PM - Brothers Keeper Trio
DESCRIPTION:Doors: 9:00 Show: 10:00 PM\n\n20-year veterans of the John Oates Band John Michel (Drums/vocals) and Michael Jude (Bass/vocals)\, join Scott Rednor (Vocals/Guitar) to form Brothers Keeper\, a truly world-class musical experience.
URL:https://shakedownbarvail.com/event/930-pm-scott-rednor-and-rob-eaton-jr-acoustic-duo-3-2019-10-12/
LOCATION:Shakedown Bar 304 Bridge St\, Vail\, CO  81657\, United States\, Shakedown Bar 304 Bridge St\, Vail\, CO 81657\, United States
CATEGORIES:Evening Show,Events,Saturdays
ATTACH;FMTTYPE=image/jpeg:https://shakedownbarvail.com/wp-content/uploads/2018/12/36781656_1741708825916317_2701520427590615040_o-1-e1570751827566.jpg
END:VEVENT
BEGIN:VEVENT
DTSTART;TZID=America/Denver:20191011T220000
DTEND;TZID=America/Denver:20191012T013000
DTSTAMP:20260420T202648
CREATED:20190821T003849Z
LAST-MODIFIED:20190924T011152Z
UID:3758-1570831200-1570843800@shakedownbarvail.com
SUMMARY:10:00 PM - Scott Rednor Band feat. Smallie\, Levy\, Porter
DESCRIPTION:Doors: 9:00 pm Show: 10:00 pm\n\nScott Rednor (Brothers Keeper) – Guitar/vocals\nMark Levy (Circles Around The Sun) – Drums/vocals\nTodd Smallie (JJ Grey\, Derek Trucks Band) – Bass\nJoey Porter (The Motet) – Keyboards
URL:https://shakedownbarvail.com/event/930-pm-scott-rednor-and-rob-eaton-jr-acoustic-duo-3/
LOCATION:Shakedown Bar 304 Bridge St\, Vail\, CO  81657\, United States\, Shakedown Bar 304 Bridge St\, Vail\, CO 81657\, United States
CATEGORIES:Evening Show,Events
ATTACH;FMTTYPE=image/jpeg:https://shakedownbarvail.com/wp-content/uploads/2018/12/home-slider.jpg
END:VEVENT
BEGIN:VEVENT
DTSTART;TZID=America/Denver:20191010T210000
DTEND;TZID=America/Denver:20191011T010000
DTSTAMP:20260420T202648
CREATED:20190821T003713Z
LAST-MODIFIED:20190914T013512Z
UID:3756-1570741200-1570755600@shakedownbarvail.com
SUMMARY:9:00 PM - Taylor James Frederick Acoustic
DESCRIPTION:Doors: 8:00 pm Show: 9:00 pm \n 
URL:https://shakedownbarvail.com/event/900-pm-scott-rednor-and-rob-eaton-jr-acoustic-duo-41/
LOCATION:Shakedown Bar 304 Bridge St\, Vail\, CO  81657\, United States\, Shakedown Bar 304 Bridge St\, Vail\, CO 81657\, United States
CATEGORIES:Evening Show,Events
ATTACH;FMTTYPE=image/jpeg:https://shakedownbarvail.com/wp-content/uploads/2018/12/IMG_3919.jpg
END:VEVENT
BEGIN:VEVENT
DTSTART;TZID=America/Denver:20191004T213000
DTEND;TZID=America/Denver:20191005T013000
DTSTAMP:20260420T202648
CREATED:20190821T003326Z
LAST-MODIFIED:20190821T003326Z
UID:3747-1570224600-1570239000@shakedownbarvail.com
SUMMARY:9:30 PM - Kory Montgomery
DESCRIPTION:Doors: 8:00 pm Show: 9:30 pm\n\nKory Montgomery has been spreading his name and reputation across the country now for years\, and still continues to gain new popularity with his solid grooves\, intense solos\, and demanding lyrics. Kory has been described as “a backwoods orgy of Blues\, Funk\, Jazz Fusion\, that leaves the listener drunk\, horny\, and looking for a fight.” \nOver the past years Kory Montgomery has played numerous festivals and events throughout the country including the opportunities to open for BB King\, on multiple occasions\, Kenny Wayne Shepard\, Earth Wind & Fire\, JJ Grey & Mofro\, Buddy Guy\, Robert Randolph\, Hubert Sumlin\, The North Mississippi All Stars and many other national acts. He also continues to play with the Blues Brothers Revue under musical direction of Paul Schaffer. For more information and music go to https://www.reverbnation.com/thekorymontgomeryband
URL:https://shakedownbarvail.com/event/930-pm-kory-montgomery/
LOCATION:Shakedown Bar 304 Bridge St\, Vail\, CO  81657\, United States\, Shakedown Bar 304 Bridge St\, Vail\, CO 81657\, United States
CATEGORIES:Evening Show,Events
ATTACH;FMTTYPE=image/jpeg:https://shakedownbarvail.com/wp-content/uploads/2018/12/Kory.jpg
END:VEVENT
BEGIN:VEVENT
DTSTART;TZID=America/Denver:20191003T210000
DTEND;TZID=America/Denver:20191004T010000
DTSTAMP:20260420T202648
CREATED:20190821T003214Z
LAST-MODIFIED:20190914T013127Z
UID:3745-1570136400-1570150800@shakedownbarvail.com
SUMMARY:9:00 PM — Scott Rednor Acoustic
DESCRIPTION:Doors: 8:00 pm Show: 9:00 pm
URL:https://shakedownbarvail.com/event/900-pm-kory-montgomery-9/
LOCATION:Shakedown Bar 304 Bridge St\, Vail\, CO  81657\, United States\, Shakedown Bar 304 Bridge St\, Vail\, CO 81657\, United States
CATEGORIES:Evening Show,Events
ATTACH;FMTTYPE=image/jpeg:https://shakedownbarvail.com/wp-content/uploads/2018/12/home-slider.jpg
END:VEVENT
BEGIN:VEVENT
DTSTART;TZID=America/Denver:20190928T220000
DTEND;TZID=America/Denver:20190929T013000
DTSTAMP:20260420T202648
CREATED:20190821T002953Z
LAST-MODIFIED:20190923T061806Z
UID:3738-1569708000-1569720600@shakedownbarvail.com
SUMMARY:10:00 PM -Scooter Barnes Band
DESCRIPTION:Doors: 9:00 Show: 10:00 PM\n\nScooter Barnes\,\nJim Allard\nDavid Brenowitz\nPatrick O’Hara
URL:https://shakedownbarvail.com/event/930-pm-brothers-keeper-27/
LOCATION:Shakedown Bar 304 Bridge St\, Vail\, CO  81657\, United States\, Shakedown Bar 304 Bridge St\, Vail\, CO 81657\, United States
CATEGORIES:Evening Show,Events,Saturdays
ATTACH;FMTTYPE=image/jpeg:https://shakedownbarvail.com/wp-content/uploads/2019/03/home-slider-logo.jpg
END:VEVENT
END:VCALENDAR