BEGIN:VCALENDAR
VERSION:2.0
PRODID:-//Shakedown Bar - ECPv6.15.14//NONSGML v1.0//EN
CALSCALE:GREGORIAN
METHOD:PUBLISH
X-ORIGINAL-URL:https://shakedownbarvail.com
X-WR-CALDESC:Events for Shakedown Bar
REFRESH-INTERVAL;VALUE=DURATION:PT1H
X-Robots-Tag:noindex
X-PUBLISHED-TTL:PT1H
BEGIN:VTIMEZONE
TZID:America/Denver
BEGIN:DAYLIGHT
TZOFFSETFROM:-0700
TZOFFSETTO:-0600
TZNAME:MDT
DTSTART:20170312T090000
END:DAYLIGHT
BEGIN:STANDARD
TZOFFSETFROM:-0600
TZOFFSETTO:-0700
TZNAME:MST
DTSTART:20171105T080000
END:STANDARD
BEGIN:DAYLIGHT
TZOFFSETFROM:-0700
TZOFFSETTO:-0600
TZNAME:MDT
DTSTART:20180311T090000
END:DAYLIGHT
BEGIN:STANDARD
TZOFFSETFROM:-0600
TZOFFSETTO:-0700
TZNAME:MST
DTSTART:20181104T080000
END:STANDARD
BEGIN:DAYLIGHT
TZOFFSETFROM:-0700
TZOFFSETTO:-0600
TZNAME:MDT
DTSTART:20190310T090000
END:DAYLIGHT
BEGIN:STANDARD
TZOFFSETFROM:-0600
TZOFFSETTO:-0700
TZNAME:MST
DTSTART:20191103T080000
END:STANDARD
BEGIN:DAYLIGHT
TZOFFSETFROM:-0700
TZOFFSETTO:-0600
TZNAME:MDT
DTSTART:20200308T090000
END:DAYLIGHT
BEGIN:STANDARD
TZOFFSETFROM:-0600
TZOFFSETTO:-0700
TZNAME:MST
DTSTART:20201101T080000
END:STANDARD
END:VTIMEZONE
BEGIN:VEVENT
DTSTART;TZID=America/Denver:20190213T160000
DTEND;TZID=America/Denver:20190213T203000
DTSTAMP:20260422T163430
CREATED:20181217T221414Z
LAST-MODIFIED:20181228T014520Z
UID:2915-1550073600-1550089800@shakedownbarvail.com
SUMMARY:4:00 PM — Scott Rednor and Rob Eaton Jr. Acoustic Duo
DESCRIPTION:Doors: 4:00 pm Show: 4:30 pm  \nCome hear two of Colorado’s finest guitarists playing their interpretations of all of your favorite classic songs! Vocal harmonies\, rhythmic looping\, & duel guitar leads make this an exciting acoustic duo!
URL:https://shakedownbarvail.com/event/330-pm-scott-rednor-and-rob-eaton-jr-acoustic-duo/
LOCATION:Shakedown Bar Vail\, 304 Bridge Street\, Vail\, CO\, 81657\, United States
CATEGORIES:Aprés,Events
END:VEVENT
BEGIN:VEVENT
DTSTART;TZID=America/Denver:20190209T160000
DTEND;TZID=America/Denver:20190209T203000
DTSTAMP:20260422T163430
CREATED:20181210T191755Z
LAST-MODIFIED:20181228T014437Z
UID:2613-1549728000-1549744200@shakedownbarvail.com
SUMMARY:4:00 PM - Scott Rednor and Rob Eaton Jr. Acoustic Duo
DESCRIPTION:Doors: 4:00 pm Show: 4:30 pm \nCome hear two of Colorado’s finest guitarists playing their interpretations of all of your favorite classic songs! Vocal harmonies\, rhythmic looping\, & duel guitar leads make this an exciting acoustic duo!
URL:https://shakedownbarvail.com/event/330-pm-scott-rednor-and-rob-eaton-jr-acoustic-duo-25/
LOCATION:Shakedown Bar\, 304 Bridge St\, Vail\, CO 81657\, USA\, Shakedown Bar\, 304 Bridge St\, Vail\, CO 81657\, USA
CATEGORIES:Aprés,Events
END:VEVENT
BEGIN:VEVENT
DTSTART;TZID=America/Denver:20190208T160000
DTEND;TZID=America/Denver:20190208T203000
DTSTAMP:20260422T163430
CREATED:20181210T191755Z
LAST-MODIFIED:20181228T014400Z
UID:2612-1549641600-1549657800@shakedownbarvail.com
SUMMARY:4:00 PM - Scott Rednor and Rob Eaton Jr. Acoustic Duo
DESCRIPTION:Doors: 4:00 pm Show: 4:30 pm \nCome hear two of Colorado’s finest guitarists playing their interpretations of all of your favorite classic songs! Vocal harmonies\, rhythmic looping\, & duel guitar leads make this an exciting acoustic duo!
URL:https://shakedownbarvail.com/event/330-pm-scott-rednor-and-rob-eaton-jr-acoustic-duo-24/
LOCATION:Shakedown Bar Vail\, 304 Bridge Street\, Vail\, CO\, 81657\, United States
CATEGORIES:Aprés,Events
END:VEVENT
BEGIN:VEVENT
DTSTART;TZID=America/Denver:20190207T160000
DTEND;TZID=America/Denver:20190207T203000
DTSTAMP:20260422T163430
CREATED:20181210T191754Z
LAST-MODIFIED:20181228T014314Z
UID:2611-1549555200-1549571400@shakedownbarvail.com
SUMMARY:4:00 PM - Scott Rednor and Rob Eaton Jr. Acoustic Duo
DESCRIPTION:Doors: 4:00 pm Show: 4:30 pm \nCome hear two of Colorado’s finest guitarists playing their interpretations of all of your favorite classic songs! Vocal harmonies\, rhythmic looping\, & duel guitar leads make this an exciting acoustic duo!
URL:https://shakedownbarvail.com/event/330-pm-scott-rednor-and-rob-eaton-jr-acoustic-duo-23/
LOCATION:Shakedown Bar Vail\, 304 Bridge Street\, Vail\, CO\, 81657\, United States
CATEGORIES:Aprés,Events
END:VEVENT
BEGIN:VEVENT
DTSTART;TZID=America/Denver:20190202T160000
DTEND;TZID=America/Denver:20190202T203000
DTSTAMP:20260422T163430
CREATED:20181210T191754Z
LAST-MODIFIED:20181228T014200Z
UID:2610-1549123200-1549139400@shakedownbarvail.com
SUMMARY:4:00 PM - Scott Rednor and Rob Eaton Jr. Acoustic Duo
DESCRIPTION:Doors: 4:00 pm Show: 4:30 pm \nCome hear two of Colorado’s finest guitarists playing their interpretations of all of your favorite classic songs! Vocal harmonies\, rhythmic looping\, & duel guitar leads make this an exciting acoustic duo!
URL:https://shakedownbarvail.com/event/330-pm-scott-rednor-and-rob-eaton-jr-acoustic-duo-22/
LOCATION:Shakedown Bar Vail\, 304 Bridge Street\, Vail\, CO\, 81657\, United States
CATEGORIES:Aprés,Events
END:VEVENT
BEGIN:VEVENT
DTSTART;TZID=America/Denver:20190201T160000
DTEND;TZID=America/Denver:20190201T203000
DTSTAMP:20260422T163430
CREATED:20181210T191754Z
LAST-MODIFIED:20181228T014239Z
UID:2609-1549036800-1549053000@shakedownbarvail.com
SUMMARY:4:00 PM - Scott Rednor and Rob Eaton Jr. Acoustic Duo
DESCRIPTION:Doors: 4:00 pm Show: 4:30 pm \nCome hear two of Colorado’s finest guitarists playing their interpretations of all of your favorite classic songs! Vocal harmonies\, rhythmic looping\, & duel guitar leads make this an exciting acoustic duo!
URL:https://shakedownbarvail.com/event/330-pm-scott-rednor-and-rob-eaton-jr-acoustic-duo-21/
LOCATION:Shakedown Bar Vail\, 304 Bridge Street\, Vail\, CO\, 81657\, United States
CATEGORIES:Aprés,Events
END:VEVENT
BEGIN:VEVENT
DTSTART;TZID=America/Denver:20190131T160000
DTEND;TZID=America/Denver:20190131T203000
DTSTAMP:20260422T163430
CREATED:20181210T191754Z
LAST-MODIFIED:20181228T014114Z
UID:2607-1548950400-1548966600@shakedownbarvail.com
SUMMARY:4:00 PM - Scott Rednor and Rob Eaton Jr. Acoustic Duo
DESCRIPTION:Doors: 4:00 pm Show: 4:30 pm \nCome hear two of Colorado’s finest guitarists playing their interpretations of all of your favorite classic songs! Vocal harmonies\, rhythmic looping\, & duel guitar leads make this an exciting acoustic duo!
URL:https://shakedownbarvail.com/event/330-pm-scott-rednor-and-rob-eaton-jr-acoustic-duo-20/
LOCATION:Shakedown Bar Vail\, 304 Bridge Street\, Vail\, CO\, 81657\, United States
CATEGORIES:Aprés,Events
END:VEVENT
BEGIN:VEVENT
DTSTART;TZID=America/Denver:20190130T153000
DTEND;TZID=America/Denver:20190130T203000
DTSTAMP:20260422T163430
CREATED:20181210T191754Z
LAST-MODIFIED:20181228T014029Z
UID:2606-1548862200-1548880200@shakedownbarvail.com
SUMMARY:4:00 PM - Kory Montgomery
DESCRIPTION:Doors: 4:00 pm Show: 4:30 pm \nKory Montgomery has been spreading his name and reputation across the country now for years\, and still continues to gain new popularity with his solid grooves\, intense solos\, and demanding lyrics. Kory has been described as “a backwoods orgy of Blues\, Funk\, Jazz Fusion\, that leaves the listener drunk\, horny\, and looking for a fight.” \nOver the past years Kory Montgomery has played numerous festivals and events throughout the country including the opportunities to open for BB King\, on multiple occasions\, Kenny Wayne Shepard\, Earth Wind & Fire\, JJ Grey & Mofro\, Buddy Guy\, Robert Randolph\, Hubert Sumlin\, The North Mississippi All Stars and many other national acts. He also continues to play with the Blues Brothers Revue under musical direction of Paul Schaffer. For more information and music go to https://www.reverbnation.com/thekorymontgomeryband
URL:https://shakedownbarvail.com/event/330-pm-kory-montgomery-5/
LOCATION:Shakedown Bar Vail\, 304 Bridge Street\, Vail\, CO\, 81657\, United States
CATEGORIES:Aprés,Events
ATTACH;FMTTYPE=image/jpeg:https://shakedownbarvail.com/wp-content/uploads/2018/12/Kory.jpg
END:VEVENT
BEGIN:VEVENT
DTSTART;TZID=America/Denver:20190126T160000
DTEND;TZID=America/Denver:20190126T203000
DTSTAMP:20260422T163430
CREATED:20181210T191753Z
LAST-MODIFIED:20181227T223934Z
UID:2601-1548518400-1548534600@shakedownbarvail.com
SUMMARY:4:00 PM - Grateful Dead Acoustic Apres
DESCRIPTION:Doors: 4:00 pm Show: 4:30 PM \nA special Acoustic Apres dedicated entirely to Grateful Dead’s deep catalogue of amazing music with some of the most preeminent players of the genre! \nBarry Sless (Phil Lesh & Friends\, Green Leaf Rustlers) – Guitar \nJohn Molo (Phil Lesh & Friends\, Green Leaf Rustlers) – Drums \nJohn Ginty (Allman Betts Band\, Dixie Chicks\, Jewel) – Keyboards \nScott Rednor (Dean WEEN Group\, Brothers Keeper) – Guitar/vocals \nRob Eaton Jr. (Brothers Keeper) – Guitar/vocals
URL:https://shakedownbarvail.com/event/330-pm-scott-rednor-and-rob-eaton-jr-acoustic-duo-19/
LOCATION:Shakedown Bar Vail\, 304 Bridge Street\, Vail\, CO\, 81657\, United States
CATEGORIES:Aprés,Events
ATTACH;FMTTYPE=image/png:https://shakedownbarvail.com/wp-content/uploads/2018/12/1444195149456.png
END:VEVENT
BEGIN:VEVENT
DTSTART;TZID=America/Denver:20190125T160000
DTEND;TZID=America/Denver:20190125T203000
DTSTAMP:20260422T163430
CREATED:20181210T191753Z
LAST-MODIFIED:20181227T223901Z
UID:2599-1548432000-1548448200@shakedownbarvail.com
SUMMARY:4:00 PM - Scott Rednor and Rob Eaton Jr. Acoustic Duo
DESCRIPTION:Doors: 4:00 pm Show: 4:30 pm \nCome hear two of Colorado’s finest guitarists playing their interpretations of all of your favorite classic songs! Vocal harmonies\, rhythmic looping\, & duel guitar leads make this an exciting acoustic duo!
URL:https://shakedownbarvail.com/event/330-pm-scott-rednor-and-rob-eaton-jr-acoustic-duo-18/
LOCATION:Shakedown Bar Vail\, 304 Bridge Street\, Vail\, CO\, 81657\, United States
CATEGORIES:Aprés,Events
END:VEVENT
BEGIN:VEVENT
DTSTART;TZID=America/Denver:20190124T160000
DTEND;TZID=America/Denver:20190124T203000
DTSTAMP:20260422T163430
CREATED:20181210T191753Z
LAST-MODIFIED:20181227T223800Z
UID:2597-1548345600-1548361800@shakedownbarvail.com
SUMMARY:4:00 PM - Scott Rednor and Rob Eaton Jr. Acoustic Duo
DESCRIPTION:Doors: 4:00 pm Show: 4:30 pm \nCome hear two of Colorado’s finest guitarists playing their interpretations of all of your favorite classic songs! Vocal harmonies\, rhythmic looping\, & duel guitar leads make this an exciting acoustic duo!
URL:https://shakedownbarvail.com/event/330-pm-scott-rednor-and-rob-eaton-jr-acoustic-duo-17/
LOCATION:Shakedown Bar Vail\, 304 Bridge Street\, Vail\, CO\, 81657\, United States
CATEGORIES:Aprés,Events
END:VEVENT
BEGIN:VEVENT
DTSTART;TZID=America/Denver:20190123T160000
DTEND;TZID=America/Denver:20190123T203000
DTSTAMP:20260422T163430
CREATED:20181210T191753Z
LAST-MODIFIED:20181227T223727Z
UID:2596-1548259200-1548275400@shakedownbarvail.com
SUMMARY:4:00 PM - Kory Montgomery
DESCRIPTION:Doors: 4:00 pm Show: 4:30 pm \nKory Montgomery has been spreading his name and reputation across the country now for years\, and still continues to gain new popularity with his solid grooves\, intense solos\, and demanding lyrics. Kory has been described as “a backwoods orgy of Blues\, Funk\, Jazz Fusion\, that leaves the listener drunk\, horny\, and looking for a fight.” \nOver the past years Kory Montgomery has played numerous festivals and events throughout the country including the opportunities to open for BB King\, on multiple occasions\, Kenny Wayne Shepard\, Earth Wind & Fire\, JJ Grey & Mofro\, Buddy Guy\, Robert Randolph\, Hubert Sumlin\, The North Mississippi All Stars and many other national acts. He also continues to play with the Blues Brothers Revue under musical direction of Paul Schaffer. For more information and music go to https://www.reverbnation.com/thekorymontgomeryband
URL:https://shakedownbarvail.com/event/330-pm-kory-montgomery-4/
LOCATION:Shakedown Bar Vail\, 304 Bridge Street\, Vail\, CO\, 81657\, United States
CATEGORIES:Aprés,Events
ATTACH;FMTTYPE=image/jpeg:https://shakedownbarvail.com/wp-content/uploads/2018/12/Kory.jpg
END:VEVENT
BEGIN:VEVENT
DTSTART;TZID=America/Denver:20190120T160000
DTEND;TZID=America/Denver:20190120T203000
DTSTAMP:20260422T163430
CREATED:20181210T191752Z
LAST-MODIFIED:20181227T223623Z
UID:2591-1548000000-1548016200@shakedownbarvail.com
SUMMARY:4:00 PM — Scott Rednor and Rob Eaton Jr. Acoustic Duo
DESCRIPTION:Doors: 4:00 pm Show: 4:30 pm \nCome hear two of Colorado’s finest guitarists playing their interpretations of all of your favorite classic songs! Vocal harmonies\, rhythmic looping\, & duel guitar leads make this an exciting acoustic duo!
URL:https://shakedownbarvail.com/event/330-pm-scott-rednor-and-rob-eaton-jr-acoustic-duo-16/
LOCATION:Shakedown Bar Vail\, 304 Bridge Street\, Vail\, CO\, 81657\, United States
CATEGORIES:Aprés,Events
END:VEVENT
BEGIN:VEVENT
DTSTART;TZID=America/Denver:20190119T160000
DTEND;TZID=America/Denver:20190119T203000
DTSTAMP:20260422T163430
CREATED:20181210T191752Z
LAST-MODIFIED:20181227T223222Z
UID:2589-1547913600-1547929800@shakedownbarvail.com
SUMMARY:4:00 PM — Scott Rednor and Rob Eaton Jr. Acoustic Duo
DESCRIPTION:Doors: 4:00 pm Show: 4:30 pm \nCome hear two of Colorado’s finest guitarists playing their interpretations of all of your favorite classic songs! Vocal harmonies\, rhythmic looping\, & duel guitar leads make this an exciting acoustic duo!
URL:https://shakedownbarvail.com/event/330-pm-scott-rednor-and-rob-eaton-jr-acoustic-duo-15/
LOCATION:Shakedown Bar Vail\, 304 Bridge Street\, Vail\, CO\, 81657\, United States
CATEGORIES:Aprés,Events
END:VEVENT
BEGIN:VEVENT
DTSTART;TZID=America/Denver:20190118T160000
DTEND;TZID=America/Denver:20190118T203000
DTSTAMP:20260422T163430
CREATED:20181210T191752Z
LAST-MODIFIED:20181227T223148Z
UID:2588-1547827200-1547843400@shakedownbarvail.com
SUMMARY:4:00 PM — Scott Rednor and Rob Eaton Jr. Acoustic Duo
DESCRIPTION:Doors: 4:00 pm Show: 4:30 pm \nCome hear two of Colorado’s finest guitarists playing their interpretations of all of your favorite classic songs! Vocal harmonies\, rhythmic looping\, & duel guitar leads make this an exciting acoustic duo!
URL:https://shakedownbarvail.com/event/330-pm-scott-rednor-and-rob-eaton-jr-acoustic-duo-14/
LOCATION:Shakedown Bar Vail\, 304 Bridge Street\, Vail\, CO\, 81657\, United States
CATEGORIES:Aprés,Events
END:VEVENT
BEGIN:VEVENT
DTSTART;TZID=America/Denver:20190117T160000
DTEND;TZID=America/Denver:20190117T203000
DTSTAMP:20260422T163430
CREATED:20181210T191752Z
LAST-MODIFIED:20181227T223002Z
UID:2585-1547740800-1547757000@shakedownbarvail.com
SUMMARY:4:00 PM — Scott Rednor and Rob Eaton Jr. Acoustic Duo
DESCRIPTION:Doors: 4:00 pm Show: 4:30 pm \nCome hear two of Colorado’s finest guitarists playing their interpretations of all of your favorite classic songs! Vocal harmonies\, rhythmic looping\, & duel guitar leads make this an exciting acoustic duo!
URL:https://shakedownbarvail.com/event/330-pm-scott-rednor-and-rob-eaton-jr-acoustic-duo-13/
LOCATION:Shakedown Bar Vail\, 304 Bridge Street\, Vail\, CO\, 81657\, United States
CATEGORIES:Aprés,Events
END:VEVENT
BEGIN:VEVENT
DTSTART;TZID=America/Denver:20190116T160000
DTEND;TZID=America/Denver:20190116T203000
DTSTAMP:20260422T163430
CREATED:20181210T191751Z
LAST-MODIFIED:20181227T222817Z
UID:2584-1547654400-1547670600@shakedownbarvail.com
SUMMARY:4:00 PM — Scott Rednor and Rob Eaton Jr. Acoustic Duo
DESCRIPTION:Doors: 4:00 pm Show: 4:30 pm \nCome hear two of Colorado’s finest guitarists playing their interpretations of all of your favorite classic songs! Vocal harmonies\, rhythmic looping\, & duel guitar leads make this an exciting acoustic duo!
URL:https://shakedownbarvail.com/event/330-pm-scott-rednor-and-rob-eaton-jr-acoustic-duo-12/
LOCATION:Shakedown Bar Vail\, 304 Bridge Street\, Vail\, CO\, 81657\, United States
CATEGORIES:Aprés,Events
END:VEVENT
BEGIN:VEVENT
DTSTART;TZID=America/Denver:20190112T160000
DTEND;TZID=America/Denver:20190112T203000
DTSTAMP:20260422T163430
CREATED:20181210T191750Z
LAST-MODIFIED:20181227T222731Z
UID:2578-1547308800-1547325000@shakedownbarvail.com
SUMMARY:4:00 PM — Scott Rednor and Rob Eaton Jr. Acoustic Duo
DESCRIPTION:Doors: 4:00 pm Show: 4:30 pm \nCome hear two of Colorado’s finest guitarists playing their interpretations of all of your favorite classic songs! Vocal harmonies\, rhythmic looping\, & duel guitar leads make this an exciting acoustic duo!
URL:https://shakedownbarvail.com/event/330-pm-scott-rednor-and-rob-eaton-jr-acoustic-duo-11/
LOCATION:Shakedown Bar Vail\, 304 Bridge Street\, Vail\, CO\, 81657\, United States
CATEGORIES:Aprés,Events
END:VEVENT
BEGIN:VEVENT
DTSTART;TZID=America/Denver:20190111T160000
DTEND;TZID=America/Denver:20190111T203000
DTSTAMP:20260422T163430
CREATED:20181210T191750Z
LAST-MODIFIED:20181227T222645Z
UID:2577-1547222400-1547238600@shakedownbarvail.com
SUMMARY:4:00 PM — Scott Rednor and Rob Eaton Jr. Acoustic Duo
DESCRIPTION:Doors: 4:00 pm Show: 4:30 pm \nCome hear two of Colorado’s finest guitarists playing their interpretations of all of your favorite classic songs! Vocal harmonies\, rhythmic looping\, & duel guitar leads make this an exciting acoustic duo!
URL:https://shakedownbarvail.com/event/330-pm-scott-rednor-and-rob-eaton-jr-acoustic-duo-10/
LOCATION:Shakedown Bar Vail\, 304 Bridge Street\, Vail\, CO\, 81657\, United States
CATEGORIES:Aprés,Events
END:VEVENT
BEGIN:VEVENT
DTSTART;TZID=America/Denver:20190110T160000
DTEND;TZID=America/Denver:20190110T203000
DTSTAMP:20260422T163430
CREATED:20181210T191749Z
LAST-MODIFIED:20181227T222605Z
UID:2574-1547136000-1547152200@shakedownbarvail.com
SUMMARY:4:00 PM — Scott Rednor and Rob Eaton Jr. Acoustic Duo
DESCRIPTION:Doors: 4:00 pm Show: 4:30 pm \nCome hear two of Colorado’s finest guitarists playing their interpretations of all of your favorite classic songs! Vocal harmonies\, rhythmic looping\, & duel guitar leads make this an exciting acoustic duo!
URL:https://shakedownbarvail.com/event/330-pm-scott-rednor-and-rob-eaton-jr-acoustic-duo-9/
LOCATION:Shakedown Bar Vail\, 304 Bridge Street\, Vail\, CO\, 81657\, United States
CATEGORIES:Aprés,Events
END:VEVENT
BEGIN:VEVENT
DTSTART;TZID=America/Denver:20190109T160000
DTEND;TZID=America/Denver:20190109T203000
DTSTAMP:20260422T163430
CREATED:20181210T191749Z
LAST-MODIFIED:20181227T222524Z
UID:2572-1547049600-1547065800@shakedownbarvail.com
SUMMARY:4:00 PM - Kory Montgomery
DESCRIPTION:Doors: 4:00 Show: 4:30 pm \nKory Montgomery has been spreading his name and reputation across the country now for years\, and still continues to gain new popularity with his solid grooves\, intense solos\, and demanding lyrics. Kory has been described as “a backwoods orgy of Blues\, Funk\, Jazz Fusion\, that leaves the listener drunk\, horny\, and looking for a fight.” \nOver the past years Kory Montgomery has played numerous festivals and events throughout the country including the opportunities to open for BB King\, on multiple occasions\, Kenny Wayne Shepard\, Earth Wind & Fire\, JJ Grey & Mofro\, Buddy Guy\, Robert Randolph\, Hubert Sumlin\, The North Mississippi All Stars and many other national acts. He also continues to play with the Blues Brothers Revue under musical direction of Paul Schaffer. For more information and music go to https://www.reverbnation.com/thekorymontgomeryband
URL:https://shakedownbarvail.com/event/330-pm-kory-montgomery-3/
LOCATION:Shakedown Bar Vail\, 304 Bridge Street\, Vail\, CO\, 81657\, United States
CATEGORIES:Aprés,Events
ATTACH;FMTTYPE=image/jpeg:https://shakedownbarvail.com/wp-content/uploads/2018/12/Kory.jpg
END:VEVENT
BEGIN:VEVENT
DTSTART;TZID=America/Denver:20190105T160000
DTEND;TZID=America/Denver:20190105T203000
DTSTAMP:20260422T163430
CREATED:20181210T191748Z
LAST-MODIFIED:20181227T222449Z
UID:2567-1546704000-1546720200@shakedownbarvail.com
SUMMARY:4:00 PM — Tenth Mountain Division
DESCRIPTION:Doors: 4:00 pm Show: 4:30 pm \nTenth Mountain Division returns to Shakedown Bar for their annual Apres show! If you’ve been there in the past\, you know its an Apres not to be missed. If you’re a newcomer\, get ready for a fun afternoon that will rock you into the night!
URL:https://shakedownbarvail.com/event/330-pm-tenth-mountain-division/
LOCATION:Shakedown Bar Vail\, 304 Bridge Street\, Vail\, CO\, 81657\, United States
CATEGORIES:Aprés,Events
ATTACH;FMTTYPE=image/jpeg:https://shakedownbarvail.com/wp-content/uploads/2018/12/IMG_3385-e1547755866500.jpg
END:VEVENT
BEGIN:VEVENT
DTSTART;TZID=America/Denver:20190104T160000
DTEND;TZID=America/Denver:20190104T203000
DTSTAMP:20260422T163430
CREATED:20181210T191747Z
LAST-MODIFIED:20181227T222416Z
UID:2565-1546617600-1546633800@shakedownbarvail.com
SUMMARY:4:00 PM — Scott Rednor and Rob Eaton Jr. Acoustic Duo
DESCRIPTION:Doors: 4:00 pm Show: 4:30 pm \nCome hear two of Colorado’s finest guitarists playing their interpretations of all of your favorite classic songs! Vocal harmonies\, rhythmic looping\, & duel guitar leads make this an exciting acoustic duo!
URL:https://shakedownbarvail.com/event/330-pm-scott-rednor-and-rob-eaton-jr-acoustic-duo-8/
LOCATION:Shakedown Bar Vail\, 304 Bridge Street\, Vail\, CO\, 81657\, United States
CATEGORIES:Aprés,Events
END:VEVENT
BEGIN:VEVENT
DTSTART;TZID=America/Denver:20190103T160000
DTEND;TZID=America/Denver:20190103T203000
DTSTAMP:20260422T163430
CREATED:20181210T191747Z
LAST-MODIFIED:20181227T222342Z
UID:2562-1546531200-1546547400@shakedownbarvail.com
SUMMARY:4:00 PM — Scott Rednor and Rob Eaton Jr. Acoustic Duo
DESCRIPTION:Doors: 4:00 pm Show: 4:30 pm \nCome hear two of Colorado’s finest guitarists playing their interpretations of all of your favorite classic songs! Vocal harmonies\, rhythmic looping\, & duel guitar leads make this an exciting acoustic duo!
URL:https://shakedownbarvail.com/event/330-pm-scott-rednor-and-rob-eaton-jr-acoustic-duo-7/
LOCATION:Shakedown Bar Vail\, 304 Bridge Street\, Vail\, CO\, 81657\, United States
CATEGORIES:Aprés,Events
END:VEVENT
BEGIN:VEVENT
DTSTART;TZID=America/Denver:20181230T160000
DTEND;TZID=America/Denver:20181230T203000
DTSTAMP:20260422T163430
CREATED:20181209T225446Z
LAST-MODIFIED:20181227T222031Z
UID:2514-1546185600-1546201800@shakedownbarvail.com
SUMMARY:4:00 PM - Scott Rednor and Rob Eaton Jr. Acoustic Duo
DESCRIPTION:Doors: 4:00 pm Show: 4:30 pm \nCome hear two of Colorado’s finest guitarists playing their interpretations of all of your favorite classic songs! Vocal harmonies\, rhythmic looping\, & duel guitar leads make this an exciting acoustic duo!
URL:https://shakedownbarvail.com/event/scott-rednor-and-rob-eaton-jr-acoustic-duo-15/
LOCATION:Shakedown Bar Vail\, 304 Bridge Street\, Vail\, CO\, 81657\, United States
CATEGORIES:Aprés,Events
END:VEVENT
BEGIN:VEVENT
DTSTART;TZID=America/Denver:20181229T160000
DTEND;TZID=America/Denver:20181229T203000
DTSTAMP:20260422T163430
CREATED:20181209T225217Z
LAST-MODIFIED:20181227T221952Z
UID:2510-1546099200-1546115400@shakedownbarvail.com
SUMMARY:4:00 PM - Eric McFadden\, Scott Rednor\, Rob Eaton Jr.
DESCRIPTION:Doors: 4:00 pm Show: 4:30 pm  \nCome hear two of Colorado’s finest guitarists playing their interpretations of all of your favorite classic songs! Vocal harmonies\, rhythmic looping\, & dueling guitar leads make this an exciting acoustic duo! Plus Eric McFadden shredding with the guys all night long!
URL:https://shakedownbarvail.com/event/eric-mcfadden-scott-rednor-rob-eaton-jr-2/
LOCATION:Shakedown Bar Vail\, 304 Bridge Street\, Vail\, CO\, 81657\, United States
CATEGORIES:Aprés,Events
END:VEVENT
BEGIN:VEVENT
DTSTART;TZID=America/Denver:20181228T160000
DTEND;TZID=America/Denver:20181228T203000
DTSTAMP:20260422T163430
CREATED:20181209T224900Z
LAST-MODIFIED:20181227T221915Z
UID:2506-1546012800-1546029000@shakedownbarvail.com
SUMMARY:4:00 PM - Eric McFadden\, Scott Rednor\, Rob Eaton Jr.
DESCRIPTION:Doors: 4:00 pm Show: 4:30 pm  \nCome hear two of Colorado’s finest guitarists playing their interpretations of all of your favorite classic songs! Vocal harmonies\, rhythmic looping\, & dueling guitar leads make this an exciting acoustic duo! Plus Eric McFadden shredding with the guys all night long!
URL:https://shakedownbarvail.com/event/eric-mcfadden-scott-rednor-rob-eaton-jr/
LOCATION:Shakedown Bar Vail\, 304 Bridge Street\, Vail\, CO\, 81657\, United States
CATEGORIES:Aprés,Events
END:VEVENT
BEGIN:VEVENT
DTSTART;TZID=America/Denver:20181227T160000
DTEND;TZID=America/Denver:20181227T203000
DTSTAMP:20260422T163430
CREATED:20181209T224420Z
LAST-MODIFIED:20181227T221819Z
UID:2501-1545926400-1545942600@shakedownbarvail.com
SUMMARY:4:00 PM - Scott Rednor and Rob Eaton Jr. Acoustic Duo
DESCRIPTION:Doors: 4:00 pm Show: 4:30 pm \nCome hear two of Colorado’s finest guitarists playing their interpretations of all of your favorite classic songs! Vocal harmonies\, rhythmic looping\, & duel guitar leads make this an exciting acoustic duo!
URL:https://shakedownbarvail.com/event/scott-rednor-and-rob-eaton-jr-acoustic-duo-14/
LOCATION:Shakedown Bar Vail\, 304 Bridge Street\, Vail\, CO\, 81657\, United States
CATEGORIES:Aprés,Events
END:VEVENT
BEGIN:VEVENT
DTSTART;TZID=America/Denver:20181226T153000
DTEND;TZID=America/Denver:20181226T203000
DTSTAMP:20260422T163430
CREATED:20181209T224108Z
LAST-MODIFIED:20181211T223631Z
UID:2497-1545838200-1545856200@shakedownbarvail.com
SUMMARY:3:30 PM - Kory Montgomery
DESCRIPTION:Doors: 3:30 Show: 4:30 pm  \nKory Montgomery has been spreading his name and reputation across the country now for years\, and still continues to gain new popularity with his solid grooves\, intense solos\, and demanding lyrics. Kory has been described as “a backwoods orgy of Blues\, Funk\, Jazz Fusion\, that leaves the listener drunk\, horny\, and looking for a fight.” Over the past years Kory Montgomery has played numerous festivals and events throughout the country including the opportunities to open for BB King\, on multiple occasions\, Kenny Wayne Shepard\, Earth Wind & Fire\, JJ Grey & Mofro\, Buddy Guy\, Robert Randolph\, Hubert Sumlin\, The North Mississippi All Stars and many other national acts. He also continues to play with the Blues Brothers Revue under musical direction of Paul Schaffer. For more information and music go to https://www.reverbnation.com/thekorymontgomeryband
URL:https://shakedownbarvail.com/event/kory-montgomery-2/
LOCATION:Shakedown Bar Vail\, 304 Bridge Street\, Vail\, CO\, 81657\, United States
CATEGORIES:Aprés,Events
ATTACH;FMTTYPE=image/jpeg:https://shakedownbarvail.com/wp-content/uploads/2018/12/Kory.jpg
END:VEVENT
BEGIN:VEVENT
DTSTART;TZID=America/Denver:20181222T153000
DTEND;TZID=America/Denver:20181222T203000
DTSTAMP:20260422T163430
CREATED:20181209T223223Z
LAST-MODIFIED:20181211T224532Z
UID:2487-1545492600-1545510600@shakedownbarvail.com
SUMMARY:3:30 PM - Scott Rednor and Rob Eaton Jr. Acoustic Duo
DESCRIPTION:Doors: 3:30 pm Show: 4:30 pm \nCome hear two of Colorado’s finest guitarists playing their interpretations of all of your favorite classic songs! Vocal harmonies\, rhythmic looping\, & duel guitar leads make this an exciting acoustic duo!
URL:https://shakedownbarvail.com/event/scott-rednor-and-rob-eaton-jr-acoustic-duo-12/
LOCATION:Shakedown Bar Vail\, 304 Bridge Street\, Vail\, CO\, 81657\, United States
CATEGORIES:Aprés,Events
END:VEVENT
END:VCALENDAR