BEGIN:VCALENDAR
VERSION:2.0
PRODID:-//Shakedown Bar - ECPv6.15.14//NONSGML v1.0//EN
CALSCALE:GREGORIAN
METHOD:PUBLISH
X-ORIGINAL-URL:https://shakedownbarvail.com
X-WR-CALDESC:Events for Shakedown Bar
REFRESH-INTERVAL;VALUE=DURATION:PT1H
X-Robots-Tag:noindex
X-PUBLISHED-TTL:PT1H
BEGIN:VTIMEZONE
TZID:America/Denver
BEGIN:DAYLIGHT
TZOFFSETFROM:-0700
TZOFFSETTO:-0600
TZNAME:MDT
DTSTART:20250309T090000
END:DAYLIGHT
BEGIN:STANDARD
TZOFFSETFROM:-0600
TZOFFSETTO:-0700
TZNAME:MST
DTSTART:20251102T080000
END:STANDARD
BEGIN:DAYLIGHT
TZOFFSETFROM:-0700
TZOFFSETTO:-0600
TZNAME:MDT
DTSTART:20260308T090000
END:DAYLIGHT
BEGIN:STANDARD
TZOFFSETFROM:-0600
TZOFFSETTO:-0700
TZNAME:MST
DTSTART:20261101T080000
END:STANDARD
BEGIN:DAYLIGHT
TZOFFSETFROM:-0700
TZOFFSETTO:-0600
TZNAME:MDT
DTSTART:20270314T090000
END:DAYLIGHT
BEGIN:STANDARD
TZOFFSETFROM:-0600
TZOFFSETTO:-0700
TZNAME:MST
DTSTART:20271107T080000
END:STANDARD
END:VTIMEZONE
BEGIN:VEVENT
DTSTART;TZID=America/Denver:20260325T160000
DTEND;TZID=America/Denver:20260325T200000
DTSTAMP:20260420T054930
CREATED:20260111T223101Z
LAST-MODIFIED:20260302T214212Z
UID:10764-1774454400-1774468800@shakedownbarvail.com
SUMMARY:Quadrasonic
DESCRIPTION:Quadrasonic \n*Doors open at listed event time\, live music typically starts 60-90 minutes after doors. End times are estimates.
URL:https://shakedownbarvail.com/event/apres-tba-13/
LOCATION:Shakedown Bar 304 Bridge St\, Vail\, CO  81657\, United States\, Shakedown Bar 304 Bridge St\, Vail\, CO 81657\, United States
CATEGORIES:Aprés
ORGANIZER;CN="Shakedown Presents":MAILTO:info@shakedownbarvail.com
END:VEVENT
BEGIN:VEVENT
DTSTART;TZID=America/Denver:20260326T160000
DTEND;TZID=America/Denver:20260326T200000
DTSTAMP:20260420T054930
CREATED:20260111T223207Z
LAST-MODIFIED:20260326T194155Z
UID:10768-1774540800-1774555200@shakedownbarvail.com
SUMMARY:Three Guitars\, Three Voices - Scott Rednor\, Alex Koford\, Scott Law
DESCRIPTION:Scott Rednor\, Alex Koford\, Scott Law \nScott Rednor – Guitars/vocals  \nAlex Koford – Guitar/vocals \nScott Law – Guitar/vocals \n*Doors open at listed event time\, live music typically starts 60-90 minutes after doors. End times are estimates.
URL:https://shakedownbarvail.com/event/scott-rednor-apres-74/
LOCATION:Shakedown Bar 304 Bridge St\, Vail\, CO  81657\, United States\, Shakedown Bar 304 Bridge St\, Vail\, CO 81657\, United States
CATEGORIES:Aprés
ORGANIZER;CN="Shakedown Presents":MAILTO:info@shakedownbarvail.com
END:VEVENT
BEGIN:VEVENT
DTSTART;TZID=America/Denver:20260327T160000
DTEND;TZID=America/Denver:20260327T200000
DTSTAMP:20260420T054930
CREATED:20260111T223526Z
LAST-MODIFIED:20260326T194319Z
UID:10774-1774627200-1774641600@shakedownbarvail.com
SUMMARY:Three Guitars\, Three Voices - Scott Rednor\, Alex Koford\, Scott Law
DESCRIPTION:Scott Rednor\, Alex Koford\, Scott Law \nScott Rednor – Guitars/vocals  \nAlex Koford – Guitar/vocals \nScott Law – Guitar/vocals \n*Doors open at listed event time\, live music typically starts 60-90 minutes after doors. End times are estimates.
URL:https://shakedownbarvail.com/event/scott-rednor-apres-75/
LOCATION:Shakedown Bar 304 Bridge St\, Vail\, CO  81657\, United States\, Shakedown Bar 304 Bridge St\, Vail\, CO 81657\, United States
CATEGORIES:Aprés
ORGANIZER;CN="Shakedown Presents":MAILTO:info@shakedownbarvail.com
END:VEVENT
BEGIN:VEVENT
DTSTART;TZID=America/Denver:20260328T160000
DTEND;TZID=America/Denver:20260328T200000
DTSTAMP:20260420T054930
CREATED:20260111T223859Z
LAST-MODIFIED:20260111T223859Z
UID:10778-1774713600-1774728000@shakedownbarvail.com
SUMMARY:Lucas Parker and Jessica Paige Apres
DESCRIPTION:Lucas Parker and Jessica Paige \nLucas Parker – Guitar/vocals \nJess Paige – Guitar/vocals \n*Doors open at listed event time\, live music typically starts 60-90 minutes after doors. End times are estimates.
URL:https://shakedownbarvail.com/event/lucas-parker-and-jessica-paige-apres-7/
LOCATION:Shakedown Bar 304 Bridge St\, Vail\, CO  81657\, United States\, Shakedown Bar 304 Bridge St\, Vail\, CO 81657\, United States
CATEGORIES:Aprés
ORGANIZER;CN="Shakedown Presents":MAILTO:info@shakedownbarvail.com
END:VEVENT
BEGIN:VEVENT
DTSTART;TZID=America/Denver:20260403T160000
DTEND;TZID=America/Denver:20260403T200000
DTSTAMP:20260420T054930
CREATED:20260302T214834Z
LAST-MODIFIED:20260302T214834Z
UID:10823-1775232000-1775246400@shakedownbarvail.com
SUMMARY:Scott Rednor Apres
DESCRIPTION:Scott Rednor Apres \nScott Rednor – Guitars/vocals  \n*Doors open at listed event time\, live music typically starts 60-90 minutes after doors. End times are estimates.
URL:https://shakedownbarvail.com/event/scott-rednor-apres-76/
LOCATION:Shakedown Bar 304 Bridge St\, Vail\, CO  81657\, United States\, Shakedown Bar 304 Bridge St\, Vail\, CO 81657\, United States
CATEGORIES:Aprés
ORGANIZER;CN="Shakedown Presents":MAILTO:info@shakedownbarvail.com
END:VEVENT
BEGIN:VEVENT
DTSTART;TZID=America/Denver:20260404T180000
DTEND;TZID=America/Denver:20260404T200000
DTSTAMP:20260420T054930
CREATED:20260302T215009Z
LAST-MODIFIED:20260404T235219Z
UID:10827-1775325600-1775332800@shakedownbarvail.com
SUMMARY:Dave Tucker Apres
DESCRIPTION:Dave Tucker \nDave Tucker – Guitar/vocals \n  \n*Doors open at listed event time\, live music typically starts 60-90 minutes after doors. End times are estimates.
URL:https://shakedownbarvail.com/event/dave-tucker-apres-4/
LOCATION:Shakedown Bar 304 Bridge St\, Vail\, CO  81657\, United States\, Shakedown Bar 304 Bridge St\, Vail\, CO 81657\, United States
CATEGORIES:Aprés
ORGANIZER;CN="Shakedown Presents":MAILTO:info@shakedownbarvail.com
END:VEVENT
BEGIN:VEVENT
DTSTART;TZID=America/Denver:20260410T180000
DTEND;TZID=America/Denver:20260410T200000
DTSTAMP:20260420T054930
CREATED:20260302T215443Z
LAST-MODIFIED:20260404T235806Z
UID:10841-1775844000-1775851200@shakedownbarvail.com
SUMMARY:Lucas Parker and Jessica Paige Apres
DESCRIPTION:Lucas Parker and Jessica Paige \nLucas Parker – Guitar/vocals \nJess Paige – Guitar/vocals \n*Doors open at listed event time\, live music typically starts 60-90 minutes after doors. End times are estimates.
URL:https://shakedownbarvail.com/event/lucas-parker-and-jessica-paige-apres-8/
LOCATION:Shakedown Bar 304 Bridge St\, Vail\, CO  81657\, United States\, Shakedown Bar 304 Bridge St\, Vail\, CO 81657\, United States
CATEGORIES:Aprés
ORGANIZER;CN="Shakedown Presents":MAILTO:info@shakedownbarvail.com
END:VEVENT
BEGIN:VEVENT
DTSTART;TZID=America/Denver:20260411T140000
DTEND;TZID=America/Denver:20260411T170000
DTSTAMP:20260420T054930
CREATED:20260310T191051Z
LAST-MODIFIED:20260404T235917Z
UID:10855-1775916000-1775926800@shakedownbarvail.com
SUMMARY:Private Party
DESCRIPTION:*Doors open at listed event time\, live music typically starts 60-90 minutes after doors. End times are estimates.
URL:https://shakedownbarvail.com/event/tba-75/
LOCATION:Shakedown Bar 304 Bridge St\, Vail\, CO  81657\, United States\, Shakedown Bar 304 Bridge St\, Vail\, CO 81657\, United States
CATEGORIES:Aprés
ORGANIZER;CN="Shakedown Presents":MAILTO:info@shakedownbarvail.com
END:VEVENT
END:VCALENDAR