BEGIN:VCALENDAR
VERSION:2.0
PRODID:-//Shakedown Bar - ECPv6.15.14//NONSGML v1.0//EN
CALSCALE:GREGORIAN
METHOD:PUBLISH
X-WR-CALNAME:Shakedown Bar
X-ORIGINAL-URL:https://shakedownbarvail.com
X-WR-CALDESC:Events for Shakedown Bar
REFRESH-INTERVAL;VALUE=DURATION:PT1H
X-Robots-Tag:noindex
X-PUBLISHED-TTL:PT1H
BEGIN:VTIMEZONE
TZID:America/Denver
BEGIN:DAYLIGHT
TZOFFSETFROM:-0700
TZOFFSETTO:-0600
TZNAME:MDT
DTSTART:20250309T090000
END:DAYLIGHT
BEGIN:STANDARD
TZOFFSETFROM:-0600
TZOFFSETTO:-0700
TZNAME:MST
DTSTART:20251102T080000
END:STANDARD
BEGIN:DAYLIGHT
TZOFFSETFROM:-0700
TZOFFSETTO:-0600
TZNAME:MDT
DTSTART:20260308T090000
END:DAYLIGHT
BEGIN:STANDARD
TZOFFSETFROM:-0600
TZOFFSETTO:-0700
TZNAME:MST
DTSTART:20261101T080000
END:STANDARD
BEGIN:DAYLIGHT
TZOFFSETFROM:-0700
TZOFFSETTO:-0600
TZNAME:MDT
DTSTART:20270314T090000
END:DAYLIGHT
BEGIN:STANDARD
TZOFFSETFROM:-0600
TZOFFSETTO:-0700
TZNAME:MST
DTSTART:20271107T080000
END:STANDARD
END:VTIMEZONE
BEGIN:VEVENT
DTSTART;TZID=America/Denver:20260320T160000
DTEND;TZID=America/Denver:20260320T200000
DTSTAMP:20260420T171746
CREATED:20260111T222317Z
LAST-MODIFIED:20260111T222331Z
UID:10750-1774022400-1774036800@shakedownbarvail.com
SUMMARY:Scott Rednor Apres
DESCRIPTION:Scott Rednor Apres \nScott Rednor – Guitars/vocals  \n*Doors open at listed event time\, live music typically starts 60-90 minutes after doors. End times are estimates.
URL:https://shakedownbarvail.com/event/scott-rednor-apres-73/
LOCATION:Shakedown Bar 304 Bridge St\, Vail\, CO  81657\, United States\, Shakedown Bar 304 Bridge St\, Vail\, CO 81657\, United States
CATEGORIES:Aprés
ORGANIZER;CN="Shakedown Presents":MAILTO:info@shakedownbarvail.com
END:VEVENT
BEGIN:VEVENT
DTSTART;TZID=America/Denver:20260319T160000
DTEND;TZID=America/Denver:20260319T200000
DTSTAMP:20260420T171746
CREATED:20260111T222047Z
LAST-MODIFIED:20260111T222047Z
UID:10746-1773936000-1773950400@shakedownbarvail.com
SUMMARY:Apres TBA
DESCRIPTION:Apres TBA \n*Doors open at listed event time\, live music typically starts 60-90 minutes after doors. End times are estimates.
URL:https://shakedownbarvail.com/event/apres-tba-12/
LOCATION:Shakedown Bar 304 Bridge St\, Vail\, CO  81657\, United States\, Shakedown Bar 304 Bridge St\, Vail\, CO 81657\, United States
CATEGORIES:Aprés
ORGANIZER;CN="Shakedown Presents":MAILTO:info@shakedownbarvail.com
END:VEVENT
BEGIN:VEVENT
DTSTART;TZID=America/Denver:20260318T160000
DTEND;TZID=America/Denver:20260318T200000
DTSTAMP:20260420T171746
CREATED:20260111T221913Z
LAST-MODIFIED:20260302T213807Z
UID:10742-1773849600-1773864000@shakedownbarvail.com
SUMMARY:CLOSED FOR PRIVATE EVENT
DESCRIPTION:CLOSED FOR PRIVATE EVENT \n  \n*Doors open at listed event time\, live music typically starts 60-90 minutes after doors. End times are estimates
URL:https://shakedownbarvail.com/event/kory-montgomery-apres-17/
LOCATION:Shakedown Bar 304 Bridge St\, Vail\, CO  81657\, United States\, Shakedown Bar 304 Bridge St\, Vail\, CO 81657\, United States
CATEGORIES:Aprés
ORGANIZER;CN="Shakedown Presents":MAILTO:info@shakedownbarvail.com
END:VEVENT
BEGIN:VEVENT
DTSTART;TZID=America/Denver:20260315T160000
DTEND;TZID=America/Denver:20260315T200000
DTSTAMP:20260420T171746
CREATED:20260111T221622Z
LAST-MODIFIED:20260111T221622Z
UID:10734-1773590400-1773604800@shakedownbarvail.com
SUMMARY:Scott Rednor Band Apres
DESCRIPTION:Scott Rednor Band Apres \nScott Rednor – Guitars/vocals \nKramer Kelling – Bass/vocals \nBrian Loftus – Drums \nTommy Shugart – Keyboards \n  \n*Doors open at listed event time\, live music typically starts 60-90 minutes after doors. End times are estimates.
URL:https://shakedownbarvail.com/event/scott-rednor-band-apres-24/
LOCATION:Shakedown Bar 304 Bridge St\, Vail\, CO  81657\, United States\, Shakedown Bar 304 Bridge St\, Vail\, CO 81657\, United States
CATEGORIES:Aprés,Full Band
ORGANIZER;CN="Shakedown Presents":MAILTO:info@shakedownbarvail.com
END:VEVENT
BEGIN:VEVENT
DTSTART;TZID=America/Denver:20260314T160000
DTEND;TZID=America/Denver:20260314T200000
DTSTAMP:20260420T171746
CREATED:20260111T221515Z
LAST-MODIFIED:20260111T221515Z
UID:10730-1773504000-1773518400@shakedownbarvail.com
SUMMARY:Scott Rednor Band Apres
DESCRIPTION:Scott Rednor Band Apres \nScott Rednor – Guitars/vocals \nKramer Kelling – Bass/vocals \nBrian Loftus – Drums \nTommy Shugart – Keyboards \n  \n*Doors open at listed event time\, live music typically starts 60-90 minutes after doors. End times are estimates.
URL:https://shakedownbarvail.com/event/scott-rednor-band-apres-23/
LOCATION:Shakedown Bar 304 Bridge St\, Vail\, CO  81657\, United States\, Shakedown Bar 304 Bridge St\, Vail\, CO 81657\, United States
CATEGORIES:Aprés,Full Band
ORGANIZER;CN="Shakedown Presents":MAILTO:info@shakedownbarvail.com
END:VEVENT
BEGIN:VEVENT
DTSTART;TZID=America/Denver:20260313T160000
DTEND;TZID=America/Denver:20260313T200000
DTSTAMP:20260420T171746
CREATED:20260111T221425Z
LAST-MODIFIED:20260111T221425Z
UID:10726-1773417600-1773432000@shakedownbarvail.com
SUMMARY:Scott Rednor Apres
DESCRIPTION:Scott Rednor Apres \nScott Rednor – Guitars/vocals  \n*Doors open at listed event time\, live music typically starts 60-90 minutes after doors. End times are estimates.
URL:https://shakedownbarvail.com/event/scott-rednor-apres-72/
LOCATION:Shakedown Bar 304 Bridge St\, Vail\, CO  81657\, United States\, Shakedown Bar 304 Bridge St\, Vail\, CO 81657\, United States
CATEGORIES:Aprés
ORGANIZER;CN="Shakedown Presents":MAILTO:info@shakedownbarvail.com
END:VEVENT
BEGIN:VEVENT
DTSTART;TZID=America/Denver:20260312T160000
DTEND;TZID=America/Denver:20260312T200000
DTSTAMP:20260420T171746
CREATED:20260111T221316Z
LAST-MODIFIED:20260111T221316Z
UID:10722-1773331200-1773345600@shakedownbarvail.com
SUMMARY:Scott Rednor Apres
DESCRIPTION:Scott Rednor Apres \nScott Rednor – Guitars/vocals  \n*Doors open at listed event time\, live music typically starts 60-90 minutes after doors. End times are estimates.
URL:https://shakedownbarvail.com/event/scott-rednor-apres-71/
LOCATION:Shakedown Bar 304 Bridge St\, Vail\, CO  81657\, United States\, Shakedown Bar 304 Bridge St\, Vail\, CO 81657\, United States
CATEGORIES:Aprés
ORGANIZER;CN="Shakedown Presents":MAILTO:info@shakedownbarvail.com
END:VEVENT
BEGIN:VEVENT
DTSTART;TZID=America/Denver:20260311T160000
DTEND;TZID=America/Denver:20260311T200000
DTSTAMP:20260420T171746
CREATED:20260111T221131Z
LAST-MODIFIED:20260111T221131Z
UID:10718-1773244800-1773259200@shakedownbarvail.com
SUMMARY:Dave Tucker Apres
DESCRIPTION:Dave Tucker \nDave Tucker – Guitar/vocals \n  \n*Doors open at listed event time\, live music typically starts 60-90 minutes after doors. End times are estimates.
URL:https://shakedownbarvail.com/event/dave-tucker-apres-2/
LOCATION:Shakedown Bar 304 Bridge St\, Vail\, CO  81657\, United States\, Shakedown Bar 304 Bridge St\, Vail\, CO 81657\, United States
CATEGORIES:Aprés
ORGANIZER;CN="Shakedown Presents":MAILTO:info@shakedownbarvail.com
END:VEVENT
BEGIN:VEVENT
DTSTART;TZID=America/Denver:20260308T160000
DTEND;TZID=America/Denver:20260308T200000
DTSTAMP:20260420T171746
CREATED:20260111T220905Z
LAST-MODIFIED:20260111T220905Z
UID:10710-1772985600-1773000000@shakedownbarvail.com
SUMMARY:Scott Rednor Band Apres
DESCRIPTION:Scott Rednor Band Apres \nScott Rednor – Guitars/vocals \nKramer Kelling – Bass/vocals \nBrian Loftus – Drums \nTommy Shugart – Keyboards \n  \n*Doors open at listed event time\, live music typically starts 60-90 minutes after doors. End times are estimates.
URL:https://shakedownbarvail.com/event/scott-rednor-band-apres-22/
LOCATION:Shakedown Bar 304 Bridge St\, Vail\, CO  81657\, United States\, Shakedown Bar 304 Bridge St\, Vail\, CO 81657\, United States
CATEGORIES:Aprés,Full Band
ORGANIZER;CN="Shakedown Presents":MAILTO:info@shakedownbarvail.com
END:VEVENT
BEGIN:VEVENT
DTSTART;TZID=America/Denver:20260307T160000
DTEND;TZID=America/Denver:20260307T200000
DTSTAMP:20260420T171746
CREATED:20260111T220804Z
LAST-MODIFIED:20260111T220804Z
UID:10706-1772899200-1772913600@shakedownbarvail.com
SUMMARY:Scott Rednor Band Apres
DESCRIPTION:Scott Rednor Band Apres \nScott Rednor – Guitars/vocals \nKramer Kelling – Bass/vocals \nBrian Loftus – Drums \nTommy Shugart – Keyboards \n  \n*Doors open at listed event time\, live music typically starts 60-90 minutes after doors. End times are estimates.
URL:https://shakedownbarvail.com/event/scott-rednor-band-apres-21/
LOCATION:Shakedown Bar 304 Bridge St\, Vail\, CO  81657\, United States\, Shakedown Bar 304 Bridge St\, Vail\, CO 81657\, United States
CATEGORIES:Aprés,Full Band
ORGANIZER;CN="Shakedown Presents":MAILTO:info@shakedownbarvail.com
END:VEVENT
BEGIN:VEVENT
DTSTART;TZID=America/Denver:20260306T160000
DTEND;TZID=America/Denver:20260306T200000
DTSTAMP:20260420T171746
CREATED:20260111T220715Z
LAST-MODIFIED:20260111T220715Z
UID:10702-1772812800-1772827200@shakedownbarvail.com
SUMMARY:Scott Rednor Apres
DESCRIPTION:Scott Rednor Apres \nScott Rednor – Guitars/vocals  \n*Doors open at listed event time\, live music typically starts 60-90 minutes after doors. End times are estimates.
URL:https://shakedownbarvail.com/event/scott-rednor-apres-70/
LOCATION:Shakedown Bar 304 Bridge St\, Vail\, CO  81657\, United States\, Shakedown Bar 304 Bridge St\, Vail\, CO 81657\, United States
CATEGORIES:Aprés
ORGANIZER;CN="Shakedown Presents":MAILTO:info@shakedownbarvail.com
END:VEVENT
BEGIN:VEVENT
DTSTART;TZID=America/Denver:20260305T160000
DTEND;TZID=America/Denver:20260305T200000
DTSTAMP:20260420T171746
CREATED:20260111T220620Z
LAST-MODIFIED:20260111T220620Z
UID:10698-1772726400-1772740800@shakedownbarvail.com
SUMMARY:Kory Montgomery Apres
DESCRIPTION:Kory Montgomery Apres \nKory Montgomery – Guitar/vocals \n  \n*Doors open at listed event time\, live music typically starts 60-90 minutes after doors. End times are estimates
URL:https://shakedownbarvail.com/event/kory-montgomery-apres-16/
LOCATION:Shakedown Bar 304 Bridge St\, Vail\, CO  81657\, United States\, Shakedown Bar 304 Bridge St\, Vail\, CO 81657\, United States
CATEGORIES:Aprés
ORGANIZER;CN="Shakedown Presents":MAILTO:info@shakedownbarvail.com
END:VEVENT
BEGIN:VEVENT
DTSTART;TZID=America/Denver:20260304T160000
DTEND;TZID=America/Denver:20260304T200000
DTSTAMP:20260420T171746
CREATED:20260111T220540Z
LAST-MODIFIED:20260111T220540Z
UID:10694-1772640000-1772654400@shakedownbarvail.com
SUMMARY:Kory Montgomery Apres
DESCRIPTION:Kory Montgomery Apres \nKory Montgomery – Guitar/vocals \n  \n*Doors open at listed event time\, live music typically starts 60-90 minutes after doors. End times are estimates
URL:https://shakedownbarvail.com/event/kory-montgomery-apres-15/
LOCATION:Shakedown Bar 304 Bridge St\, Vail\, CO  81657\, United States\, Shakedown Bar 304 Bridge St\, Vail\, CO 81657\, United States
CATEGORIES:Aprés
ORGANIZER;CN="Shakedown Presents":MAILTO:info@shakedownbarvail.com
END:VEVENT
BEGIN:VEVENT
DTSTART;TZID=America/Denver:20260301T160000
DTEND;TZID=America/Denver:20260301T200000
DTSTAMP:20260420T171746
CREATED:20260111T215925Z
LAST-MODIFIED:20260111T215925Z
UID:10684-1772380800-1772395200@shakedownbarvail.com
SUMMARY:Scott Rednor Band Apres
DESCRIPTION:Scott Rednor Band Apres \nScott Rednor – Guitars/vocals \nKramer Kelling – Bass/vocals \nBrian Loftus – Drums \nTommy Shugart – Keyboards \n  \n*Doors open at listed event time\, live music typically starts 60-90 minutes after doors. End times are estimates.
URL:https://shakedownbarvail.com/event/scott-rednor-band-apres-20/
LOCATION:Shakedown Bar 304 Bridge St\, Vail\, CO  81657\, United States\, Shakedown Bar 304 Bridge St\, Vail\, CO 81657\, United States
CATEGORIES:Aprés,Full Band
ORGANIZER;CN="Shakedown Presents":MAILTO:info@shakedownbarvail.com
END:VEVENT
BEGIN:VEVENT
DTSTART;TZID=America/Denver:20260228T160000
DTEND;TZID=America/Denver:20260228T200000
DTSTAMP:20260420T171746
CREATED:20260105T211239Z
LAST-MODIFIED:20260105T211239Z
UID:10659-1772294400-1772308800@shakedownbarvail.com
SUMMARY:Scott Rednor Band Apres
DESCRIPTION:Scott Rednor Band Apres \nScott Rednor – Guitars/vocals \nKramer Kelling – Bass/vocals \nBrian Loftus – Drums \nTommy Shugart – Keyboards \n  \n*Doors open at listed event time\, live music typically starts 60-90 minutes after doors. End times are estimates.
URL:https://shakedownbarvail.com/event/scott-rednor-band-apres-19/
LOCATION:Shakedown Bar 304 Bridge St\, Vail\, CO  81657\, United States\, Shakedown Bar 304 Bridge St\, Vail\, CO 81657\, United States
CATEGORIES:Aprés,Full Band
ORGANIZER;CN="Shakedown Presents":MAILTO:info@shakedownbarvail.com
END:VEVENT
BEGIN:VEVENT
DTSTART;TZID=America/Denver:20260227T160000
DTEND;TZID=America/Denver:20260227T200000
DTSTAMP:20260420T171746
CREATED:20260105T211014Z
LAST-MODIFIED:20260105T211014Z
UID:10654-1772208000-1772222400@shakedownbarvail.com
SUMMARY:Scott Rednor Apres
DESCRIPTION:Scott Rednor Apres \nScott Rednor – Guitars/vocals  \n*Doors open at listed event time\, live music typically starts 60-90 minutes after doors. End times are estimates.
URL:https://shakedownbarvail.com/event/scott-rednor-apres-68/
LOCATION:Shakedown Bar 304 Bridge St\, Vail\, CO  81657\, United States\, Shakedown Bar 304 Bridge St\, Vail\, CO 81657\, United States
CATEGORIES:Aprés
ORGANIZER;CN="Shakedown Presents":MAILTO:info@shakedownbarvail.com
END:VEVENT
BEGIN:VEVENT
DTSTART;TZID=America/Denver:20260226T160000
DTEND;TZID=America/Denver:20260226T200000
DTSTAMP:20260420T171746
CREATED:20260105T210909Z
LAST-MODIFIED:20260105T210909Z
UID:10649-1772121600-1772136000@shakedownbarvail.com
SUMMARY:Scott Rednor Apres
DESCRIPTION:Scott Rednor Apres \nScott Rednor – Guitars/vocals  \n*Doors open at listed event time\, live music typically starts 60-90 minutes after doors. End times are estimates.
URL:https://shakedownbarvail.com/event/scott-rednor-apres-67/
LOCATION:Shakedown Bar 304 Bridge St\, Vail\, CO  81657\, United States\, Shakedown Bar 304 Bridge St\, Vail\, CO 81657\, United States
CATEGORIES:Aprés
ORGANIZER;CN="Shakedown Presents":MAILTO:info@shakedownbarvail.com
END:VEVENT
BEGIN:VEVENT
DTSTART;TZID=America/Denver:20260225T160000
DTEND;TZID=America/Denver:20260225T200000
DTSTAMP:20260420T171746
CREATED:20260105T210753Z
LAST-MODIFIED:20260105T210753Z
UID:10645-1772035200-1772049600@shakedownbarvail.com
SUMMARY:Taylor Scott Apres
DESCRIPTION:Taylor Scott – Guitar/vocals \n*Doors open at listed event time\, live music typically starts 60-90 minutes after doors. End times are estimates.
URL:https://shakedownbarvail.com/event/taylor-scott-apres-13/
LOCATION:Shakedown Bar 304 Bridge St\, Vail\, CO  81657\, United States\, Shakedown Bar 304 Bridge St\, Vail\, CO 81657\, United States
CATEGORIES:Aprés
ORGANIZER;CN="Shakedown Presents":MAILTO:info@shakedownbarvail.com
END:VEVENT
BEGIN:VEVENT
DTSTART;TZID=America/Denver:20260222T160000
DTEND;TZID=America/Denver:20260222T200000
DTSTAMP:20260420T171746
CREATED:20260105T210534Z
LAST-MODIFIED:20260105T210534Z
UID:10637-1771776000-1771790400@shakedownbarvail.com
SUMMARY:Scott Rednor Band Apres
DESCRIPTION:Scott Rednor Band Apres \nScott Rednor – Guitars/vocals \nKramer Kelling – Bass/vocals \nBrian Loftus – Drums \nTommy Shugart – Keyboards \n  \n*Doors open at listed event time\, live music typically starts 60-90 minutes after doors. End times are estimates.
URL:https://shakedownbarvail.com/event/scott-rednor-band-apres-18/
LOCATION:Shakedown Bar 304 Bridge St\, Vail\, CO  81657\, United States\, Shakedown Bar 304 Bridge St\, Vail\, CO 81657\, United States
CATEGORIES:Aprés,Full Band
ORGANIZER;CN="Shakedown Presents":MAILTO:info@shakedownbarvail.com
END:VEVENT
BEGIN:VEVENT
DTSTART;TZID=America/Denver:20260221T160000
DTEND;TZID=America/Denver:20260221T200000
DTSTAMP:20260420T171746
CREATED:20260105T210403Z
LAST-MODIFIED:20260105T210403Z
UID:10633-1771689600-1771704000@shakedownbarvail.com
SUMMARY:Scott Rednor Band Apres
DESCRIPTION:Scott Rednor Band Apres \nScott Rednor – Guitars/vocals \nKramer Kelling – Bass/vocals \nBrian Loftus – Drums \nTommy Shugart – Keyboards \n  \n*Doors open at listed event time\, live music typically starts 60-90 minutes after doors. End times are estimates.
URL:https://shakedownbarvail.com/event/scott-rednor-band-apres-17/
LOCATION:Shakedown Bar 304 Bridge St\, Vail\, CO  81657\, United States\, Shakedown Bar 304 Bridge St\, Vail\, CO 81657\, United States
CATEGORIES:Aprés,Full Band
ORGANIZER;CN="Shakedown Presents":MAILTO:info@shakedownbarvail.com
END:VEVENT
BEGIN:VEVENT
DTSTART;TZID=America/Denver:20260220T160000
DTEND;TZID=America/Denver:20260220T200000
DTSTAMP:20260420T171746
CREATED:20260105T210217Z
LAST-MODIFIED:20260105T210217Z
UID:10629-1771603200-1771617600@shakedownbarvail.com
SUMMARY:Scott Rednor Apres
DESCRIPTION:Scott Rednor Apres \nScott Rednor – Guitars/vocals  \n*Doors open at listed event time\, live music typically starts 60-90 minutes after doors. End times are estimates.
URL:https://shakedownbarvail.com/event/scott-rednor-apres-66/
LOCATION:Shakedown Bar 304 Bridge St\, Vail\, CO  81657\, United States\, Shakedown Bar 304 Bridge St\, Vail\, CO 81657\, United States
CATEGORIES:Aprés
ORGANIZER;CN="Shakedown Presents":MAILTO:info@shakedownbarvail.com
END:VEVENT
BEGIN:VEVENT
DTSTART;TZID=America/Denver:20260219T160000
DTEND;TZID=America/Denver:20260219T200000
DTSTAMP:20260420T171746
CREATED:20260105T205945Z
LAST-MODIFIED:20260105T205945Z
UID:10625-1771516800-1771531200@shakedownbarvail.com
SUMMARY:Kory Montgomery Apres
DESCRIPTION:Kory Montgomery Apres \nKory Montgomery – Guitar/vocals \n  \n*Doors open at listed event time\, live music typically starts 60-90 minutes after doors. End times are estimates
URL:https://shakedownbarvail.com/event/kory-montgomery-apres-14/
LOCATION:Shakedown Bar 304 Bridge St\, Vail\, CO  81657\, United States\, Shakedown Bar 304 Bridge St\, Vail\, CO 81657\, United States
CATEGORIES:Aprés
ORGANIZER;CN="Shakedown Presents":MAILTO:info@shakedownbarvail.com
END:VEVENT
BEGIN:VEVENT
DTSTART;TZID=America/Denver:20260218T160000
DTEND;TZID=America/Denver:20260218T200000
DTSTAMP:20260420T171746
CREATED:20260105T205822Z
LAST-MODIFIED:20260105T205822Z
UID:10621-1771430400-1771444800@shakedownbarvail.com
SUMMARY:Taylor Scott Apres
DESCRIPTION:Taylor Scott – Guitar/vocals \n*Doors open at listed event time\, live music typically starts 60-90 minutes after doors. End times are estimates.
URL:https://shakedownbarvail.com/event/taylor-scott-apres-12/
LOCATION:Shakedown Bar 304 Bridge St\, Vail\, CO  81657\, United States\, Shakedown Bar 304 Bridge St\, Vail\, CO 81657\, United States
CATEGORIES:Aprés
ORGANIZER;CN="Shakedown Presents":MAILTO:info@shakedownbarvail.com
END:VEVENT
BEGIN:VEVENT
DTSTART;TZID=America/Denver:20260215T160000
DTEND;TZID=America/Denver:20260215T200000
DTSTAMP:20260420T171746
CREATED:20260105T205508Z
LAST-MODIFIED:20260105T205508Z
UID:10613-1771171200-1771185600@shakedownbarvail.com
SUMMARY:Scott Rednor Band Apres
DESCRIPTION:Scott Rednor Band Apres \nScott Rednor – Guitars/vocals \nKramer Kelling – Bass/vocals \nBrian Loftus – Drums \nTommy Shugart – Keyboards \n  \n*Doors open at listed event time\, live music typically starts 60-90 minutes after doors. End times are estimates.
URL:https://shakedownbarvail.com/event/scott-rednor-band-apres-16/
LOCATION:Shakedown Bar 304 Bridge St\, Vail\, CO  81657\, United States\, Shakedown Bar 304 Bridge St\, Vail\, CO 81657\, United States
CATEGORIES:Aprés,Full Band
ORGANIZER;CN="Shakedown Presents":MAILTO:info@shakedownbarvail.com
END:VEVENT
BEGIN:VEVENT
DTSTART;TZID=America/Denver:20260214T160000
DTEND;TZID=America/Denver:20260214T200000
DTSTAMP:20260420T171746
CREATED:20260105T205324Z
LAST-MODIFIED:20260105T205324Z
UID:10609-1771084800-1771099200@shakedownbarvail.com
SUMMARY:Scott Rednor Band Apres
DESCRIPTION:Scott Rednor Band Apres \nScott Rednor – Guitars/vocals \nKramer Kelling – Bass/vocals \nBrian Loftus – Drums \nTommy Shugart – Keyboards \n  \n*Doors open at listed event time\, live music typically starts 60-90 minutes after doors. End times are estimates.
URL:https://shakedownbarvail.com/event/scott-rednor-band-apres-15/
LOCATION:Shakedown Bar 304 Bridge St\, Vail\, CO  81657\, United States\, Shakedown Bar 304 Bridge St\, Vail\, CO 81657\, United States
CATEGORIES:Aprés,Full Band
ORGANIZER;CN="Shakedown Presents":MAILTO:info@shakedownbarvail.com
END:VEVENT
BEGIN:VEVENT
DTSTART;TZID=America/Denver:20260213T160000
DTEND;TZID=America/Denver:20260213T200000
DTSTAMP:20260420T171746
CREATED:20260111T215010Z
LAST-MODIFIED:20260111T215010Z
UID:10678-1770998400-1771012800@shakedownbarvail.com
SUMMARY:Scott Rednor Apres
DESCRIPTION:Scott Rednor Apres \nScott Rednor – Guitars/vocals  \n*Doors open at listed event time\, live music typically starts 60-90 minutes after doors. End times are estimates.
URL:https://shakedownbarvail.com/event/scott-rednor-apres-69/
LOCATION:Shakedown Bar 304 Bridge St\, Vail\, CO  81657\, United States\, Shakedown Bar 304 Bridge St\, Vail\, CO 81657\, United States
CATEGORIES:Aprés
ORGANIZER;CN="Shakedown Presents":MAILTO:info@shakedownbarvail.com
END:VEVENT
BEGIN:VEVENT
DTSTART;TZID=America/Denver:20260213T160000
DTEND;TZID=America/Denver:20260213T200000
DTSTAMP:20260420T171746
CREATED:20260111T214708Z
LAST-MODIFIED:20260111T214708Z
UID:10676-1770998400-1771012800@shakedownbarvail.com
SUMMARY:Scott Rednor Apres
DESCRIPTION:Scott Rednor Apres \nScott Rednor – Guitars/vocals  \n*Doors open at listed event time\, live music typically starts 60-90 minutes after doors. End times are estimates.
URL:https://shakedownbarvail.com/event/scott-rednor-apres-50/
LOCATION:Shakedown Bar 304 Bridge St\, Vail\, CO  81657\, United States\, Shakedown Bar 304 Bridge St\, Vail\, CO 81657\, United States
CATEGORIES:Aprés
ORGANIZER;CN="Shakedown Presents":MAILTO:info@shakedownbarvail.com
END:VEVENT
BEGIN:VEVENT
DTSTART;TZID=America/Denver:20260212T160000
DTEND;TZID=America/Denver:20260212T200000
DTSTAMP:20260420T171746
CREATED:20260105T205200Z
LAST-MODIFIED:20260111T214601Z
UID:10605-1770912000-1770926400@shakedownbarvail.com
SUMMARY:Scott Rednor Apres
DESCRIPTION:Scott Rednor Apres \nScott Rednor – Guitars/vocals  \n*Doors open at listed event time\, live music typically starts 60-90 minutes after doors. End times are estimates.
URL:https://shakedownbarvail.com/event/scott-rednor-apres-65/
LOCATION:Shakedown Bar 304 Bridge St\, Vail\, CO  81657\, United States\, Shakedown Bar 304 Bridge St\, Vail\, CO 81657\, United States
CATEGORIES:Aprés
ORGANIZER;CN="Shakedown Presents":MAILTO:info@shakedownbarvail.com
END:VEVENT
BEGIN:VEVENT
DTSTART;TZID=America/Denver:20260211T160000
DTEND;TZID=America/Denver:20260211T200000
DTSTAMP:20260420T171746
CREATED:20260105T204933Z
LAST-MODIFIED:20260105T204933Z
UID:10597-1770825600-1770840000@shakedownbarvail.com
SUMMARY:Apres TBA
DESCRIPTION:Apres TBA \n\n*Doors open at listed event time\, live music typically starts 60-90 minutes after doors. End times are estimates.
URL:https://shakedownbarvail.com/event/apres-tba-11/
LOCATION:Shakedown Bar 304 Bridge St\, Vail\, CO  81657\, United States\, Shakedown Bar 304 Bridge St\, Vail\, CO 81657\, United States
CATEGORIES:Aprés
ORGANIZER;CN="Shakedown Presents":MAILTO:info@shakedownbarvail.com
END:VEVENT
BEGIN:VEVENT
DTSTART;TZID=America/Denver:20260207T160000
DTEND;TZID=America/Denver:20260207T200000
DTSTAMP:20260420T171746
CREATED:20260105T204115Z
LAST-MODIFIED:20260105T204115Z
UID:10585-1770480000-1770494400@shakedownbarvail.com
SUMMARY:Scott Rednor Band Apres
DESCRIPTION:Scott Rednor Band Apres \nScott Rednor – Guitars/vocals \nKramer Kelling – Bass/vocals \nBrian Loftus – Drums \nTommy Shugart – Keyboards \n  \n*Doors open at listed event time\, live music typically starts 60-90 minutes after doors. End times are estimates.
URL:https://shakedownbarvail.com/event/scott-rednor-band-apres-14/
LOCATION:Shakedown Bar 304 Bridge St\, Vail\, CO  81657\, United States\, Shakedown Bar 304 Bridge St\, Vail\, CO 81657\, United States
CATEGORIES:Aprés,Full Band
ORGANIZER;CN="Shakedown Presents":MAILTO:info@shakedownbarvail.com
END:VEVENT
END:VCALENDAR