BEGIN:VCALENDAR
VERSION:2.0
PRODID:-//Shakedown Bar - ECPv6.15.14//NONSGML v1.0//EN
CALSCALE:GREGORIAN
METHOD:PUBLISH
X-ORIGINAL-URL:https://shakedownbarvail.com
X-WR-CALDESC:Events for Shakedown Bar
REFRESH-INTERVAL;VALUE=DURATION:PT1H
X-Robots-Tag:noindex
X-PUBLISHED-TTL:PT1H
BEGIN:VTIMEZONE
TZID:America/Denver
BEGIN:DAYLIGHT
TZOFFSETFROM:-0700
TZOFFSETTO:-0600
TZNAME:MDT
DTSTART:20180311T090000
END:DAYLIGHT
BEGIN:STANDARD
TZOFFSETFROM:-0600
TZOFFSETTO:-0700
TZNAME:MST
DTSTART:20181104T080000
END:STANDARD
BEGIN:DAYLIGHT
TZOFFSETFROM:-0700
TZOFFSETTO:-0600
TZNAME:MDT
DTSTART:20190310T090000
END:DAYLIGHT
BEGIN:STANDARD
TZOFFSETFROM:-0600
TZOFFSETTO:-0700
TZNAME:MST
DTSTART:20191103T080000
END:STANDARD
BEGIN:DAYLIGHT
TZOFFSETFROM:-0700
TZOFFSETTO:-0600
TZNAME:MDT
DTSTART:20200308T090000
END:DAYLIGHT
BEGIN:STANDARD
TZOFFSETFROM:-0600
TZOFFSETTO:-0700
TZNAME:MST
DTSTART:20201101T080000
END:STANDARD
END:VTIMEZONE
BEGIN:VEVENT
DTSTART;TZID=America/Denver:20190411T160000
DTEND;TZID=America/Denver:20190411T203000
DTSTAMP:20260422T092252
CREATED:20190314T215133Z
LAST-MODIFIED:20190314T215133Z
UID:3332-1554998400-1555014600@shakedownbarvail.com
SUMMARY:4:00 PM — Scott Rednor and Rob Eaton Jr. Acoustic Duo
DESCRIPTION:Doors: 4:00 pm  Show: 4:30 pm \nCome hear two of Colorado’s finest guitarists playing their interpretations of all of your favorite classic songs! Vocal harmonies\, rhythmic looping\, & duel guitar leads make this an exciting acoustic duo!
URL:https://shakedownbarvail.com/event/400-pm-scott-rednor-and-rob-eaton-jr-acoustic-duo-7/
LOCATION:Shakedown Bar 304 Bridge St\, Vail\, CO  81657\, United States\, Shakedown Bar 304 Bridge St\, Vail\, CO 81657\, United States
CATEGORIES:Aprés,Events
END:VEVENT
BEGIN:VEVENT
DTSTART;TZID=America/Denver:20190404T160000
DTEND;TZID=America/Denver:20190404T203000
DTSTAMP:20260422T092252
CREATED:20190307T172742Z
LAST-MODIFIED:20190307T172742Z
UID:3303-1554393600-1554409800@shakedownbarvail.com
SUMMARY:4:00 PM — Scott Rednor and Rob Eaton Jr. Acoustic Duo
DESCRIPTION:Doors: 4:00 pm Show: 4:30 pm \nCome hear two of Colorado’s finest guitarists playing their interpretations of all of your favorite classic songs! Vocal harmonies\, rhythmic looping\, & duel guitar leads make this an exciting acoustic duo!
URL:https://shakedownbarvail.com/event/400-pm-scott-rednor-and-rob-eaton-jr-acoustic-duo-6/
LOCATION:Shakedown Bar 304 Bridge St\, Vail\, CO  81657\, United States\, Shakedown Bar 304 Bridge St\, Vail\, CO 81657\, United States
CATEGORIES:Aprés,Events
END:VEVENT
BEGIN:VEVENT
DTSTART;TZID=America/Denver:20190404T160000
DTEND;TZID=America/Denver:20190404T203000
DTSTAMP:20260422T092252
CREATED:20190307T172742Z
LAST-MODIFIED:20190307T172742Z
UID:3303-1554393600-1554409800@shakedownbarvail.com
SUMMARY:4:00 PM — Scott Rednor and Rob Eaton Jr. Acoustic Duo
DESCRIPTION:Doors: 4:00 pm Show: 4:30 pm \nCome hear two of Colorado’s finest guitarists playing their interpretations of all of your favorite classic songs! Vocal harmonies\, rhythmic looping\, & duel guitar leads make this an exciting acoustic duo!
URL:https://shakedownbarvail.com/event/400-pm-scott-rednor-and-rob-eaton-jr-acoustic-duo-6/
LOCATION:Shakedown Bar 304 Bridge St\, Vail\, CO  81657\, United States\, Shakedown Bar 304 Bridge St\, Vail\, CO 81657\, United States
CATEGORIES:Aprés,Events
END:VEVENT
BEGIN:VEVENT
DTSTART;TZID=America/Denver:20190404T160000
DTEND;TZID=America/Denver:20190404T203000
DTSTAMP:20260422T092252
CREATED:20190307T172742Z
LAST-MODIFIED:20190307T172742Z
UID:3303-1554393600-1554409800@shakedownbarvail.com
SUMMARY:4:00 PM — Scott Rednor and Rob Eaton Jr. Acoustic Duo
DESCRIPTION:Doors: 4:00 pm Show: 4:30 pm \nCome hear two of Colorado’s finest guitarists playing their interpretations of all of your favorite classic songs! Vocal harmonies\, rhythmic looping\, & duel guitar leads make this an exciting acoustic duo!
URL:https://shakedownbarvail.com/event/400-pm-scott-rednor-and-rob-eaton-jr-acoustic-duo-6/
LOCATION:Shakedown Bar 304 Bridge St\, Vail\, CO  81657\, United States\, Shakedown Bar 304 Bridge St\, Vail\, CO 81657\, United States
CATEGORIES:Aprés,Events
END:VEVENT
BEGIN:VEVENT
DTSTART;TZID=America/Denver:20190328T160000
DTEND;TZID=America/Denver:20190328T203000
DTSTAMP:20260422T092252
CREATED:20190305T205654Z
LAST-MODIFIED:20190305T205654Z
UID:3283-1553788800-1553805000@shakedownbarvail.com
SUMMARY:4:00 PM — Scott Rednor and Rob Eaton Jr. Acoustic Duo
DESCRIPTION:Doors: 4:00 pm Show: 4:30 pm \nCome hear two of Colorado’s finest guitarists playing their interpretations of all of your favorite classic songs! Vocal harmonies\, rhythmic looping\, & duel guitar leads make this an exciting acoustic duo!
URL:https://shakedownbarvail.com/event/400-pm-scott-rednor-and-rob-eaton-jr-acoustic-duo-5/
LOCATION:Shakedown Bar 304 Bridge St\, Vail\, CO  81657\, United States\, Shakedown Bar 304 Bridge St\, Vail\, CO 81657\, United States
CATEGORIES:Aprés,Events
END:VEVENT
BEGIN:VEVENT
DTSTART;TZID=America/Denver:20190328T160000
DTEND;TZID=America/Denver:20190328T203000
DTSTAMP:20260422T092252
CREATED:20190305T205654Z
LAST-MODIFIED:20190305T205654Z
UID:3283-1553788800-1553805000@shakedownbarvail.com
SUMMARY:4:00 PM — Scott Rednor and Rob Eaton Jr. Acoustic Duo
DESCRIPTION:Doors: 4:00 pm Show: 4:30 pm \nCome hear two of Colorado’s finest guitarists playing their interpretations of all of your favorite classic songs! Vocal harmonies\, rhythmic looping\, & duel guitar leads make this an exciting acoustic duo!
URL:https://shakedownbarvail.com/event/400-pm-scott-rednor-and-rob-eaton-jr-acoustic-duo-5/
LOCATION:Shakedown Bar 304 Bridge St\, Vail\, CO  81657\, United States\, Shakedown Bar 304 Bridge St\, Vail\, CO 81657\, United States
CATEGORIES:Aprés,Events
END:VEVENT
BEGIN:VEVENT
DTSTART;TZID=America/Denver:20190328T160000
DTEND;TZID=America/Denver:20190328T203000
DTSTAMP:20260422T092252
CREATED:20190305T205654Z
LAST-MODIFIED:20190305T205654Z
UID:3283-1553788800-1553805000@shakedownbarvail.com
SUMMARY:4:00 PM — Scott Rednor and Rob Eaton Jr. Acoustic Duo
DESCRIPTION:Doors: 4:00 pm Show: 4:30 pm \nCome hear two of Colorado’s finest guitarists playing their interpretations of all of your favorite classic songs! Vocal harmonies\, rhythmic looping\, & duel guitar leads make this an exciting acoustic duo!
URL:https://shakedownbarvail.com/event/400-pm-scott-rednor-and-rob-eaton-jr-acoustic-duo-5/
LOCATION:Shakedown Bar 304 Bridge St\, Vail\, CO  81657\, United States\, Shakedown Bar 304 Bridge St\, Vail\, CO 81657\, United States
CATEGORIES:Aprés,Events
END:VEVENT
BEGIN:VEVENT
DTSTART;TZID=America/Denver:20190321T160000
DTEND;TZID=America/Denver:20190321T203000
DTSTAMP:20260422T092252
CREATED:20190118T190537Z
LAST-MODIFIED:20190118T190537Z
UID:3092-1553184000-1553200200@shakedownbarvail.com
SUMMARY:4:00 PM — Scott Rednor and Rob Eaton Jr. Acoustic Duo
DESCRIPTION:Doors: 4:00 pm Show: 4:30 pm \nCome hear two of Colorado’s finest guitarists playing their interpretations of all of your favorite classic songs! Vocal harmonies\, rhythmic looping\, & duel guitar leads make this an exciting acoustic duo!
URL:https://shakedownbarvail.com/event/400-pm-scott-rednor-and-rob-eaton-jr-acoustic-duo-4/
LOCATION:Shakedown Bar 304 Bridge St\, Vail\, CO  81657\, United States\, Shakedown Bar 304 Bridge St\, Vail\, CO 81657\, United States
CATEGORIES:Aprés,Events
END:VEVENT
BEGIN:VEVENT
DTSTART;TZID=America/Denver:20190321T160000
DTEND;TZID=America/Denver:20190321T203000
DTSTAMP:20260422T092252
CREATED:20190118T190537Z
LAST-MODIFIED:20190118T190537Z
UID:3092-1553184000-1553200200@shakedownbarvail.com
SUMMARY:4:00 PM — Scott Rednor and Rob Eaton Jr. Acoustic Duo
DESCRIPTION:Doors: 4:00 pm Show: 4:30 pm \nCome hear two of Colorado’s finest guitarists playing their interpretations of all of your favorite classic songs! Vocal harmonies\, rhythmic looping\, & duel guitar leads make this an exciting acoustic duo!
URL:https://shakedownbarvail.com/event/400-pm-scott-rednor-and-rob-eaton-jr-acoustic-duo-4/
LOCATION:Shakedown Bar 304 Bridge St\, Vail\, CO  81657\, United States\, Shakedown Bar 304 Bridge St\, Vail\, CO 81657\, United States
CATEGORIES:Aprés,Events
END:VEVENT
BEGIN:VEVENT
DTSTART;TZID=America/Denver:20190321T160000
DTEND;TZID=America/Denver:20190321T203000
DTSTAMP:20260422T092252
CREATED:20190118T190537Z
LAST-MODIFIED:20190118T190537Z
UID:3092-1553184000-1553200200@shakedownbarvail.com
SUMMARY:4:00 PM — Scott Rednor and Rob Eaton Jr. Acoustic Duo
DESCRIPTION:Doors: 4:00 pm Show: 4:30 pm \nCome hear two of Colorado’s finest guitarists playing their interpretations of all of your favorite classic songs! Vocal harmonies\, rhythmic looping\, & duel guitar leads make this an exciting acoustic duo!
URL:https://shakedownbarvail.com/event/400-pm-scott-rednor-and-rob-eaton-jr-acoustic-duo-4/
LOCATION:Shakedown Bar 304 Bridge St\, Vail\, CO  81657\, United States\, Shakedown Bar 304 Bridge St\, Vail\, CO 81657\, United States
CATEGORIES:Aprés,Events
END:VEVENT
BEGIN:VEVENT
DTSTART;TZID=America/Denver:20190314T160000
DTEND;TZID=America/Denver:20190314T203000
DTSTAMP:20260422T092252
CREATED:20190118T185005Z
LAST-MODIFIED:20190118T185039Z
UID:3076-1552579200-1552595400@shakedownbarvail.com
SUMMARY:4:00 PM — Scott Rednor and Rob Eaton Jr. Acoustic Duo
DESCRIPTION:Doors: 4:00 pm Show: 4:30 pm \nCome hear two of Colorado’s finest guitarists playing their interpretations of all of your favorite classic songs! Vocal harmonies\, rhythmic looping\, & duel guitar leads make this an exciting acoustic duo!
URL:https://shakedownbarvail.com/event/400-pm-scott-rednor-and-rob-eaton-jr-acoustic-duo-3/
LOCATION:Shakedown Bar 304 Bridge St\, Vail\, CO  81657\, United States\, Shakedown Bar 304 Bridge St\, Vail\, CO 81657\, United States
CATEGORIES:Aprés,Events
END:VEVENT
BEGIN:VEVENT
DTSTART;TZID=America/Denver:20190314T160000
DTEND;TZID=America/Denver:20190314T203000
DTSTAMP:20260422T092252
CREATED:20190118T185005Z
LAST-MODIFIED:20190118T185039Z
UID:3076-1552579200-1552595400@shakedownbarvail.com
SUMMARY:4:00 PM — Scott Rednor and Rob Eaton Jr. Acoustic Duo
DESCRIPTION:Doors: 4:00 pm Show: 4:30 pm \nCome hear two of Colorado’s finest guitarists playing their interpretations of all of your favorite classic songs! Vocal harmonies\, rhythmic looping\, & duel guitar leads make this an exciting acoustic duo!
URL:https://shakedownbarvail.com/event/400-pm-scott-rednor-and-rob-eaton-jr-acoustic-duo-3/
LOCATION:Shakedown Bar 304 Bridge St\, Vail\, CO  81657\, United States\, Shakedown Bar 304 Bridge St\, Vail\, CO 81657\, United States
CATEGORIES:Aprés,Events
END:VEVENT
BEGIN:VEVENT
DTSTART;TZID=America/Denver:20190314T160000
DTEND;TZID=America/Denver:20190314T203000
DTSTAMP:20260422T092252
CREATED:20190118T185005Z
LAST-MODIFIED:20190118T185039Z
UID:3076-1552579200-1552595400@shakedownbarvail.com
SUMMARY:4:00 PM — Scott Rednor and Rob Eaton Jr. Acoustic Duo
DESCRIPTION:Doors: 4:00 pm Show: 4:30 pm \nCome hear two of Colorado’s finest guitarists playing their interpretations of all of your favorite classic songs! Vocal harmonies\, rhythmic looping\, & duel guitar leads make this an exciting acoustic duo!
URL:https://shakedownbarvail.com/event/400-pm-scott-rednor-and-rob-eaton-jr-acoustic-duo-3/
LOCATION:Shakedown Bar 304 Bridge St\, Vail\, CO  81657\, United States\, Shakedown Bar 304 Bridge St\, Vail\, CO 81657\, United States
CATEGORIES:Aprés,Events
END:VEVENT
BEGIN:VEVENT
DTSTART;TZID=America/Denver:20190313T160000
DTEND;TZID=America/Denver:20190313T203000
DTSTAMP:20260422T092252
CREATED:20190118T184325Z
LAST-MODIFIED:20190118T184345Z
UID:3071-1552492800-1552509000@shakedownbarvail.com
SUMMARY:4:00 PM - Keith Kenny
DESCRIPTION:Doors: 4:00 pm Show: 4:30 pm\n\n\nhttp://www.keithkenny.com
URL:https://shakedownbarvail.com/event/800-pm-keith-kenny-3/
LOCATION:Shakedown Bar 304 Bridge St\, Vail\, CO  81657\, United States\, Shakedown Bar 304 Bridge St\, Vail\, CO 81657\, United States
CATEGORIES:Aprés,Events
ATTACH;FMTTYPE=image/jpeg:https://shakedownbarvail.com/wp-content/uploads/2019/01/Keith-Kenny.jpg
END:VEVENT
BEGIN:VEVENT
DTSTART;TZID=America/Denver:20190307T160000
DTEND;TZID=America/Denver:20190307T203000
DTSTAMP:20260422T092252
CREATED:20190118T171820Z
LAST-MODIFIED:20190118T171820Z
UID:3059-1551974400-1551990600@shakedownbarvail.com
SUMMARY:4:00 PM — Scott Rednor and Rob Eaton Jr. Acoustic Duo
DESCRIPTION:Doors: 4:00 pm Show: 4:30 pm  \nCome hear two of Colorado’s finest guitarists playing their interpretations of all of your favorite classic songs! Vocal harmonies\, rhythmic looping\, & duel guitar leads make this an exciting acoustic duo!
URL:https://shakedownbarvail.com/event/400-pm-scott-rednor-and-rob-eaton-jr-acoustic-duo-2/
LOCATION:Shakedown Bar 304 Bridge St\, Vail\, CO  81657\, United States\, Shakedown Bar 304 Bridge St\, Vail\, CO 81657\, United States
CATEGORIES:Aprés,Events
END:VEVENT
BEGIN:VEVENT
DTSTART;TZID=America/Denver:20190307T160000
DTEND;TZID=America/Denver:20190307T203000
DTSTAMP:20260422T092252
CREATED:20190118T171820Z
LAST-MODIFIED:20190118T171820Z
UID:3059-1551974400-1551990600@shakedownbarvail.com
SUMMARY:4:00 PM — Scott Rednor and Rob Eaton Jr. Acoustic Duo
DESCRIPTION:Doors: 4:00 pm Show: 4:30 pm  \nCome hear two of Colorado’s finest guitarists playing their interpretations of all of your favorite classic songs! Vocal harmonies\, rhythmic looping\, & duel guitar leads make this an exciting acoustic duo!
URL:https://shakedownbarvail.com/event/400-pm-scott-rednor-and-rob-eaton-jr-acoustic-duo-2/
LOCATION:Shakedown Bar 304 Bridge St\, Vail\, CO  81657\, United States\, Shakedown Bar 304 Bridge St\, Vail\, CO 81657\, United States
CATEGORIES:Aprés,Events
END:VEVENT
BEGIN:VEVENT
DTSTART;TZID=America/Denver:20190307T160000
DTEND;TZID=America/Denver:20190307T203000
DTSTAMP:20260422T092252
CREATED:20190118T171820Z
LAST-MODIFIED:20190118T171820Z
UID:3059-1551974400-1551990600@shakedownbarvail.com
SUMMARY:4:00 PM — Scott Rednor and Rob Eaton Jr. Acoustic Duo
DESCRIPTION:Doors: 4:00 pm Show: 4:30 pm  \nCome hear two of Colorado’s finest guitarists playing their interpretations of all of your favorite classic songs! Vocal harmonies\, rhythmic looping\, & duel guitar leads make this an exciting acoustic duo!
URL:https://shakedownbarvail.com/event/400-pm-scott-rednor-and-rob-eaton-jr-acoustic-duo-2/
LOCATION:Shakedown Bar 304 Bridge St\, Vail\, CO  81657\, United States\, Shakedown Bar 304 Bridge St\, Vail\, CO 81657\, United States
CATEGORIES:Aprés,Events
END:VEVENT
BEGIN:VEVENT
DTSTART;TZID=America/Denver:20190306T160000
DTEND;TZID=America/Denver:20190306T203000
DTSTAMP:20260422T092252
CREATED:20190118T171257Z
LAST-MODIFIED:20190118T171257Z
UID:3057-1551888000-1551904200@shakedownbarvail.com
SUMMARY:4:00 PM - Keith Kenny
DESCRIPTION:Doors: 4:00pm Show: 4:30 pm\n\n\nhttp://www.keithkenny.com
URL:https://shakedownbarvail.com/event/400-pm-keith-kenny/
LOCATION:Shakedown Bar 304 Bridge St\, Vail\, CO  81657\, United States\, Shakedown Bar 304 Bridge St\, Vail\, CO 81657\, United States
CATEGORIES:Aprés,Events
ATTACH;FMTTYPE=image/jpeg:https://shakedownbarvail.com/wp-content/uploads/2019/01/Keith-Kenny.jpg
END:VEVENT
BEGIN:VEVENT
DTSTART;TZID=America/Denver:20190227T160000
DTEND;TZID=America/Denver:20190227T203000
DTSTAMP:20260422T092252
CREATED:20190117T163530Z
LAST-MODIFIED:20190117T163530Z
UID:3034-1551283200-1551299400@shakedownbarvail.com
SUMMARY:4:00 PM — Scott Rednor and Rob Eaton Jr. Acoustic Duo
DESCRIPTION:Doors: 4:00 pm Show: 4:30 pm \nCome hear two of Colorado’s finest guitarists playing their interpretations of all of your favorite classic songs! Vocal harmonies\, rhythmic looping\, & duel guitar leads make this an exciting acoustic duo!
URL:https://shakedownbarvail.com/event/400-pm-scott-rednor-and-rob-eaton-jr-acoustic-duo/
LOCATION:Shakedown Bar 304 Bridge St\, Vail\, CO  81657\, United States\, Shakedown Bar 304 Bridge St\, Vail\, CO 81657\, United States
CATEGORIES:Aprés,Events
END:VEVENT
BEGIN:VEVENT
DTSTART;TZID=America/Denver:20190227T160000
DTEND;TZID=America/Denver:20190227T203000
DTSTAMP:20260422T092252
CREATED:20190117T163530Z
LAST-MODIFIED:20190117T163530Z
UID:3034-1551283200-1551299400@shakedownbarvail.com
SUMMARY:4:00 PM — Scott Rednor and Rob Eaton Jr. Acoustic Duo
DESCRIPTION:Doors: 4:00 pm Show: 4:30 pm \nCome hear two of Colorado’s finest guitarists playing their interpretations of all of your favorite classic songs! Vocal harmonies\, rhythmic looping\, & duel guitar leads make this an exciting acoustic duo!
URL:https://shakedownbarvail.com/event/400-pm-scott-rednor-and-rob-eaton-jr-acoustic-duo/
LOCATION:Shakedown Bar 304 Bridge St\, Vail\, CO  81657\, United States\, Shakedown Bar 304 Bridge St\, Vail\, CO 81657\, United States
CATEGORIES:Aprés,Events
END:VEVENT
BEGIN:VEVENT
DTSTART;TZID=America/Denver:20190227T160000
DTEND;TZID=America/Denver:20190227T203000
DTSTAMP:20260422T092252
CREATED:20190117T163530Z
LAST-MODIFIED:20190117T163530Z
UID:3034-1551283200-1551299400@shakedownbarvail.com
SUMMARY:4:00 PM — Scott Rednor and Rob Eaton Jr. Acoustic Duo
DESCRIPTION:Doors: 4:00 pm Show: 4:30 pm \nCome hear two of Colorado’s finest guitarists playing their interpretations of all of your favorite classic songs! Vocal harmonies\, rhythmic looping\, & duel guitar leads make this an exciting acoustic duo!
URL:https://shakedownbarvail.com/event/400-pm-scott-rednor-and-rob-eaton-jr-acoustic-duo/
LOCATION:Shakedown Bar 304 Bridge St\, Vail\, CO  81657\, United States\, Shakedown Bar 304 Bridge St\, Vail\, CO 81657\, United States
CATEGORIES:Aprés,Events
END:VEVENT
BEGIN:VEVENT
DTSTART;TZID=America/Denver:20190227T160000
DTEND;TZID=America/Denver:20190227T203000
DTSTAMP:20260422T092252
CREATED:20190117T163530Z
LAST-MODIFIED:20190117T163530Z
UID:3034-1551283200-1551299400@shakedownbarvail.com
SUMMARY:4:00 PM — Scott Rednor and Rob Eaton Jr. Acoustic Duo
DESCRIPTION:Doors: 4:00 pm Show: 4:30 pm \nCome hear two of Colorado’s finest guitarists playing their interpretations of all of your favorite classic songs! Vocal harmonies\, rhythmic looping\, & duel guitar leads make this an exciting acoustic duo!
URL:https://shakedownbarvail.com/event/400-pm-scott-rednor-and-rob-eaton-jr-acoustic-duo/
LOCATION:Shakedown Bar 304 Bridge St\, Vail\, CO  81657\, United States\, Shakedown Bar 304 Bridge St\, Vail\, CO 81657\, United States
CATEGORIES:Aprés,Events
END:VEVENT
BEGIN:VEVENT
DTSTART;TZID=America/Denver:20190220T160000
DTEND;TZID=America/Denver:20190220T203000
DTSTAMP:20260422T092252
CREATED:20181220T002908Z
LAST-MODIFIED:20190117T163800Z
UID:2940-1550678400-1550694600@shakedownbarvail.com
SUMMARY:4:00 PM — Scott Rednor and Rob Eaton Jr. Acoustic Duo
DESCRIPTION:Doors: 4:00 pm Show: 4:30 pm  \nCome hear two of Colorado’s finest guitarists playing their interpretations of all of your favorite classic songs! Vocal harmonies\, rhythmic looping\, & duel guitar leads make this an exciting acoustic duo!
URL:https://shakedownbarvail.com/event/330-pm-scott-rednor-and-rob-eaton-jr-acoustic-duo-3/
LOCATION:Shakedown Bar Vail\, 304 Bridge Street\, Vail\, CO\, 81657\, United States
CATEGORIES:Aprés,Events
END:VEVENT
BEGIN:VEVENT
DTSTART;TZID=America/Denver:20190220T160000
DTEND;TZID=America/Denver:20190220T203000
DTSTAMP:20260422T092252
CREATED:20181220T002908Z
LAST-MODIFIED:20190117T163800Z
UID:2940-1550678400-1550694600@shakedownbarvail.com
SUMMARY:4:00 PM — Scott Rednor and Rob Eaton Jr. Acoustic Duo
DESCRIPTION:Doors: 4:00 pm Show: 4:30 pm  \nCome hear two of Colorado’s finest guitarists playing their interpretations of all of your favorite classic songs! Vocal harmonies\, rhythmic looping\, & duel guitar leads make this an exciting acoustic duo!
URL:https://shakedownbarvail.com/event/330-pm-scott-rednor-and-rob-eaton-jr-acoustic-duo-3/
LOCATION:Shakedown Bar Vail\, 304 Bridge Street\, Vail\, CO\, 81657\, United States
CATEGORIES:Aprés,Events
END:VEVENT
BEGIN:VEVENT
DTSTART;TZID=America/Denver:20190220T160000
DTEND;TZID=America/Denver:20190220T203000
DTSTAMP:20260422T092252
CREATED:20181220T002908Z
LAST-MODIFIED:20190117T163800Z
UID:2940-1550678400-1550694600@shakedownbarvail.com
SUMMARY:4:00 PM — Scott Rednor and Rob Eaton Jr. Acoustic Duo
DESCRIPTION:Doors: 4:00 pm Show: 4:30 pm  \nCome hear two of Colorado’s finest guitarists playing their interpretations of all of your favorite classic songs! Vocal harmonies\, rhythmic looping\, & duel guitar leads make this an exciting acoustic duo!
URL:https://shakedownbarvail.com/event/330-pm-scott-rednor-and-rob-eaton-jr-acoustic-duo-3/
LOCATION:Shakedown Bar Vail\, 304 Bridge Street\, Vail\, CO\, 81657\, United States
CATEGORIES:Aprés,Events
END:VEVENT
BEGIN:VEVENT
DTSTART;TZID=America/Denver:20190220T160000
DTEND;TZID=America/Denver:20190220T203000
DTSTAMP:20260422T092252
CREATED:20181220T002908Z
LAST-MODIFIED:20190117T163800Z
UID:2940-1550678400-1550694600@shakedownbarvail.com
SUMMARY:4:00 PM — Scott Rednor and Rob Eaton Jr. Acoustic Duo
DESCRIPTION:Doors: 4:00 pm Show: 4:30 pm  \nCome hear two of Colorado’s finest guitarists playing their interpretations of all of your favorite classic songs! Vocal harmonies\, rhythmic looping\, & duel guitar leads make this an exciting acoustic duo!
URL:https://shakedownbarvail.com/event/330-pm-scott-rednor-and-rob-eaton-jr-acoustic-duo-3/
LOCATION:Shakedown Bar Vail\, 304 Bridge Street\, Vail\, CO\, 81657\, United States
CATEGORIES:Aprés,Events
END:VEVENT
BEGIN:VEVENT
DTSTART;TZID=America/Denver:20190217T160000
DTEND;TZID=America/Denver:20190217T203000
DTSTAMP:20260422T092252
CREATED:20181218T223506Z
LAST-MODIFIED:20181228T014601Z
UID:2929-1550419200-1550435400@shakedownbarvail.com
SUMMARY:4:00 PM — Scott Rednor and Rob Eaton Jr. Acoustic Duo
DESCRIPTION:Doors: 4:00 pm Show: 4:30 pm  \nCome hear two of Colorado’s finest guitarists playing their interpretations of all of your favorite classic songs! Vocal harmonies\, rhythmic looping\, & duel guitar leads make this an exciting acoustic duo!
URL:https://shakedownbarvail.com/event/330-pm-scott-rednor-and-rob-eaton-jr-acoustic-duo-2/
LOCATION:Shakedown Bar Vail\, 304 Bridge Street\, Vail\, CO\, 81657\, United States
CATEGORIES:Aprés,Events
END:VEVENT
BEGIN:VEVENT
DTSTART;TZID=America/Denver:20190213T160000
DTEND;TZID=America/Denver:20190213T203000
DTSTAMP:20260422T092252
CREATED:20181217T221414Z
LAST-MODIFIED:20181228T014520Z
UID:2915-1550073600-1550089800@shakedownbarvail.com
SUMMARY:4:00 PM — Scott Rednor and Rob Eaton Jr. Acoustic Duo
DESCRIPTION:Doors: 4:00 pm Show: 4:30 pm  \nCome hear two of Colorado’s finest guitarists playing their interpretations of all of your favorite classic songs! Vocal harmonies\, rhythmic looping\, & duel guitar leads make this an exciting acoustic duo!
URL:https://shakedownbarvail.com/event/330-pm-scott-rednor-and-rob-eaton-jr-acoustic-duo/
LOCATION:Shakedown Bar Vail\, 304 Bridge Street\, Vail\, CO\, 81657\, United States
CATEGORIES:Aprés,Events
END:VEVENT
BEGIN:VEVENT
DTSTART;TZID=America/Denver:20190213T160000
DTEND;TZID=America/Denver:20190213T203000
DTSTAMP:20260422T092252
CREATED:20181217T221414Z
LAST-MODIFIED:20181228T014520Z
UID:2915-1550073600-1550089800@shakedownbarvail.com
SUMMARY:4:00 PM — Scott Rednor and Rob Eaton Jr. Acoustic Duo
DESCRIPTION:Doors: 4:00 pm Show: 4:30 pm  \nCome hear two of Colorado’s finest guitarists playing their interpretations of all of your favorite classic songs! Vocal harmonies\, rhythmic looping\, & duel guitar leads make this an exciting acoustic duo!
URL:https://shakedownbarvail.com/event/330-pm-scott-rednor-and-rob-eaton-jr-acoustic-duo/
LOCATION:Shakedown Bar Vail\, 304 Bridge Street\, Vail\, CO\, 81657\, United States
CATEGORIES:Aprés,Events
END:VEVENT
BEGIN:VEVENT
DTSTART;TZID=America/Denver:20190213T160000
DTEND;TZID=America/Denver:20190213T203000
DTSTAMP:20260422T092252
CREATED:20181217T221414Z
LAST-MODIFIED:20181228T014520Z
UID:2915-1550073600-1550089800@shakedownbarvail.com
SUMMARY:4:00 PM — Scott Rednor and Rob Eaton Jr. Acoustic Duo
DESCRIPTION:Doors: 4:00 pm Show: 4:30 pm  \nCome hear two of Colorado’s finest guitarists playing their interpretations of all of your favorite classic songs! Vocal harmonies\, rhythmic looping\, & duel guitar leads make this an exciting acoustic duo!
URL:https://shakedownbarvail.com/event/330-pm-scott-rednor-and-rob-eaton-jr-acoustic-duo/
LOCATION:Shakedown Bar Vail\, 304 Bridge Street\, Vail\, CO\, 81657\, United States
CATEGORIES:Aprés,Events
END:VEVENT
END:VCALENDAR