BEGIN:VCALENDAR
VERSION:2.0
PRODID:-//Shakedown Bar - ECPv6.15.14//NONSGML v1.0//EN
CALSCALE:GREGORIAN
METHOD:PUBLISH
X-WR-CALNAME:Shakedown Bar
X-ORIGINAL-URL:https://shakedownbarvail.com
X-WR-CALDESC:Events for Shakedown Bar
REFRESH-INTERVAL;VALUE=DURATION:PT1H
X-Robots-Tag:noindex
X-PUBLISHED-TTL:PT1H
BEGIN:VTIMEZONE
TZID:America/Denver
BEGIN:DAYLIGHT
TZOFFSETFROM:-0700
TZOFFSETTO:-0600
TZNAME:MDT
DTSTART:20250309T090000
END:DAYLIGHT
BEGIN:STANDARD
TZOFFSETFROM:-0600
TZOFFSETTO:-0700
TZNAME:MST
DTSTART:20251102T080000
END:STANDARD
BEGIN:DAYLIGHT
TZOFFSETFROM:-0700
TZOFFSETTO:-0600
TZNAME:MDT
DTSTART:20260308T090000
END:DAYLIGHT
BEGIN:STANDARD
TZOFFSETFROM:-0600
TZOFFSETTO:-0700
TZNAME:MST
DTSTART:20261101T080000
END:STANDARD
BEGIN:DAYLIGHT
TZOFFSETFROM:-0700
TZOFFSETTO:-0600
TZNAME:MDT
DTSTART:20270314T090000
END:DAYLIGHT
BEGIN:STANDARD
TZOFFSETFROM:-0600
TZOFFSETTO:-0700
TZNAME:MST
DTSTART:20271107T080000
END:STANDARD
END:VTIMEZONE
BEGIN:VEVENT
DTSTART;TZID=America/Denver:20260107T160000
DTEND;TZID=America/Denver:20260107T200000
DTSTAMP:20260419T160805
CREATED:20251205T141919Z
LAST-MODIFIED:20251205T141919Z
UID:10434-1767801600-1767816000@shakedownbarvail.com
SUMMARY:Kory Montgomery Apres
DESCRIPTION:Kory Montgomery – Guitar/vocals \n  \n*Doors open at listed event time\, live music typically starts 60-90 minutes after doors. End times are estimates
URL:https://shakedownbarvail.com/event/kory-montgomery-apres-11/
LOCATION:Shakedown Bar 304 Bridge St\, Vail\, CO  81657\, United States\, Shakedown Bar 304 Bridge St\, Vail\, CO 81657\, United States
CATEGORIES:Aprés
ORGANIZER;CN="Shakedown Presents":MAILTO:info@shakedownbarvail.com
END:VEVENT
BEGIN:VEVENT
DTSTART;TZID=America/Denver:20260107T210000
DTEND;TZID=America/Denver:20260108T013000
DTSTAMP:20260419T160805
CREATED:20251205T141955Z
LAST-MODIFIED:20260105T201517Z
UID:10436-1767819600-1767835800@shakedownbarvail.com
SUMMARY:Dave Tucker
DESCRIPTION:Dave Tucker \nDave Tucker – Guitar/vocals https://www.instagram.com/davetuckermusic?igsh=MW5ncm1ndDB0amRyag== \n  \n*Doors open at listed event time\, live music typically starts 60-90 minutes after doors. End times are estimates.
URL:https://shakedownbarvail.com/event/tba-65/
LOCATION:Shakedown Bar 304 Bridge St\, Vail\, CO  81657\, United States\, Shakedown Bar 304 Bridge St\, Vail\, CO 81657\, United States
ORGANIZER;CN="Shakedown Presents":MAILTO:info@shakedownbarvail.com
END:VEVENT
END:VCALENDAR