BEGIN:VCALENDAR
VERSION:2.0
PRODID:-//Shakedown Bar - ECPv6.15.14//NONSGML v1.0//EN
CALSCALE:GREGORIAN
METHOD:PUBLISH
X-ORIGINAL-URL:https://shakedownbarvail.com
X-WR-CALDESC:Events for Shakedown Bar
REFRESH-INTERVAL;VALUE=DURATION:PT1H
X-Robots-Tag:noindex
X-PUBLISHED-TTL:PT1H
BEGIN:VTIMEZONE
TZID:America/Denver
BEGIN:DAYLIGHT
TZOFFSETFROM:-0700
TZOFFSETTO:-0600
TZNAME:MDT
DTSTART:20240310T090000
END:DAYLIGHT
BEGIN:STANDARD
TZOFFSETFROM:-0600
TZOFFSETTO:-0700
TZNAME:MST
DTSTART:20241103T080000
END:STANDARD
BEGIN:DAYLIGHT
TZOFFSETFROM:-0700
TZOFFSETTO:-0600
TZNAME:MDT
DTSTART:20250309T090000
END:DAYLIGHT
BEGIN:STANDARD
TZOFFSETFROM:-0600
TZOFFSETTO:-0700
TZNAME:MST
DTSTART:20251102T080000
END:STANDARD
BEGIN:DAYLIGHT
TZOFFSETFROM:-0700
TZOFFSETTO:-0600
TZNAME:MDT
DTSTART:20260308T090000
END:DAYLIGHT
BEGIN:STANDARD
TZOFFSETFROM:-0600
TZOFFSETTO:-0700
TZNAME:MST
DTSTART:20261101T080000
END:STANDARD
END:VTIMEZONE
BEGIN:VEVENT
DTSTART;TZID=America/Denver:20251206T160000
DTEND;TZID=America/Denver:20251206T200000
DTSTAMP:20260419T122857
CREATED:20251107T213846Z
LAST-MODIFIED:20251107T213846Z
UID:10334-1765036800-1765051200@shakedownbarvail.com
SUMMARY:Scott Rednor Apres
DESCRIPTION:Scott Rednor Apres \nScott Rednor – Guitars/vocals \n  \n*Doors open at listed event time\, live music typically starts 60-90 minutes after doors. End times are estimates.
URL:https://shakedownbarvail.com/event/scott-rednor-apres-49/
LOCATION:Shakedown Bar 304 Bridge St\, Vail\, CO  81657\, United States\, Shakedown Bar 304 Bridge St\, Vail\, CO 81657\, United States
CATEGORIES:Aprés
ORGANIZER;CN="Shakedown Presents":MAILTO:info@shakedownbarvail.com
END:VEVENT
BEGIN:VEVENT
DTSTART;TZID=America/Denver:20251206T210000
DTEND;TZID=America/Denver:20251207T013000
DTSTAMP:20260419T122857
CREATED:20251107T214057Z
LAST-MODIFIED:20251107T214057Z
UID:10336-1765054800-1765071000@shakedownbarvail.com
SUMMARY:Taylor Scott Sneakin' Drinks - Honky Tonk Night
DESCRIPTION:Taylor Scott – Guitar/vocals \n*Doors open at listed event time\, live music typically starts 60-90 minutes after doors. End times are estimates.
URL:https://shakedownbarvail.com/event/taylor-scott-sneakin-drinks-honky-tonk-night/
LOCATION:Shakedown Bar 304 Bridge St\, Vail\, CO  81657\, United States\, Shakedown Bar 304 Bridge St\, Vail\, CO 81657\, United States
CATEGORIES:Full Band
ORGANIZER;CN="Shakedown Presents":MAILTO:info@shakedownbarvail.com
END:VEVENT
END:VCALENDAR