BEGIN:VCALENDAR
VERSION:2.0
PRODID:-//Shakedown Bar - ECPv6.15.14//NONSGML v1.0//EN
CALSCALE:GREGORIAN
METHOD:PUBLISH
X-ORIGINAL-URL:https://shakedownbarvail.com
X-WR-CALDESC:Events for Shakedown Bar
REFRESH-INTERVAL;VALUE=DURATION:PT1H
X-Robots-Tag:noindex
X-PUBLISHED-TTL:PT1H
BEGIN:VTIMEZONE
TZID:America/Denver
BEGIN:DAYLIGHT
TZOFFSETFROM:-0700
TZOFFSETTO:-0600
TZNAME:MDT
DTSTART:20210314T090000
END:DAYLIGHT
BEGIN:STANDARD
TZOFFSETFROM:-0600
TZOFFSETTO:-0700
TZNAME:MST
DTSTART:20211107T080000
END:STANDARD
BEGIN:DAYLIGHT
TZOFFSETFROM:-0700
TZOFFSETTO:-0600
TZNAME:MDT
DTSTART:20220313T090000
END:DAYLIGHT
BEGIN:STANDARD
TZOFFSETFROM:-0600
TZOFFSETTO:-0700
TZNAME:MST
DTSTART:20221106T080000
END:STANDARD
BEGIN:DAYLIGHT
TZOFFSETFROM:-0700
TZOFFSETTO:-0600
TZNAME:MDT
DTSTART:20230312T090000
END:DAYLIGHT
BEGIN:STANDARD
TZOFFSETFROM:-0600
TZOFFSETTO:-0700
TZNAME:MST
DTSTART:20231105T080000
END:STANDARD
END:VTIMEZONE
BEGIN:VEVENT
DTSTART;TZID=America/Denver:20220306T160000
DTEND;TZID=America/Denver:20220306T200000
DTSTAMP:20260419T072538
CREATED:20220114T005043Z
LAST-MODIFIED:20220225T065627Z
UID:5674-1646582400-1646596800@shakedownbarvail.com
SUMMARY:Live from Shakedown: Toubab Krewe
DESCRIPTION:Toubab Krewe\, a vibrant Asheville\, NC-based instrumental powerhouse\, creates a sonic Pangaea that lustily swirls together rock\, African traditions\, jam sensibilities\, international folk strains and more. \nDoors @ 4pm | Music 5 – 8pm \n$10 Advanced TIXS Available HERE | $15 At the Door
URL:https://shakedownbarvail.com/event/live-from-shakedown-toubab-krewe/
END:VEVENT
END:VCALENDAR