BEGIN:VCALENDAR
VERSION:2.0
PRODID:-//Shakedown Bar - ECPv6.15.14//NONSGML v1.0//EN
CALSCALE:GREGORIAN
METHOD:PUBLISH
X-WR-CALNAME:Shakedown Bar
X-ORIGINAL-URL:https://shakedownbarvail.com
X-WR-CALDESC:Events for Shakedown Bar
REFRESH-INTERVAL;VALUE=DURATION:PT1H
X-Robots-Tag:noindex
X-PUBLISHED-TTL:PT1H
BEGIN:VTIMEZONE
TZID:America/Denver
BEGIN:DAYLIGHT
TZOFFSETFROM:-0700
TZOFFSETTO:-0600
TZNAME:MDT
DTSTART:20210314T090000
END:DAYLIGHT
BEGIN:STANDARD
TZOFFSETFROM:-0600
TZOFFSETTO:-0700
TZNAME:MST
DTSTART:20211107T080000
END:STANDARD
BEGIN:DAYLIGHT
TZOFFSETFROM:-0700
TZOFFSETTO:-0600
TZNAME:MDT
DTSTART:20220313T090000
END:DAYLIGHT
BEGIN:STANDARD
TZOFFSETFROM:-0600
TZOFFSETTO:-0700
TZNAME:MST
DTSTART:20221106T080000
END:STANDARD
BEGIN:DAYLIGHT
TZOFFSETFROM:-0700
TZOFFSETTO:-0600
TZNAME:MDT
DTSTART:20230312T090000
END:DAYLIGHT
BEGIN:STANDARD
TZOFFSETFROM:-0600
TZOFFSETTO:-0700
TZNAME:MST
DTSTART:20231105T080000
END:STANDARD
END:VTIMEZONE
BEGIN:VEVENT
DTSTART;TZID=America/Denver:20220212T163000
DTEND;TZID=America/Denver:20220212T200000
DTSTAMP:20260419T082748
CREATED:20220122T195228Z
LAST-MODIFIED:20220210T044949Z
UID:5779-1644683400-1644696000@shakedownbarvail.com
SUMMARY:Wertico Haque Gray Trio Recording Session
DESCRIPTION:Shakedown presents Paul Wertico\, Larry Gray and Fareed Haque for a special classical/jazz performance and recording session in the Shakedown Bar Studio. \nIt’s a return to roots and the natural evolution of Haque’s voice\, along with the percussive mastery of Paul Wertico and virtuosity of bassist/cellist Larry Gray that opens the doors to a new rich sound. \nDoors 4pm | Music 5pm | Tickets $10 | Watch the Livestream HERE
URL:https://shakedownbarvail.com/event/vail-jazz-festival-wertico-haque-gray-trio/
END:VEVENT
BEGIN:VEVENT
DTSTART;TZID=America/Denver:20220212T210000
DTEND;TZID=America/Denver:20220212T235900
DTSTAMP:20260419T082748
CREATED:20220119T201907Z
LAST-MODIFIED:20220119T202628Z
UID:5769-1644699600-1644710340@shakedownbarvail.com
SUMMARY:Live from Shakedown: Mark Levy & Friends
DESCRIPTION:Live music featuring Mark Levy\,  Scott Rednor\, Rob Eaton Jr. & Chuck Jones. \nDoors @ 9pm | Music @ 9:30pm
URL:https://shakedownbarvail.com/event/live-from-shakedown-mark-levy-friends-3/
END:VEVENT
END:VCALENDAR