BEGIN:VCALENDAR
VERSION:2.0
PRODID:-//Shakedown Bar - ECPv6.15.14//NONSGML v1.0//EN
CALSCALE:GREGORIAN
METHOD:PUBLISH
X-ORIGINAL-URL:https://shakedownbarvail.com
X-WR-CALDESC:Events for Shakedown Bar
REFRESH-INTERVAL;VALUE=DURATION:PT1H
X-Robots-Tag:noindex
X-PUBLISHED-TTL:PT1H
BEGIN:VTIMEZONE
TZID:America/Denver
BEGIN:DAYLIGHT
TZOFFSETFROM:-0700
TZOFFSETTO:-0600
TZNAME:MDT
DTSTART:20210314T090000
END:DAYLIGHT
BEGIN:STANDARD
TZOFFSETFROM:-0600
TZOFFSETTO:-0700
TZNAME:MST
DTSTART:20211107T080000
END:STANDARD
BEGIN:DAYLIGHT
TZOFFSETFROM:-0700
TZOFFSETTO:-0600
TZNAME:MDT
DTSTART:20220313T090000
END:DAYLIGHT
BEGIN:STANDARD
TZOFFSETFROM:-0600
TZOFFSETTO:-0700
TZNAME:MST
DTSTART:20221106T080000
END:STANDARD
BEGIN:DAYLIGHT
TZOFFSETFROM:-0700
TZOFFSETTO:-0600
TZNAME:MDT
DTSTART:20230312T090000
END:DAYLIGHT
BEGIN:STANDARD
TZOFFSETFROM:-0600
TZOFFSETTO:-0700
TZNAME:MST
DTSTART:20231105T080000
END:STANDARD
END:VTIMEZONE
BEGIN:VEVENT
DTSTART;TZID=America/Denver:20220211T160000
DTEND;TZID=America/Denver:20220211T200000
DTSTAMP:20260419T082834
CREATED:20220119T200458Z
LAST-MODIFIED:20220119T200458Z
UID:5762-1644595200-1644609600@shakedownbarvail.com
SUMMARY:Always Free Après Ski: Bob Seger Tribute
DESCRIPTION:Featuring Bob Seger’s greatest hits performed by Scott Rednor\, Rob Eaton Jr.\, Mark Levy & Chuck Jones. \nDoors @ 4pm | Music Shortly Thereafter
URL:https://shakedownbarvail.com/event/always-free-apres-ski-bob-seger-tribute/
END:VEVENT
BEGIN:VEVENT
DTSTART;TZID=America/Denver:20220211T213000
DTEND;TZID=America/Denver:20220211T235900
DTSTAMP:20260419T082834
CREATED:20220119T200830Z
LAST-MODIFIED:20220119T200830Z
UID:5764-1644615000-1644623940@shakedownbarvail.com
SUMMARY:Live from Shakedown: Rustbelt Rock Night
DESCRIPTION:Featuring live music with Scott Rednor\, Rob Eaton Jr.\, Mark Levy & Chuck Jones. \nDoors @ 9:30pm | Music @ 10pm
URL:https://shakedownbarvail.com/event/live-from-shakedown-rustbelt-rock-night/
END:VEVENT
END:VCALENDAR