BEGIN:VCALENDAR
VERSION:2.0
PRODID:-//Shakedown Bar - ECPv6.15.14//NONSGML v1.0//EN
CALSCALE:GREGORIAN
METHOD:PUBLISH
X-WR-CALNAME:Shakedown Bar
X-ORIGINAL-URL:https://shakedownbarvail.com
X-WR-CALDESC:Events for Shakedown Bar
REFRESH-INTERVAL;VALUE=DURATION:PT1H
X-Robots-Tag:noindex
X-PUBLISHED-TTL:PT1H
BEGIN:VTIMEZONE
TZID:America/Denver
BEGIN:DAYLIGHT
TZOFFSETFROM:-0700
TZOFFSETTO:-0600
TZNAME:MDT
DTSTART:20210314T090000
END:DAYLIGHT
BEGIN:STANDARD
TZOFFSETFROM:-0600
TZOFFSETTO:-0700
TZNAME:MST
DTSTART:20211107T080000
END:STANDARD
BEGIN:DAYLIGHT
TZOFFSETFROM:-0700
TZOFFSETTO:-0600
TZNAME:MDT
DTSTART:20220313T090000
END:DAYLIGHT
BEGIN:STANDARD
TZOFFSETFROM:-0600
TZOFFSETTO:-0700
TZNAME:MST
DTSTART:20221106T080000
END:STANDARD
BEGIN:DAYLIGHT
TZOFFSETFROM:-0700
TZOFFSETTO:-0600
TZNAME:MDT
DTSTART:20230312T090000
END:DAYLIGHT
BEGIN:STANDARD
TZOFFSETFROM:-0600
TZOFFSETTO:-0700
TZNAME:MST
DTSTART:20231105T080000
END:STANDARD
END:VTIMEZONE
BEGIN:VEVENT
DTSTART;TZID=America/Denver:20220106T180000
DTEND;TZID=America/Denver:20220106T210000
DTSTAMP:20260419T094619
CREATED:20211209T210115Z
LAST-MODIFIED:20220406T002752Z
UID:5267-1641492000-1641502800@shakedownbarvail.com
SUMMARY:Always Free Après Ski: Rednor Eaton Duo
DESCRIPTION:Live music featuring Scott Rednor & Rob Eaton Jr. \nDoors & Music @ 6pm
URL:https://shakedownbarvail.com/event/always-free-apres-ski-rednor-eaton-duo-5/
END:VEVENT
BEGIN:VEVENT
DTSTART;TZID=America/Denver:20220203T210000
DTEND;TZID=America/Denver:20220203T235900
DTSTAMP:20260419T094619
CREATED:20220119T191336Z
LAST-MODIFIED:20220414T223953Z
UID:5721-1643922000-1643932740@shakedownbarvail.com
SUMMARY:Live from Shakedown: Ladies Night with Courvoisier
DESCRIPTION:Live music featuring Courvoisier with Taylor Frederick\, Tyler Adams\, Jiho Han\, Rob Eaton Jr. & Jeff Peterson. \nDoors @ 9pm | Music @ 10pm | Ladies Door Charge – FREE!
URL:https://shakedownbarvail.com/event/live-from-shakedown-ladies-night-with-courvoisier/
END:VEVENT
END:VCALENDAR