BEGIN:VCALENDAR
VERSION:2.0
PRODID:-//Shakedown Bar - ECPv6.15.14//NONSGML v1.0//EN
CALSCALE:GREGORIAN
METHOD:PUBLISH
X-WR-CALNAME:Shakedown Bar
X-ORIGINAL-URL:https://shakedownbarvail.com
X-WR-CALDESC:Events for Shakedown Bar
REFRESH-INTERVAL;VALUE=DURATION:PT1H
X-Robots-Tag:noindex
X-PUBLISHED-TTL:PT1H
BEGIN:VTIMEZONE
TZID:America/Denver
BEGIN:DAYLIGHT
TZOFFSETFROM:-0700
TZOFFSETTO:-0600
TZNAME:MDT
DTSTART:20210314T090000
END:DAYLIGHT
BEGIN:STANDARD
TZOFFSETFROM:-0600
TZOFFSETTO:-0700
TZNAME:MST
DTSTART:20211107T080000
END:STANDARD
BEGIN:DAYLIGHT
TZOFFSETFROM:-0700
TZOFFSETTO:-0600
TZNAME:MDT
DTSTART:20220313T090000
END:DAYLIGHT
BEGIN:STANDARD
TZOFFSETFROM:-0600
TZOFFSETTO:-0700
TZNAME:MST
DTSTART:20221106T080000
END:STANDARD
BEGIN:DAYLIGHT
TZOFFSETFROM:-0700
TZOFFSETTO:-0600
TZNAME:MDT
DTSTART:20230312T090000
END:DAYLIGHT
BEGIN:STANDARD
TZOFFSETFROM:-0600
TZOFFSETTO:-0700
TZNAME:MST
DTSTART:20231105T080000
END:STANDARD
END:VTIMEZONE
BEGIN:VEVENT
DTSTART;TZID=America/Denver:20220128T160000
DTEND;TZID=America/Denver:20220128T200000
DTSTAMP:20260419T071811
CREATED:20211224T035416Z
LAST-MODIFIED:20220119T193211Z
UID:5423-1643385600-1643400000@shakedownbarvail.com
SUMMARY:Always Free Après Ski: Kory Montgomery Band
DESCRIPTION:Featuring live music from the Kory Montgomery Band. \nDoors @ 4pm | Music Shortly Thereafter
URL:https://shakedownbarvail.com/event/always-free-apres-ski-kory-montgomery-trio/
END:VEVENT
BEGIN:VEVENT
DTSTART;TZID=America/Denver:20220128T210000
DTEND;TZID=America/Denver:20220128T235900
DTSTAMP:20260419T071811
CREATED:20220112T203714Z
LAST-MODIFIED:20220112T203714Z
UID:5672-1643403600-1643414340@shakedownbarvail.com
SUMMARY:Live from Shakedown: The Runaway Grooms
DESCRIPTION:Live music featuring The Runaway Grooms. \nDoors @ 9pm | Music @ 9:30pm \nAdvanced online tickets available HERE.
URL:https://shakedownbarvail.com/event/live-from-shakedown-the-runaway-grooms-3/
LOCATION:Shakedown Bar Vail\, 304 Bridge Street\, Vail\, CO\, 81657\, United States
END:VEVENT
END:VCALENDAR