BEGIN:VCALENDAR
VERSION:2.0
PRODID:-//Shakedown Bar - ECPv6.15.14//NONSGML v1.0//EN
CALSCALE:GREGORIAN
METHOD:PUBLISH
X-WR-CALNAME:Shakedown Bar
X-ORIGINAL-URL:https://shakedownbarvail.com
X-WR-CALDESC:Events for Shakedown Bar
REFRESH-INTERVAL;VALUE=DURATION:PT1H
X-Robots-Tag:noindex
X-PUBLISHED-TTL:PT1H
BEGIN:VTIMEZONE
TZID:America/Denver
BEGIN:DAYLIGHT
TZOFFSETFROM:-0700
TZOFFSETTO:-0600
TZNAME:MDT
DTSTART:20210314T090000
END:DAYLIGHT
BEGIN:STANDARD
TZOFFSETFROM:-0600
TZOFFSETTO:-0700
TZNAME:MST
DTSTART:20211107T080000
END:STANDARD
BEGIN:DAYLIGHT
TZOFFSETFROM:-0700
TZOFFSETTO:-0600
TZNAME:MDT
DTSTART:20220313T090000
END:DAYLIGHT
BEGIN:STANDARD
TZOFFSETFROM:-0600
TZOFFSETTO:-0700
TZNAME:MST
DTSTART:20221106T080000
END:STANDARD
BEGIN:DAYLIGHT
TZOFFSETFROM:-0700
TZOFFSETTO:-0600
TZNAME:MDT
DTSTART:20230312T090000
END:DAYLIGHT
BEGIN:STANDARD
TZOFFSETFROM:-0600
TZOFFSETTO:-0700
TZNAME:MST
DTSTART:20231105T080000
END:STANDARD
END:VTIMEZONE
BEGIN:VEVENT
DTSTART;TZID=America/Denver:20220127T160000
DTEND;TZID=America/Denver:20220127T200000
DTSTAMP:20260419T071836
CREATED:20211224T031621Z
LAST-MODIFIED:20220119T193019Z
UID:5412-1643299200-1643313600@shakedownbarvail.com
SUMMARY:Always Free Après Ski: Kory Montgomery Trio
DESCRIPTION:Live music featuring the Kory Montgomery Trio. \nDoors @ 4pm | Music Shortly Thereafter
URL:https://shakedownbarvail.com/event/always-free-apres-ski-shakedown-family-band-3/
END:VEVENT
BEGIN:VEVENT
DTSTART;TZID=America/Denver:20220127T210000
DTEND;TZID=America/Denver:20220127T235900
DTSTAMP:20260419T071836
CREATED:20211224T033446Z
LAST-MODIFIED:20220127T215336Z
UID:5417-1643317200-1643327940@shakedownbarvail.com
SUMMARY:Live from Shakedown: Ladies Night with Mark Levy & Friends
DESCRIPTION:Live music featuring Mark Levy & Friends. \nDoors @ 9pm | Music @ 9:30pm | Doors FREE for ladies!
URL:https://shakedownbarvail.com/event/live-from-shakedown-mark-levy-friends-2/
END:VEVENT
END:VCALENDAR