BEGIN:VCALENDAR
VERSION:2.0
PRODID:-//Shakedown Bar - ECPv6.15.14//NONSGML v1.0//EN
CALSCALE:GREGORIAN
METHOD:PUBLISH
X-ORIGINAL-URL:https://shakedownbarvail.com
X-WR-CALDESC:Events for Shakedown Bar
REFRESH-INTERVAL;VALUE=DURATION:PT1H
X-Robots-Tag:noindex
X-PUBLISHED-TTL:PT1H
BEGIN:VTIMEZONE
TZID:America/Denver
BEGIN:DAYLIGHT
TZOFFSETFROM:-0700
TZOFFSETTO:-0600
TZNAME:MDT
DTSTART:20210314T090000
END:DAYLIGHT
BEGIN:STANDARD
TZOFFSETFROM:-0600
TZOFFSETTO:-0700
TZNAME:MST
DTSTART:20211107T080000
END:STANDARD
BEGIN:DAYLIGHT
TZOFFSETFROM:-0700
TZOFFSETTO:-0600
TZNAME:MDT
DTSTART:20220313T090000
END:DAYLIGHT
BEGIN:STANDARD
TZOFFSETFROM:-0600
TZOFFSETTO:-0700
TZNAME:MST
DTSTART:20221106T080000
END:STANDARD
BEGIN:DAYLIGHT
TZOFFSETFROM:-0700
TZOFFSETTO:-0600
TZNAME:MDT
DTSTART:20230312T090000
END:DAYLIGHT
BEGIN:STANDARD
TZOFFSETFROM:-0600
TZOFFSETTO:-0700
TZNAME:MST
DTSTART:20231105T080000
END:STANDARD
END:VTIMEZONE
BEGIN:VEVENT
DTSTART;TZID=America/Denver:20220120T160000
DTEND;TZID=America/Denver:20220120T200000
DTSTAMP:20260419T084012
CREATED:20220118T003031Z
LAST-MODIFIED:20220119T004253Z
UID:5683-1642694400-1642708800@shakedownbarvail.com
SUMMARY:Always Free Après Ski: Brothers Unplugged
DESCRIPTION:Featuring live music from Brothers Unplugged. \nDoors @ 4pm | Music Shortly Thereafter
URL:https://shakedownbarvail.com/event/always-free-apres-ski-brothers-of-others/
END:VEVENT
BEGIN:VEVENT
DTSTART;TZID=America/Denver:20220120T210000
DTEND;TZID=America/Denver:20220120T235900
DTSTAMP:20260419T084012
CREATED:20211224T030622Z
LAST-MODIFIED:20220118T002251Z
UID:5407-1642712400-1642723140@shakedownbarvail.com
SUMMARY:Live from Shakedown: Brothers of Others
DESCRIPTION:Live music featuring Brothers of Others. \nDoors @ 9pm | Music @ 9:3opm
URL:https://shakedownbarvail.com/event/live-from-shakedown-brothers-of-others-2/
END:VEVENT
END:VCALENDAR