BEGIN:VCALENDAR
VERSION:2.0
PRODID:-//Shakedown Bar - ECPv6.15.14//NONSGML v1.0//EN
CALSCALE:GREGORIAN
METHOD:PUBLISH
X-ORIGINAL-URL:https://shakedownbarvail.com
X-WR-CALDESC:Events for Shakedown Bar
REFRESH-INTERVAL;VALUE=DURATION:PT1H
X-Robots-Tag:noindex
X-PUBLISHED-TTL:PT1H
BEGIN:VTIMEZONE
TZID:America/Denver
BEGIN:DAYLIGHT
TZOFFSETFROM:-0700
TZOFFSETTO:-0600
TZNAME:MDT
DTSTART:20210314T090000
END:DAYLIGHT
BEGIN:STANDARD
TZOFFSETFROM:-0600
TZOFFSETTO:-0700
TZNAME:MST
DTSTART:20211107T080000
END:STANDARD
BEGIN:DAYLIGHT
TZOFFSETFROM:-0700
TZOFFSETTO:-0600
TZNAME:MDT
DTSTART:20220313T090000
END:DAYLIGHT
BEGIN:STANDARD
TZOFFSETFROM:-0600
TZOFFSETTO:-0700
TZNAME:MST
DTSTART:20221106T080000
END:STANDARD
BEGIN:DAYLIGHT
TZOFFSETFROM:-0700
TZOFFSETTO:-0600
TZNAME:MDT
DTSTART:20230312T090000
END:DAYLIGHT
BEGIN:STANDARD
TZOFFSETFROM:-0600
TZOFFSETTO:-0700
TZNAME:MST
DTSTART:20231105T080000
END:STANDARD
END:VTIMEZONE
BEGIN:VEVENT
DTSTART;TZID=America/Denver:20220116T160000
DTEND;TZID=America/Denver:20220116T200000
DTSTAMP:20260419T071900
CREATED:20220107T180018Z
LAST-MODIFIED:20220107T180559Z
UID:5667-1642348800-1642363200@shakedownbarvail.com
SUMMARY:Shakedown Presents Bonfire Dub & Friends: A Benefit for Dave Watts
DESCRIPTION:Dave Watts\, a beloved Shakedown Family Band member and drummer from The Motet recently lost everything in the devastating fires in Colorado.\n\n\n\n\n\n\n\nFollowing Dave Tucker’s Sweetspot\, Shakedown Presents\, Bonfire Dub and special guest musicians are teaming up to help Dave Watts & Dani Gregory get back on their feet! It’s an evening of incredible music\, generosity and support for a fellow artist. \nDave Tucker’s Sweetspot: 4pm\nBonfire Dub & Friends: 5:30 – 8pm \nTickets are a minimum donation of $40 each – please give more if you can! Online TIXS available HERE.
URL:https://shakedownbarvail.com/event/shakedown-presents-bonfire-dub-friends-a-benefit-for-dave-watts/
END:VEVENT
BEGIN:VEVENT
DTSTART;TZID=America/Denver:20220102T170000
DTEND;TZID=America/Denver:20220102T210000
DTSTAMP:20260419T071900
CREATED:20211222T233325Z
LAST-MODIFIED:20220520T154626Z
UID:5339-1641142800-1641157200@shakedownbarvail.com
SUMMARY:The Sunday Sweetspot Hosted by Dave Tucker
DESCRIPTION:A live music jam hosted by Dave Tucker with special guest musicians. \nFree Doors @ 5pm | Music  6-9pm
URL:https://shakedownbarvail.com/event/the-sunday-sweetspot-hosted-by-dave-tucker/
END:VEVENT
END:VCALENDAR