BEGIN:VCALENDAR
VERSION:2.0
PRODID:-//Shakedown Bar - ECPv6.15.14//NONSGML v1.0//EN
CALSCALE:GREGORIAN
METHOD:PUBLISH
X-WR-CALNAME:Shakedown Bar
X-ORIGINAL-URL:https://shakedownbarvail.com
X-WR-CALDESC:Events for Shakedown Bar
REFRESH-INTERVAL;VALUE=DURATION:PT1H
X-Robots-Tag:noindex
X-PUBLISHED-TTL:PT1H
BEGIN:VTIMEZONE
TZID:America/Denver
BEGIN:DAYLIGHT
TZOFFSETFROM:-0700
TZOFFSETTO:-0600
TZNAME:MDT
DTSTART:20210314T090000
END:DAYLIGHT
BEGIN:STANDARD
TZOFFSETFROM:-0600
TZOFFSETTO:-0700
TZNAME:MST
DTSTART:20211107T080000
END:STANDARD
BEGIN:DAYLIGHT
TZOFFSETFROM:-0700
TZOFFSETTO:-0600
TZNAME:MDT
DTSTART:20220313T090000
END:DAYLIGHT
BEGIN:STANDARD
TZOFFSETFROM:-0600
TZOFFSETTO:-0700
TZNAME:MST
DTSTART:20221106T080000
END:STANDARD
BEGIN:DAYLIGHT
TZOFFSETFROM:-0700
TZOFFSETTO:-0600
TZNAME:MDT
DTSTART:20230312T090000
END:DAYLIGHT
BEGIN:STANDARD
TZOFFSETFROM:-0600
TZOFFSETTO:-0700
TZNAME:MST
DTSTART:20231105T080000
END:STANDARD
BEGIN:DAYLIGHT
TZOFFSETFROM:-0700
TZOFFSETTO:-0600
TZNAME:MDT
DTSTART:20240310T090000
END:DAYLIGHT
BEGIN:STANDARD
TZOFFSETFROM:-0600
TZOFFSETTO:-0700
TZNAME:MST
DTSTART:20241103T080000
END:STANDARD
BEGIN:DAYLIGHT
TZOFFSETFROM:-0700
TZOFFSETTO:-0600
TZNAME:MDT
DTSTART:20250309T090000
END:DAYLIGHT
BEGIN:STANDARD
TZOFFSETFROM:-0600
TZOFFSETTO:-0700
TZNAME:MST
DTSTART:20251102T080000
END:STANDARD
BEGIN:DAYLIGHT
TZOFFSETFROM:-0700
TZOFFSETTO:-0600
TZNAME:MDT
DTSTART:20260308T090000
END:DAYLIGHT
BEGIN:STANDARD
TZOFFSETFROM:-0600
TZOFFSETTO:-0700
TZNAME:MST
DTSTART:20261101T080000
END:STANDARD
END:VTIMEZONE
BEGIN:VEVENT
DTSTART;TZID=America/Denver:20220106T180000
DTEND;TZID=America/Denver:20220106T210000
DTSTAMP:20260419T094547
CREATED:20211209T210115Z
LAST-MODIFIED:20220406T002752Z
UID:5267-1641492000-1641502800@shakedownbarvail.com
SUMMARY:Always Free Après Ski: Rednor Eaton Duo
DESCRIPTION:Live music featuring Scott Rednor & Rob Eaton Jr. \nDoors & Music @ 6pm
URL:https://shakedownbarvail.com/event/always-free-apres-ski-rednor-eaton-duo-5/
END:VEVENT
BEGIN:VEVENT
DTSTART;TZID=America/Denver:20220107T210000
DTEND;TZID=America/Denver:20220107T235900
DTSTAMP:20260419T094547
CREATED:20211224T015807Z
LAST-MODIFIED:20221109T031346Z
UID:5382-1641589200-1641599940@shakedownbarvail.com
SUMMARY:The Turntable Revue
DESCRIPTION:Live music featuring The Turntable Revue. \nDoors @ 9pm | Music @ 10pm
URL:https://shakedownbarvail.com/event/live-from-shakedown-shakedown-family-band-11/
END:VEVENT
BEGIN:VEVENT
DTSTART;TZID=America/Denver:20250126T210000
DTEND;TZID=America/Denver:20250127T013000
DTSTAMP:20260419T094547
CREATED:20241116T005002Z
LAST-MODIFIED:20241116T005002Z
UID:9526-1737925200-1737941400@shakedownbarvail.com
SUMMARY:The Turntable Revue
DESCRIPTION:The Turntable Revue. \n*Doors open at listed event time\, live music typically starts 60-90 minutes after doors. End times are estimates.
URL:https://shakedownbarvail.com/event/the-turntable-revue/
END:VEVENT
END:VCALENDAR