BEGIN:VCALENDAR
VERSION:2.0
PRODID:-//Shakedown Bar - ECPv6.15.14//NONSGML v1.0//EN
CALSCALE:GREGORIAN
METHOD:PUBLISH
X-ORIGINAL-URL:https://shakedownbarvail.com
X-WR-CALDESC:Events for Shakedown Bar
REFRESH-INTERVAL;VALUE=DURATION:PT1H
X-Robots-Tag:noindex
X-PUBLISHED-TTL:PT1H
BEGIN:VTIMEZONE
TZID:America/Denver
BEGIN:DAYLIGHT
TZOFFSETFROM:-0700
TZOFFSETTO:-0600
TZNAME:MDT
DTSTART:20200308T090000
END:DAYLIGHT
BEGIN:STANDARD
TZOFFSETFROM:-0600
TZOFFSETTO:-0700
TZNAME:MST
DTSTART:20201101T080000
END:STANDARD
BEGIN:DAYLIGHT
TZOFFSETFROM:-0700
TZOFFSETTO:-0600
TZNAME:MDT
DTSTART:20210314T090000
END:DAYLIGHT
BEGIN:STANDARD
TZOFFSETFROM:-0600
TZOFFSETTO:-0700
TZNAME:MST
DTSTART:20211107T080000
END:STANDARD
BEGIN:DAYLIGHT
TZOFFSETFROM:-0700
TZOFFSETTO:-0600
TZNAME:MDT
DTSTART:20220313T090000
END:DAYLIGHT
BEGIN:STANDARD
TZOFFSETFROM:-0600
TZOFFSETTO:-0700
TZNAME:MST
DTSTART:20221106T080000
END:STANDARD
END:VTIMEZONE
BEGIN:VEVENT
DTSTART;TZID=America/Denver:20210820T140000
DTEND;TZID=America/Denver:20210820T190000
DTSTAMP:20260419T082813
CREATED:20210604T071918Z
LAST-MODIFIED:20210604T071918Z
UID:4791-1629468000-1629486000@shakedownbarvail.com
SUMMARY:Pop-Up Street Music: Kory Montgomery Band
DESCRIPTION:Free music in Vail Village featuring the Kory Montgomery Band. \nBrought to you by Shakedown Presents\, MAPS Music and Town of Vail.
URL:https://shakedownbarvail.com/event/pop-up-street-music-kory-montgomery-band-7/
LOCATION:Children’s Fountain\, Vail Village
END:VEVENT
BEGIN:VEVENT
DTSTART;TZID=America/Denver:20210820T210000
DTEND;TZID=America/Denver:20210820T235900
DTSTAMP:20260419T082813
CREATED:20210624T052406Z
LAST-MODIFIED:20210625T191143Z
UID:4926-1629493200-1629503940@shakedownbarvail.com
SUMMARY:Live from Shakedown: Kory Montgomery Band feat. Mark Levy
DESCRIPTION:Live music with Kory Montgomery Band feat. Mark Levy and more. Doors @ 9pm | Music @ 9:30pm. $20
URL:https://shakedownbarvail.com/event/live-from-shakedown-kory-montgomery-band-feat-mark-levy-3/
END:VEVENT
END:VCALENDAR