BEGIN:VCALENDAR
VERSION:2.0
PRODID:-//Shakedown Bar - ECPv6.15.14//NONSGML v1.0//EN
CALSCALE:GREGORIAN
METHOD:PUBLISH
X-WR-CALNAME:Shakedown Bar
X-ORIGINAL-URL:https://shakedownbarvail.com
X-WR-CALDESC:Events for Shakedown Bar
REFRESH-INTERVAL;VALUE=DURATION:PT1H
X-Robots-Tag:noindex
X-PUBLISHED-TTL:PT1H
BEGIN:VTIMEZONE
TZID:America/Denver
BEGIN:DAYLIGHT
TZOFFSETFROM:-0700
TZOFFSETTO:-0600
TZNAME:MDT
DTSTART:20200308T090000
END:DAYLIGHT
BEGIN:STANDARD
TZOFFSETFROM:-0600
TZOFFSETTO:-0700
TZNAME:MST
DTSTART:20201101T080000
END:STANDARD
BEGIN:DAYLIGHT
TZOFFSETFROM:-0700
TZOFFSETTO:-0600
TZNAME:MDT
DTSTART:20210314T090000
END:DAYLIGHT
BEGIN:STANDARD
TZOFFSETFROM:-0600
TZOFFSETTO:-0700
TZNAME:MST
DTSTART:20211107T080000
END:STANDARD
BEGIN:DAYLIGHT
TZOFFSETFROM:-0700
TZOFFSETTO:-0600
TZNAME:MDT
DTSTART:20220313T090000
END:DAYLIGHT
BEGIN:STANDARD
TZOFFSETFROM:-0600
TZOFFSETTO:-0700
TZNAME:MST
DTSTART:20221106T080000
END:STANDARD
END:VTIMEZONE
BEGIN:VEVENT
DTSTART;TZID=America/Denver:20210819T180000
DTEND;TZID=America/Denver:20210819T190000
DTSTAMP:20260419T082741
CREATED:20210720T045903Z
LAST-MODIFIED:20210813T022459Z
UID:5062-1629396000-1629399600@shakedownbarvail.com
SUMMARY:The Shakedown Sessions: Johnny & the Mongrels
DESCRIPTION:A world-wide streaming event with Sessions Live. \nWatch the livestream HERE for free. \nFeatured artists: Johnny & the Mongrels.
URL:https://shakedownbarvail.com/event/the-shakedown-sessions-brothers-keeper-feat-shawn-eckels/
LOCATION:Shakedown Bar 304 Bridge St\, Vail\, CO  81657\, United States\, Shakedown Bar 304 Bridge St\, Vail\, CO 81657\, United States
END:VEVENT
BEGIN:VEVENT
DTSTART;TZID=America/Denver:20210819T210000
DTEND;TZID=America/Denver:20210819T235900
DTSTAMP:20260419T082741
CREATED:20210624T051937Z
LAST-MODIFIED:20210813T022621Z
UID:4924-1629406800-1629417540@shakedownbarvail.com
SUMMARY:Live from Shakedown: Johnny & the Mongrels
DESCRIPTION:Live music with Johnny & the Mongrels. Doors @ 9pm | Music @ 9:30pm. $20
URL:https://shakedownbarvail.com/event/live-from-shakedown-shawn-eckels-brothers-keeper/
END:VEVENT
END:VCALENDAR