BEGIN:VCALENDAR
VERSION:2.0
PRODID:-//Shakedown Bar - ECPv6.15.14//NONSGML v1.0//EN
CALSCALE:GREGORIAN
METHOD:PUBLISH
X-WR-CALNAME:Shakedown Bar
X-ORIGINAL-URL:https://shakedownbarvail.com
X-WR-CALDESC:Events for Shakedown Bar
REFRESH-INTERVAL;VALUE=DURATION:PT1H
X-Robots-Tag:noindex
X-PUBLISHED-TTL:PT1H
BEGIN:VTIMEZONE
TZID:America/Denver
BEGIN:DAYLIGHT
TZOFFSETFROM:-0700
TZOFFSETTO:-0600
TZNAME:MDT
DTSTART:20200308T090000
END:DAYLIGHT
BEGIN:STANDARD
TZOFFSETFROM:-0600
TZOFFSETTO:-0700
TZNAME:MST
DTSTART:20201101T080000
END:STANDARD
BEGIN:DAYLIGHT
TZOFFSETFROM:-0700
TZOFFSETTO:-0600
TZNAME:MDT
DTSTART:20210314T090000
END:DAYLIGHT
BEGIN:STANDARD
TZOFFSETFROM:-0600
TZOFFSETTO:-0700
TZNAME:MST
DTSTART:20211107T080000
END:STANDARD
BEGIN:DAYLIGHT
TZOFFSETFROM:-0700
TZOFFSETTO:-0600
TZNAME:MDT
DTSTART:20220313T090000
END:DAYLIGHT
BEGIN:STANDARD
TZOFFSETFROM:-0600
TZOFFSETTO:-0700
TZNAME:MST
DTSTART:20221106T080000
END:STANDARD
END:VTIMEZONE
BEGIN:VEVENT
DTSTART;TZID=America/Denver:20210805T180000
DTEND;TZID=America/Denver:20210805T190000
DTSTAMP:20260419T082741
CREATED:20210720T045542Z
LAST-MODIFIED:20210809T235515Z
UID:5059-1628186400-1628190000@shakedownbarvail.com
SUMMARY:The Shakedown Sessions: Rednor Eaton Duo
DESCRIPTION:A world-wide streaming event with Sessions Live. \nWatch the livestream HERE for free. \nFeaturing the Rednor Eaton Duo with Scott Rednor and Rob Eaton\, Jr.
URL:https://shakedownbarvail.com/event/the-shakedown-sessions-shakedown-family-band/
LOCATION:Shakedown Bar 304 Bridge St\, Vail\, CO  81657\, United States\, Shakedown Bar 304 Bridge St\, Vail\, CO 81657\, United States
END:VEVENT
BEGIN:VEVENT
DTSTART;TZID=America/Denver:20210805T210000
DTEND;TZID=America/Denver:20210805T235900
DTSTAMP:20260419T082741
CREATED:20210625T194405Z
LAST-MODIFIED:20210803T211027Z
UID:4965-1628197200-1628207940@shakedownbarvail.com
SUMMARY:Live from Shakedown: Rednor Eaton Duo
DESCRIPTION:Featuring live music from the Rednor Eaton Duo with Scott Rednor and Rob Eaton\, Jr. Doors @ 9pm | Music @ 9:30pm. $20 \n 
URL:https://shakedownbarvail.com/event/live-from-shakedown-shakedown-family-band-4/
END:VEVENT
END:VCALENDAR