BEGIN:VCALENDAR
VERSION:2.0
PRODID:-//Shakedown Bar - ECPv6.15.14//NONSGML v1.0//EN
CALSCALE:GREGORIAN
METHOD:PUBLISH
X-ORIGINAL-URL:https://shakedownbarvail.com
X-WR-CALDESC:Events for Shakedown Bar
REFRESH-INTERVAL;VALUE=DURATION:PT1H
X-Robots-Tag:noindex
X-PUBLISHED-TTL:PT1H
BEGIN:VTIMEZONE
TZID:America/Denver
BEGIN:DAYLIGHT
TZOFFSETFROM:-0700
TZOFFSETTO:-0600
TZNAME:MDT
DTSTART:20200308T090000
END:DAYLIGHT
BEGIN:STANDARD
TZOFFSETFROM:-0600
TZOFFSETTO:-0700
TZNAME:MST
DTSTART:20201101T080000
END:STANDARD
BEGIN:DAYLIGHT
TZOFFSETFROM:-0700
TZOFFSETTO:-0600
TZNAME:MDT
DTSTART:20210314T090000
END:DAYLIGHT
BEGIN:STANDARD
TZOFFSETFROM:-0600
TZOFFSETTO:-0700
TZNAME:MST
DTSTART:20211107T080000
END:STANDARD
BEGIN:DAYLIGHT
TZOFFSETFROM:-0700
TZOFFSETTO:-0600
TZNAME:MDT
DTSTART:20220313T090000
END:DAYLIGHT
BEGIN:STANDARD
TZOFFSETFROM:-0600
TZOFFSETTO:-0700
TZNAME:MST
DTSTART:20221106T080000
END:STANDARD
END:VTIMEZONE
BEGIN:VEVENT
DTSTART;TZID=America/Denver:20210717T140000
DTEND;TZID=America/Denver:20210717T190000
DTSTAMP:20260419T094618
CREATED:20210604T063548Z
LAST-MODIFIED:20210604T063548Z
UID:4767-1626530400-1626548400@shakedownbarvail.com
SUMMARY:Pop-Up Street Music: Mark Levy & Friends
DESCRIPTION:Free music in Lionshead Village featuring Mark Levy & Friends. \nBrought to you by Shakedown Presents\, MAPS Music and Town of Vail.
URL:https://shakedownbarvail.com/event/pop-up-street-music-mark-levy-friends/
LOCATION:Lionshead\, Vail
END:VEVENT
BEGIN:VEVENT
DTSTART;TZID=America/Denver:20210717T210000
DTEND;TZID=America/Denver:20210717T235900
DTSTAMP:20260419T094618
CREATED:20210622T061543Z
LAST-MODIFIED:20210625T185351Z
UID:4890-1626555600-1626566340@shakedownbarvail.com
SUMMARY:Live From Shakedown: Mark Levy & Friends
DESCRIPTION:Mark Levy & Friends featuring Garrett Sayers and Joey Porter. Doors @ 9pm | Music @ 9:30pm. $20
URL:https://shakedownbarvail.com/event/live-from-shakedown-mark-levy-friends/
END:VEVENT
END:VCALENDAR