BEGIN:VCALENDAR
VERSION:2.0
PRODID:-//Shakedown Bar - ECPv6.15.14//NONSGML v1.0//EN
CALSCALE:GREGORIAN
METHOD:PUBLISH
X-ORIGINAL-URL:https://shakedownbarvail.com
X-WR-CALDESC:Events for Shakedown Bar
REFRESH-INTERVAL;VALUE=DURATION:PT1H
X-Robots-Tag:noindex
X-PUBLISHED-TTL:PT1H
BEGIN:VTIMEZONE
TZID:America/Denver
BEGIN:DAYLIGHT
TZOFFSETFROM:-0700
TZOFFSETTO:-0600
TZNAME:MDT
DTSTART:20190310T090000
END:DAYLIGHT
BEGIN:STANDARD
TZOFFSETFROM:-0600
TZOFFSETTO:-0700
TZNAME:MST
DTSTART:20191103T080000
END:STANDARD
BEGIN:DAYLIGHT
TZOFFSETFROM:-0700
TZOFFSETTO:-0600
TZNAME:MDT
DTSTART:20200308T090000
END:DAYLIGHT
BEGIN:STANDARD
TZOFFSETFROM:-0600
TZOFFSETTO:-0700
TZNAME:MST
DTSTART:20201101T080000
END:STANDARD
BEGIN:DAYLIGHT
TZOFFSETFROM:-0700
TZOFFSETTO:-0600
TZNAME:MDT
DTSTART:20210314T090000
END:DAYLIGHT
BEGIN:STANDARD
TZOFFSETFROM:-0600
TZOFFSETTO:-0700
TZNAME:MST
DTSTART:20211107T080000
END:STANDARD
END:VTIMEZONE
BEGIN:VEVENT
DTSTART;TZID=America/Denver:20200326T170000
DTEND;TZID=America/Denver:20200326T200000
DTSTAMP:20260420T103346
CREATED:20200215T212726Z
LAST-MODIFIED:20200215T212726Z
UID:4463-1585242000-1585252800@shakedownbarvail.com
SUMMARY:5:00 PM — Shawn Eckels Apres
DESCRIPTION:Doors: 4:00 pm • Show: 5:00 pm \nShawn Eckels – Guitar/vox (Andy Frasco and the Model UN)
URL:https://shakedownbarvail.com/event/500-pm-shawn-eckels-apres-3/
LOCATION:Shakedown Bar 304 Bridge St\, Vail\, CO  81657\, United States\, Shakedown Bar 304 Bridge St\, Vail\, CO 81657\, United States
CATEGORIES:Aprés,Events
ATTACH;FMTTYPE=image/jpeg:https://shakedownbarvail.com/wp-content/uploads/2019/10/unnamed.jpg
END:VEVENT
BEGIN:VEVENT
DTSTART;TZID=America/Denver:20200326T190000
DTEND;TZID=America/Denver:20200326T210000
DTSTAMP:20260420T103346
CREATED:20200215T213152Z
LAST-MODIFIED:20200215T213152Z
UID:4465-1585249200-1585256400@shakedownbarvail.com
SUMMARY:7:00 PM - Grateful Bluegrass Boys
DESCRIPTION:Show: 7:00 pm\n\nGrateful Bluegrass Boys are an acoustic string band from the Santa Cruz/SF Bay Area.\nTheir primary mission is to get the audience singing and dancing along to beloved songs one might…or might not expect from a string band. Their first CD includes songs by Paul Simon\, Willie Nelson\, Led Zeppelin\, Johnny Nash\, The Eagles\, and the Grateful Dead.\nWhile the name of the band references the Grateful Dead\, gratitude is at the core of the band. They feel incredibly fortunate to play music for people all over the country and keep their set lists fresh and diverse. Recent shows include music by Ray Charles\, Dire Straits\, Neil Young\, the Cars and more!\nThe band also has a healthy respect for traditional Bluegrass and one can expect fiddle tunes and raucous Bluegrass songs.\nThe band fits in perfectly at Bluegrass Festivals\, Jam Band festivals\, and art centers.\nThey have shared the stage with Bob Weir\, Phil Lesh\, Lukas Nelson\, Bill Nershi\, and many more incredible musicians.
URL:https://shakedownbarvail.com/event/700-pm-grateful-bluegrass-boys/
LOCATION:Shakedown Bar 304 Bridge St\, Vail\, CO  81657\, United States\, Shakedown Bar 304 Bridge St\, Vail\, CO 81657\, United States
CATEGORIES:Evening Show,Events
ATTACH;FMTTYPE=image/jpeg:https://shakedownbarvail.com/wp-content/uploads/2020/02/b-W1sicmVzaXplIiwxNTAwXSxbIm1heCJdLFsid2UiXV0.jpg
END:VEVENT
BEGIN:VEVENT
DTSTART;TZID=America/Denver:20200326T213000
DTEND;TZID=America/Denver:20200327T013000
DTSTAMP:20260420T103346
CREATED:20200215T213430Z
LAST-MODIFIED:20200215T213430Z
UID:4468-1585258200-1585272600@shakedownbarvail.com
SUMMARY:9:30 PM - Scott Rednor Band feat. Eckels\, Levy\, Kelling
DESCRIPTION:Show: 9:30 pm\n\n\nScott Rednor – Guitar/vocals\nMark Levy – Drums/vocals\nKramer Kelling – Bass/vocals\nShawn Eckels – Guitar/vocals
URL:https://shakedownbarvail.com/event/930-pm-scott-rednor-band-feat-eckels-levy-kelling/
LOCATION:Shakedown Bar 304 Bridge St\, Vail\, CO  81657\, United States\, Shakedown Bar 304 Bridge St\, Vail\, CO 81657\, United States
CATEGORIES:Evening Show,Events
ATTACH;FMTTYPE=image/jpeg:https://shakedownbarvail.com/wp-content/uploads/2018/12/home-slider.jpg
END:VEVENT
END:VCALENDAR