BEGIN:VCALENDAR
VERSION:2.0
PRODID:-//Shakedown Bar - ECPv6.15.14//NONSGML v1.0//EN
CALSCALE:GREGORIAN
METHOD:PUBLISH
X-ORIGINAL-URL:https://shakedownbarvail.com
X-WR-CALDESC:Events for Shakedown Bar
REFRESH-INTERVAL;VALUE=DURATION:PT1H
X-Robots-Tag:noindex
X-PUBLISHED-TTL:PT1H
BEGIN:VTIMEZONE
TZID:America/Denver
BEGIN:DAYLIGHT
TZOFFSETFROM:-0700
TZOFFSETTO:-0600
TZNAME:MDT
DTSTART:20190310T090000
END:DAYLIGHT
BEGIN:STANDARD
TZOFFSETFROM:-0600
TZOFFSETTO:-0700
TZNAME:MST
DTSTART:20191103T080000
END:STANDARD
BEGIN:DAYLIGHT
TZOFFSETFROM:-0700
TZOFFSETTO:-0600
TZNAME:MDT
DTSTART:20200308T090000
END:DAYLIGHT
BEGIN:STANDARD
TZOFFSETFROM:-0600
TZOFFSETTO:-0700
TZNAME:MST
DTSTART:20201101T080000
END:STANDARD
BEGIN:DAYLIGHT
TZOFFSETFROM:-0700
TZOFFSETTO:-0600
TZNAME:MDT
DTSTART:20210314T090000
END:DAYLIGHT
BEGIN:STANDARD
TZOFFSETFROM:-0600
TZOFFSETTO:-0700
TZNAME:MST
DTSTART:20211107T080000
END:STANDARD
END:VTIMEZONE
BEGIN:VEVENT
DTSTART;TZID=America/Denver:20200313T170000
DTEND;TZID=America/Denver:20200313T200000
DTSTAMP:20260420T103850
CREATED:20200211T200652Z
LAST-MODIFIED:20200211T200652Z
UID:4420-1584118800-1584129600@shakedownbarvail.com
SUMMARY:5:00 PM - Scott Rednor & Friends
DESCRIPTION:Doors: 4:00 PM • Show: 5:00 PM \nLineup TBA \nJoin Scott Rednor & Friends for an apres show unlike any other in Vail.  You’ll hear songs you know and love done with a fresh apres appropriate approach.  Scott uses live loops\, a stompox\, percussion\, his guitar and his voice\, to create a rich tapestry of sound.  Plus he’s backed up by some of his amazing friends for a truly unforgettable apres show!
URL:https://shakedownbarvail.com/event/500-pm-scott-rednor-friends-16/
LOCATION:Shakedown Bar 304 Bridge St\, Vail\, CO  81657\, United States\, Shakedown Bar 304 Bridge St\, Vail\, CO 81657\, United States
CATEGORIES:Aprés,Events
ATTACH;FMTTYPE=image/png:https://shakedownbarvail.com/wp-content/uploads/2019/10/ShawnRednor.png
END:VEVENT
BEGIN:VEVENT
DTSTART;TZID=America/Denver:20200313T213000
DTEND;TZID=America/Denver:20200314T013000
DTSTAMP:20260420T103850
CREATED:20200211T201000Z
LAST-MODIFIED:20200211T201000Z
UID:4422-1584135000-1584149400@shakedownbarvail.com
SUMMARY:9:30 PM - Shawn Eckels Band
DESCRIPTION:Show: 9:30 pm \nShawn Eckels (Andy Frasco) – Guitar/vocals\nScott Rednor (Brothers Keeper) – Guitar/vocals\nMark Levy (Circles Around The Sun) – Drums/vocals\nTodd Smallie (JJ Grey) – Bass
URL:https://shakedownbarvail.com/event/930-pm-shawn-eckels-band/
LOCATION:Shakedown Bar 304 Bridge St\, Vail\, CO  81657\, United States\, Shakedown Bar 304 Bridge St\, Vail\, CO 81657\, United States
CATEGORIES:Evening Show,Events
ATTACH;FMTTYPE=image/jpeg:https://shakedownbarvail.com/wp-content/uploads/2018/12/IMG_4105.jpg
END:VEVENT
END:VCALENDAR