BEGIN:VCALENDAR
VERSION:2.0
PRODID:-//Shakedown Bar - ECPv6.15.14//NONSGML v1.0//EN
CALSCALE:GREGORIAN
METHOD:PUBLISH
X-WR-CALNAME:Shakedown Bar
X-ORIGINAL-URL:https://shakedownbarvail.com
X-WR-CALDESC:Events for Shakedown Bar
REFRESH-INTERVAL;VALUE=DURATION:PT1H
X-Robots-Tag:noindex
X-PUBLISHED-TTL:PT1H
BEGIN:VTIMEZONE
TZID:America/Denver
BEGIN:DAYLIGHT
TZOFFSETFROM:-0700
TZOFFSETTO:-0600
TZNAME:MDT
DTSTART:20190310T090000
END:DAYLIGHT
BEGIN:STANDARD
TZOFFSETFROM:-0600
TZOFFSETTO:-0700
TZNAME:MST
DTSTART:20191103T080000
END:STANDARD
BEGIN:DAYLIGHT
TZOFFSETFROM:-0700
TZOFFSETTO:-0600
TZNAME:MDT
DTSTART:20200308T090000
END:DAYLIGHT
BEGIN:STANDARD
TZOFFSETFROM:-0600
TZOFFSETTO:-0700
TZNAME:MST
DTSTART:20201101T080000
END:STANDARD
BEGIN:DAYLIGHT
TZOFFSETFROM:-0700
TZOFFSETTO:-0600
TZNAME:MDT
DTSTART:20210314T090000
END:DAYLIGHT
BEGIN:STANDARD
TZOFFSETFROM:-0600
TZOFFSETTO:-0700
TZNAME:MST
DTSTART:20211107T080000
END:STANDARD
END:VTIMEZONE
BEGIN:VEVENT
DTSTART;TZID=America/Denver:20200305T170000
DTEND;TZID=America/Denver:20200305T200000
DTSTAMP:20260420T103852
CREATED:20200113T184617Z
LAST-MODIFIED:20200113T184617Z
UID:4380-1583427600-1583438400@shakedownbarvail.com
SUMMARY:5:00 PM - Scott Rednor Après
DESCRIPTION:Doors: 4:00 PM • Show: 5:00 PM\n\n\nJoin Scott Rednor for an apres show unlike any other in Vail.  You’ll hear songs you know and love done with a fresh solo acoustic approach.  Scott uses live loops\, a stompox\, percussion\, his guitar and his voice\, to create a rich tapestry of sound and an experience that’ll make you want to come back for more!
URL:https://shakedownbarvail.com/event/500-pm-scott-rednor-apres-11/
LOCATION:Shakedown Bar 304 Bridge St\, Vail\, CO  81657\, United States\, Shakedown Bar 304 Bridge St\, Vail\, CO 81657\, United States
CATEGORIES:Aprés,Events
ATTACH;FMTTYPE=image/jpeg:https://shakedownbarvail.com/wp-content/uploads/2019/09/RednorAcoustic.jpg
END:VEVENT
BEGIN:VEVENT
DTSTART;TZID=America/Denver:20200305T213000
DTEND;TZID=America/Denver:20200306T013000
DTSTAMP:20260420T103852
CREATED:20200125T211859Z
LAST-MODIFIED:20200125T211859Z
UID:4390-1583443800-1583458200@shakedownbarvail.com
SUMMARY:9:30 PM - Band TBA
DESCRIPTION:Show: 9:30 pm\n\n\nBand TBA
URL:https://shakedownbarvail.com/event/930-pm-band-tba-3/
LOCATION:Shakedown Bar 304 Bridge St\, Vail\, CO  81657\, United States\, Shakedown Bar 304 Bridge St\, Vail\, CO 81657\, United States
CATEGORIES:Evening Show,Events
ATTACH;FMTTYPE=image/jpeg:https://shakedownbarvail.com/wp-content/uploads/2019/03/home-slider-logo.jpg
END:VEVENT
BEGIN:VEVENT
DTSTART;TZID=America/Denver:20200305T213000
DTEND;TZID=America/Denver:20200306T013000
DTSTAMP:20260420T103852
CREATED:20200211T203450Z
LAST-MODIFIED:20200211T204547Z
UID:4436-1583443800-1583458200@shakedownbarvail.com
SUMMARY:9:30 PM - The Nth Power
DESCRIPTION:Show: 9:30 pm\n \nThe Nth Power \nNick Cassarino – Guitar/vocals \nNikki Glaspie – Drums \nNate Edgar – Bass \n\nProving that soul music can be exponentially greater than the sum of its parts\, The Nth Power is on a mission to share the light. Formed during an impromptu late-night jam at Jazz Fest 2012 in New Orleans\, the relentlessly funky and soulful band believes in music as a higher power — tapping into an energy that is simultaneously sexy and spiritual\, with songs that will inspire audiences to dance\, groove\, make love or just stand there with goose bumps. \nThe quintet hails from diverse musical backgrounds\, races and creeds. Female powerhouse Nikki Glaspie was Beyonce’s world-touring drummer for five years before she joined Ivan Neville’s New Orleans funk outfit\, Dumpstaphunk. Bassist Nate Edgar of Groovechild and John Brown’s Body perfectly compliments Singer and Guitarist Nick Cassarino who came from the Jennifer Hartswick Band and toured with Big Daddy Kane. Next add West African Master-Percussionist\, Weedie Braimah to the mix with his insurmountable world beat rhythms. Finally rounding off the ensemble is the newest and youngest member\, Courtney J’Mell Smith who brings his soulful vocals and keyboard abilities to the table. \n“Just know that when you hear this music\, you’re going to feel something — you’re going to connect with something higher than yourself\,” explains Braimah. \nThe Nth Power’s 2013 independent EP\, Basic Minimum Skills Test\, showcases a first glimpse of the spark shared among the group\, delivering gospel-style vocals with soul\, jazz\, funk and world-beat riffs in nearly mathematical fashion. \n“It’s my dream team\,” said Glaspie. “Each one of us is a songwriter\, so when we get together\, everything becomes that much stronger.” Beyond raw skill\, however\, Glaspie cites a deep spiritual connection as the glue that binds them together. “Music is what brought us together\, but it’s the spiritual bond that makes us play so in touch with each other\,” she explained. \nAnd at the core of their vibe is a deviously simple concept — the healing power of love. \nFollowing The Nth Power’s 2013 debut\, their inspirational sets floored audiences at music festivals like Electric Forest\, Bear Creek\, Catskill Chill and North Coast Music Festival. In just the last six months\, the group has performed more than 50 shows in 21 states across the US\, and made their second international appearance at Australia’s Caloundra Music Festival on their 2014 “Fall In Love Tour.” \nAlthough the band members are based across the East Coast\, they maintain New Orleans as their “spiritual home\,” and the celebratory essence of that city’s music culture is audible in each performance. \nIn September 2015\, The Nth Power will release their first full-length studio album\, Abundance. The studio version of the album’s lead single “Only Love” will debut in June 2015 and promises a soul-surrendering groove steeped in fellowship among all who hear it. They have a live recording of this song already in regular rotation on Sirius XM Radio’s “Jam On” station. \nSimply put\, there is something pretty magical happening in this band\, and they’re only just getting started. “We’re going as far as you can go on the planet Earth and playing music\,” explains Glaspie. “I don’t know how many times we’ve said it — we are so blessed.” \n#THENTHPOWERLOVESYOU
URL:https://shakedownbarvail.com/event/930-pm-the-nth-power/
LOCATION:Shakedown Bar 304 Bridge St\, Vail\, CO  81657\, United States\, Shakedown Bar 304 Bridge St\, Vail\, CO 81657\, United States
CATEGORIES:Evening Show,Events
ATTACH;FMTTYPE=image/jpeg:https://shakedownbarvail.com/wp-content/uploads/2020/02/Nth-Promo-Pic-1.jpg
END:VEVENT
END:VCALENDAR