BEGIN:VCALENDAR
VERSION:2.0
PRODID:-//Shakedown Bar - ECPv6.15.14//NONSGML v1.0//EN
CALSCALE:GREGORIAN
METHOD:PUBLISH
X-WR-CALNAME:Shakedown Bar
X-ORIGINAL-URL:https://shakedownbarvail.com
X-WR-CALDESC:Events for Shakedown Bar
REFRESH-INTERVAL;VALUE=DURATION:PT1H
X-Robots-Tag:noindex
X-PUBLISHED-TTL:PT1H
BEGIN:VTIMEZONE
TZID:America/Denver
BEGIN:DAYLIGHT
TZOFFSETFROM:-0700
TZOFFSETTO:-0600
TZNAME:MDT
DTSTART:20190310T090000
END:DAYLIGHT
BEGIN:STANDARD
TZOFFSETFROM:-0600
TZOFFSETTO:-0700
TZNAME:MST
DTSTART:20191103T080000
END:STANDARD
BEGIN:DAYLIGHT
TZOFFSETFROM:-0700
TZOFFSETTO:-0600
TZNAME:MDT
DTSTART:20200308T090000
END:DAYLIGHT
BEGIN:STANDARD
TZOFFSETFROM:-0600
TZOFFSETTO:-0700
TZNAME:MST
DTSTART:20201101T080000
END:STANDARD
BEGIN:DAYLIGHT
TZOFFSETFROM:-0700
TZOFFSETTO:-0600
TZNAME:MDT
DTSTART:20210314T090000
END:DAYLIGHT
BEGIN:STANDARD
TZOFFSETFROM:-0600
TZOFFSETTO:-0700
TZNAME:MST
DTSTART:20211107T080000
END:STANDARD
END:VTIMEZONE
BEGIN:VEVENT
DTSTART;TZID=America/Denver:20200124T170000
DTEND;TZID=America/Denver:20200124T200000
DTSTAMP:20260420T133120
CREATED:20191130T050556Z
LAST-MODIFIED:20191220T224750Z
UID:4181-1579885200-1579896000@shakedownbarvail.com
SUMMARY:5:00 PM - Scott Rednor & Friends
DESCRIPTION:Doors: 4:00 PM • Show: 5:00 PM \nLineup TBA \nJoin Scott Rednor & Friends for an apres show unlike any other in Vail.  You’ll hear songs you know and love done with a fresh apres appropriate approach.  Scott uses live loops\, a stompox\, percussion\, his guitar and his voice\, to create a rich tapestry of sound.  Plus he’s backed up by some of his amazing friends for a truly unforgettable apres show!
URL:https://shakedownbarvail.com/event/500-pm-scott-rednor-friends-9/
LOCATION:Shakedown Bar 304 Bridge St\, Vail\, CO  81657\, United States\, Shakedown Bar 304 Bridge St\, Vail\, CO 81657\, United States
CATEGORIES:Aprés,Events
ATTACH;FMTTYPE=image/jpeg:https://shakedownbarvail.com/wp-content/uploads/2018/12/home-slider.jpg
END:VEVENT
BEGIN:VEVENT
DTSTART;TZID=America/Denver:20200124T213000
DTEND;TZID=America/Denver:20200125T013000
DTSTAMP:20260420T133120
CREATED:20191130T051058Z
LAST-MODIFIED:20191212T225217Z
UID:4183-1579901400-1579915800@shakedownbarvail.com
SUMMARY:9:30 PM - Scott Rednor Band feat. Porter\, Levy\, Smallie
DESCRIPTION:Show: 9:30 pm\n\n\nScott Rednor  – Guitar/vocals\nJoey Porter (The Motet) – Keyboards\nMark Levy (Circles Around The Sun) – Drums\nTodd Smallie (JJ Grey) – Bass
URL:https://shakedownbarvail.com/event/930-pm-scott-rednor-band-feat-porter-levy-2/
LOCATION:Shakedown Bar 304 Bridge St\, Vail\, CO  81657\, United States\, Shakedown Bar 304 Bridge St\, Vail\, CO 81657\, United States
CATEGORIES:Evening Show,Events
ATTACH;FMTTYPE=image/jpeg:https://shakedownbarvail.com/wp-content/uploads/2018/12/home-slider.jpg
END:VEVENT
END:VCALENDAR