BEGIN:VCALENDAR
VERSION:2.0
PRODID:-//Shakedown Bar - ECPv6.15.14//NONSGML v1.0//EN
CALSCALE:GREGORIAN
METHOD:PUBLISH
X-WR-CALNAME:Shakedown Bar
X-ORIGINAL-URL:https://shakedownbarvail.com
X-WR-CALDESC:Events for Shakedown Bar
REFRESH-INTERVAL;VALUE=DURATION:PT1H
X-Robots-Tag:noindex
X-PUBLISHED-TTL:PT1H
BEGIN:VTIMEZONE
TZID:America/Denver
BEGIN:DAYLIGHT
TZOFFSETFROM:-0700
TZOFFSETTO:-0600
TZNAME:MDT
DTSTART:20190310T090000
END:DAYLIGHT
BEGIN:STANDARD
TZOFFSETFROM:-0600
TZOFFSETTO:-0700
TZNAME:MST
DTSTART:20191103T080000
END:STANDARD
BEGIN:DAYLIGHT
TZOFFSETFROM:-0700
TZOFFSETTO:-0600
TZNAME:MDT
DTSTART:20200308T090000
END:DAYLIGHT
BEGIN:STANDARD
TZOFFSETFROM:-0600
TZOFFSETTO:-0700
TZNAME:MST
DTSTART:20201101T080000
END:STANDARD
BEGIN:DAYLIGHT
TZOFFSETFROM:-0700
TZOFFSETTO:-0600
TZNAME:MDT
DTSTART:20210314T090000
END:DAYLIGHT
BEGIN:STANDARD
TZOFFSETFROM:-0600
TZOFFSETTO:-0700
TZNAME:MST
DTSTART:20211107T080000
END:STANDARD
END:VTIMEZONE
BEGIN:VEVENT
DTSTART;TZID=America/Denver:20200112T213000
DTEND;TZID=America/Denver:20200113T013000
DTSTAMP:20260420T133119
CREATED:20191121T040505Z
LAST-MODIFIED:20191121T040505Z
UID:4137-1578864600-1578879000@shakedownbarvail.com
SUMMARY:9:30 PM - Jubilingo
DESCRIPTION:Doors: 9:00 Show: 9:30 PM\n\nhttps://jubilingomusic.com/band \nFueled by compelling vocals and improvisatory sections\, Jubilingo will light your fire with an impassioned blend of insightful originals and distinct covers. The Denver based quartet melds soul\, funk\, gospel and jazz with roots rock and improvisation. \nGeorgia native\, Jessica Holloway\, brings a fire to any stage she sets foot on.  Jess’ soulful and powerful vocals and sizzling organ and keyboard playing light up the night.  Keith Hicks adds robust vocals and high-spirited guitar work\, paying homage to past masters and striving to forge new ground through an eclectic amalgamation of styles.  Jake Herman (percussion) and Matthew Rossmann (bass) provide a tight and driving rhythm section\, dynamically attuned to varying shifts in the band’s music\, distinctly laying down a variety of choice grooves.  Featuring tunes rooted in southern soul\, jam rock\, and insightful ballads\, Jubilingo is gaining notice through their spirited and stirring live shows\, and is currently in the studio working on their debut album.
URL:https://shakedownbarvail.com/event/930-pm-jubilingo/
LOCATION:Shakedown Bar 304 Bridge St\, Vail\, CO  81657\, United States\, Shakedown Bar 304 Bridge St\, Vail\, CO 81657\, United States
CATEGORIES:Evening Show,Events
ATTACH;FMTTYPE=image/jpeg:https://shakedownbarvail.com/wp-content/uploads/2019/08/JubilingoNewPhotos12-188of10.jpg
END:VEVENT
END:VCALENDAR