BEGIN:VCALENDAR
VERSION:2.0
PRODID:-//Shakedown Bar - ECPv6.15.14//NONSGML v1.0//EN
CALSCALE:GREGORIAN
METHOD:PUBLISH
X-WR-CALNAME:Shakedown Bar
X-ORIGINAL-URL:https://shakedownbarvail.com
X-WR-CALDESC:Events for Shakedown Bar
REFRESH-INTERVAL;VALUE=DURATION:PT1H
X-Robots-Tag:noindex
X-PUBLISHED-TTL:PT1H
BEGIN:VTIMEZONE
TZID:America/Denver
BEGIN:DAYLIGHT
TZOFFSETFROM:-0700
TZOFFSETTO:-0600
TZNAME:MDT
DTSTART:20190310T090000
END:DAYLIGHT
BEGIN:STANDARD
TZOFFSETFROM:-0600
TZOFFSETTO:-0700
TZNAME:MST
DTSTART:20191103T080000
END:STANDARD
BEGIN:DAYLIGHT
TZOFFSETFROM:-0700
TZOFFSETTO:-0600
TZNAME:MDT
DTSTART:20200308T090000
END:DAYLIGHT
BEGIN:STANDARD
TZOFFSETFROM:-0600
TZOFFSETTO:-0700
TZNAME:MST
DTSTART:20201101T080000
END:STANDARD
BEGIN:DAYLIGHT
TZOFFSETFROM:-0700
TZOFFSETTO:-0600
TZNAME:MDT
DTSTART:20210314T090000
END:DAYLIGHT
BEGIN:STANDARD
TZOFFSETFROM:-0600
TZOFFSETTO:-0700
TZNAME:MST
DTSTART:20211107T080000
END:STANDARD
END:VTIMEZONE
BEGIN:VEVENT
DTSTART;TZID=America/Denver:20200111T170000
DTEND;TZID=America/Denver:20200111T200000
DTSTAMP:20260420T133120
CREATED:20191121T035834Z
LAST-MODIFIED:20191220T225033Z
UID:4132-1578762000-1578772800@shakedownbarvail.com
SUMMARY:5:00 PM - Brothers Keeper Trio Acoustic Apres
DESCRIPTION:Doors: 4:00 PM • Show: 5:00 PM \nJoin Brothers Keeper Trio for an apres show unlike any other in Vail.  You’ll hear songs you know and love done with a fresh apres appropriate approach.  Brothers Keeper is a powerhouse trio led by Scott Rednor\, featuring John Michel (Drums/vocals) and Michael Jude (Bass/vocals) who spent almost 20 years touring the world with John Oates Band.
URL:https://shakedownbarvail.com/event/500-pm-scott-rednor-friends-5/
LOCATION:Shakedown Bar 304 Bridge St\, Vail\, CO  81657\, United States\, Shakedown Bar 304 Bridge St\, Vail\, CO 81657\, United States
CATEGORIES:Aprés,Events
ATTACH;FMTTYPE=image/jpeg:https://shakedownbarvail.com/wp-content/uploads/2018/12/36781656_1741708825916317_2701520427590615040_o-1-e1570751827566.jpg
END:VEVENT
BEGIN:VEVENT
DTSTART;TZID=America/Denver:20200111T213000
DTEND;TZID=America/Denver:20200112T013000
DTSTAMP:20260420T133120
CREATED:20191121T040318Z
LAST-MODIFIED:20191212T222742Z
UID:4135-1578778200-1578792600@shakedownbarvail.com
SUMMARY:9:30 PM - Brothers Keeper w/ Bill McKay
DESCRIPTION:Show: 9:30 PM \n20-year veterans of the John Oates Band John Michel (Drums/vocals) and Michael Jude (Bass/vocals)\, join Scott Rednor (Vocals/Guitar) to form Brothers Keeper\, a truly world-class musical experience.  This show also features Bill McKay (Keyboards/vocals)
URL:https://shakedownbarvail.com/event/930-pm-brothers-keeper-w-todd-stoops-2/
LOCATION:Shakedown Bar 304 Bridge St\, Vail\, CO  81657\, United States\, Shakedown Bar 304 Bridge St\, Vail\, CO 81657\, United States
CATEGORIES:Evening Show,Events,Saturdays
ATTACH;FMTTYPE=image/jpeg:https://shakedownbarvail.com/wp-content/uploads/2018/12/36781656_1741708825916317_2701520427590615040_o-1-e1570751827566.jpg
END:VEVENT
END:VCALENDAR