BEGIN:VCALENDAR
VERSION:2.0
PRODID:-//Shakedown Bar - ECPv6.15.14//NONSGML v1.0//EN
CALSCALE:GREGORIAN
METHOD:PUBLISH
X-ORIGINAL-URL:https://shakedownbarvail.com
X-WR-CALDESC:Events for Shakedown Bar
REFRESH-INTERVAL;VALUE=DURATION:PT1H
X-Robots-Tag:noindex
X-PUBLISHED-TTL:PT1H
BEGIN:VTIMEZONE
TZID:America/Denver
BEGIN:DAYLIGHT
TZOFFSETFROM:-0700
TZOFFSETTO:-0600
TZNAME:MDT
DTSTART:20180311T090000
END:DAYLIGHT
BEGIN:STANDARD
TZOFFSETFROM:-0600
TZOFFSETTO:-0700
TZNAME:MST
DTSTART:20181104T080000
END:STANDARD
BEGIN:DAYLIGHT
TZOFFSETFROM:-0700
TZOFFSETTO:-0600
TZNAME:MDT
DTSTART:20190310T090000
END:DAYLIGHT
BEGIN:STANDARD
TZOFFSETFROM:-0600
TZOFFSETTO:-0700
TZNAME:MST
DTSTART:20191103T080000
END:STANDARD
BEGIN:DAYLIGHT
TZOFFSETFROM:-0700
TZOFFSETTO:-0600
TZNAME:MDT
DTSTART:20200308T090000
END:DAYLIGHT
BEGIN:STANDARD
TZOFFSETFROM:-0600
TZOFFSETTO:-0700
TZNAME:MST
DTSTART:20201101T080000
END:STANDARD
END:VTIMEZONE
BEGIN:VEVENT
DTSTART;TZID=America/Denver:20191223T213000
DTEND;TZID=America/Denver:20191224T010000
DTSTAMP:20260420T150844
CREATED:20191104T193332Z
LAST-MODIFIED:20191111T165538Z
UID:4007-1577136600-1577149200@shakedownbarvail.com
SUMMARY:9:30 PM — Sam Bee Trio feat. Kimmel & Levy
DESCRIPTION:Doors: 9:00 pm Show: 9:30 pm\n\n\nSam Bee is a fusion guitarist\, soul singer\, and songwriter. His soulful voice and  interpretations of songs you love will make you grin from ear to ear. Stevie Wonder\, Chris Stapleton\, Jeff Beck\, and George Benson are among his main influences. Sam Bee is a Berklee College of Music alumni\, and plays regularly around the Vail Valley. \nSam Bee – Guitar/vocals\nJustin Kimmel (Toubab Krewe\, Antibalas) – Bass\nMark Levy (Circles Around The Sun) – Drums
URL:https://shakedownbarvail.com/event/930-pm-sam-bee/
LOCATION:Shakedown Bar 304 Bridge St\, Vail\, CO  81657\, United States\, Shakedown Bar 304 Bridge St\, Vail\, CO 81657\, United States
CATEGORIES:Evening Show,Events
ATTACH;FMTTYPE=image/jpeg:https://shakedownbarvail.com/wp-content/uploads/2019/11/Shakedown_SamBee.jpg
END:VEVENT
END:VCALENDAR