BEGIN:VCALENDAR
VERSION:2.0
PRODID:-//Shakedown Bar - ECPv6.15.14//NONSGML v1.0//EN
CALSCALE:GREGORIAN
METHOD:PUBLISH
X-WR-CALNAME:Shakedown Bar
X-ORIGINAL-URL:https://shakedownbarvail.com
X-WR-CALDESC:Events for Shakedown Bar
REFRESH-INTERVAL;VALUE=DURATION:PT1H
X-Robots-Tag:noindex
X-PUBLISHED-TTL:PT1H
BEGIN:VTIMEZONE
TZID:America/Denver
BEGIN:DAYLIGHT
TZOFFSETFROM:-0700
TZOFFSETTO:-0600
TZNAME:MDT
DTSTART:20180311T090000
END:DAYLIGHT
BEGIN:STANDARD
TZOFFSETFROM:-0600
TZOFFSETTO:-0700
TZNAME:MST
DTSTART:20181104T080000
END:STANDARD
BEGIN:DAYLIGHT
TZOFFSETFROM:-0700
TZOFFSETTO:-0600
TZNAME:MDT
DTSTART:20190310T090000
END:DAYLIGHT
BEGIN:STANDARD
TZOFFSETFROM:-0600
TZOFFSETTO:-0700
TZNAME:MST
DTSTART:20191103T080000
END:STANDARD
BEGIN:DAYLIGHT
TZOFFSETFROM:-0700
TZOFFSETTO:-0600
TZNAME:MDT
DTSTART:20200308T090000
END:DAYLIGHT
BEGIN:STANDARD
TZOFFSETFROM:-0600
TZOFFSETTO:-0700
TZNAME:MST
DTSTART:20201101T080000
END:STANDARD
END:VTIMEZONE
BEGIN:VEVENT
DTSTART;TZID=America/Denver:20191214T170000
DTEND;TZID=America/Denver:20191214T210000
DTSTAMP:20260420T150837
CREATED:20191023T222851Z
LAST-MODIFIED:20191023T234500Z
UID:3969-1576342800-1576357200@shakedownbarvail.com
SUMMARY:5:00 PM - Scott Rednor and Eric McFadden Apres
DESCRIPTION:Doors: 4:00 pm • Show: 5:00 pm\n\nJoin Scott Rednor and Eric McFadden for an apres show unlike any other in Vail. You’ll hear songs you know and love done with a fresh duo acoustic approach. Scott uses live loops\, a stompox\, percussion\, his guitar and his voice in tandem with Eric\, to create a rich tapestry of sound and an experience that’ll make you want to come back for more!
URL:https://shakedownbarvail.com/event/500-pm-scott-rednor-and-eric-mcfadden-apres/
LOCATION:Shakedown Bar 304 Bridge St\, Vail\, CO  81657\, United States\, Shakedown Bar 304 Bridge St\, Vail\, CO 81657\, United States
CATEGORIES:Aprés,Events
ATTACH;FMTTYPE=image/png:https://shakedownbarvail.com/wp-content/uploads/2019/10/RednorMcFadden.png
END:VEVENT
BEGIN:VEVENT
DTSTART;TZID=America/Denver:20191214T213000
DTEND;TZID=America/Denver:20191215T013000
DTSTAMP:20260420T150837
CREATED:20191023T235801Z
LAST-MODIFIED:20191130T063657Z
UID:3972-1576359000-1576373400@shakedownbarvail.com
SUMMARY:9:30 PM - Brothers Keeper w/ Eric McFadden
DESCRIPTION:Show: 9:30 PM\n\n20-year veterans of the John Oates Band John Michel (Drums/vocals) and Michael Jude (Bass/vocals)\, join Scott Rednor (Vocals/Guitar) to form Brothers Keeper\, a truly world-class musical experience.  This show also features Eric McFadden (P-Funk All-Stars) on Guitar.
URL:https://shakedownbarvail.com/event/1000-pm-brothers-keeper-w-eric-mcfadden-todd-stoops/
LOCATION:Shakedown Bar 304 Bridge St\, Vail\, CO  81657\, United States\, Shakedown Bar 304 Bridge St\, Vail\, CO 81657\, United States
CATEGORIES:Evening Show,Events,Saturdays
ATTACH;FMTTYPE=image/jpeg:https://shakedownbarvail.com/wp-content/uploads/2018/12/36781656_1741708825916317_2701520427590615040_o-1-e1570751827566.jpg
END:VEVENT
END:VCALENDAR