BEGIN:VCALENDAR
VERSION:2.0
PRODID:-//Shakedown Bar - ECPv6.15.14//NONSGML v1.0//EN
CALSCALE:GREGORIAN
METHOD:PUBLISH
X-WR-CALNAME:Shakedown Bar
X-ORIGINAL-URL:https://shakedownbarvail.com
X-WR-CALDESC:Events for Shakedown Bar
REFRESH-INTERVAL;VALUE=DURATION:PT1H
X-Robots-Tag:noindex
X-PUBLISHED-TTL:PT1H
BEGIN:VTIMEZONE
TZID:America/Denver
BEGIN:DAYLIGHT
TZOFFSETFROM:-0700
TZOFFSETTO:-0600
TZNAME:MDT
DTSTART:20180311T090000
END:DAYLIGHT
BEGIN:STANDARD
TZOFFSETFROM:-0600
TZOFFSETTO:-0700
TZNAME:MST
DTSTART:20181104T080000
END:STANDARD
BEGIN:DAYLIGHT
TZOFFSETFROM:-0700
TZOFFSETTO:-0600
TZNAME:MDT
DTSTART:20190310T090000
END:DAYLIGHT
BEGIN:STANDARD
TZOFFSETFROM:-0600
TZOFFSETTO:-0700
TZNAME:MST
DTSTART:20191103T080000
END:STANDARD
BEGIN:DAYLIGHT
TZOFFSETFROM:-0700
TZOFFSETTO:-0600
TZNAME:MDT
DTSTART:20200308T090000
END:DAYLIGHT
BEGIN:STANDARD
TZOFFSETFROM:-0600
TZOFFSETTO:-0700
TZNAME:MST
DTSTART:20201101T080000
END:STANDARD
END:VTIMEZONE
BEGIN:VEVENT
DTSTART;TZID=America/Denver:20191213T170000
DTEND;TZID=America/Denver:20191213T210000
DTSTAMP:20260420T150836
CREATED:20191011T005714Z
LAST-MODIFIED:20191121T021504Z
UID:3951-1576256400-1576270800@shakedownbarvail.com
SUMMARY:5:00 PM - Scott Rednor & Shawn Eckels Après
DESCRIPTION:Doors: 4:00 PM • Show: 5:00 PM\n\n\nJoin Scott Rednor and Shawn Eckels (Andy Frisco) for an apres show unlike any other in Vail.  You’ll hear songs you know and love done with a fresh duo acoustic approach.  Guitar and vocal harmonies\, live looping\, and two of Colorado’s finest guitarists create a rich tapestry of sound and an Après experience you won’t forget!
URL:https://shakedownbarvail.com/event/500-pm-scott-rednor-apres-2-2019-12-13/
LOCATION:Shakedown Bar 304 Bridge St\, Vail\, CO  81657\, United States\, Shakedown Bar 304 Bridge St\, Vail\, CO 81657\, United States
CATEGORIES:Aprés,Events
ATTACH;FMTTYPE=image/png:https://shakedownbarvail.com/wp-content/uploads/2019/10/ShawnRednor.png
END:VEVENT
BEGIN:VEVENT
DTSTART;TZID=America/Denver:20191213T213000
DTEND;TZID=America/Denver:20191214T013000
DTSTAMP:20260420T150836
CREATED:20191023T220813Z
LAST-MODIFIED:20191111T164120Z
UID:3966-1576272600-1576287000@shakedownbarvail.com
SUMMARY:9:30 PM - Analog Son
DESCRIPTION:Show: 9:30 PM\n\nAnalog Son is a powerhouse funk band from Denver\, CO sure to get your dance moves fired up!  Featuring some of the Colorado music scene’s finest players\, you don’t want to miss this show. \nJordan Linit – Guitar\nJosh Fairman – Bass\nGeorge Horn – Drums\nDevon Parker – Vocals\nMichael Chiesa – Saxophone\nTBD – Trumpet
URL:https://shakedownbarvail.com/event/1000-pm-analog-son/
LOCATION:Shakedown Bar 304 Bridge St\, Vail\, CO  81657\, United States\, Shakedown Bar 304 Bridge St\, Vail\, CO 81657\, United States
CATEGORIES:Evening Show,Events
ATTACH;FMTTYPE=image/jpeg:https://shakedownbarvail.com/wp-content/uploads/2019/10/2015-06-29-1435607173-3222397-analoggroup-thumb.jpg
END:VEVENT
END:VCALENDAR